BEGIN:VCALENDAR
VERSION:2.0
PRODID:-//Invest in Angus - ECPv6.15.17.1//NONSGML v1.0//EN
CALSCALE:GREGORIAN
METHOD:PUBLISH
X-ORIGINAL-URL:https://investinangus.com
X-WR-CALDESC:Events for Invest in Angus
REFRESH-INTERVAL;VALUE=DURATION:PT1H
X-Robots-Tag:noindex
X-PUBLISHED-TTL:PT1H
BEGIN:VTIMEZONE
TZID:UTC
BEGIN:STANDARD
TZOFFSETFROM:+0000
TZOFFSETTO:+0000
TZNAME:UTC
DTSTART:20210101T000000
END:STANDARD
END:VTIMEZONE
BEGIN:VEVENT
DTSTART;TZID=UTC:20220923T120000
DTEND;TZID=UTC:20220923T140000
DTSTAMP:20260422T064142
CREATED:20220822T110820Z
LAST-MODIFIED:20220822T110820Z
UID:10085302-1663934400-1663941600@investinangus.com
SUMMARY:e-Commerce with Shopify
DESCRIPTION:Shopify is a powerful all-in-one e-Commerce website builder that makes setting up an online store simple and straightforward. In this webinar\, we will explore Shopify’s features and pull together the building blocks for your first e-Commerce website. \nBy the end of this webinar\, you will be able to: \n\nUnderstand the essential features that a website needs to have to sell physical and digital products online\nUnderstand what Shopify is and how to use the features it offers to build a secure and powerful e-Commerce website\nUse the Shopify page builder and work with free themes to get the design and style of your website on-brand\nUnderstand how to manage orders and deliver great customer service\nUnderstand how to launch your new e-Commerce website and ensure all essential building blocks are in place using a pre-launch checklist
URL:https://investinangus.com/event/e-commerce-with-shopify-3/
CATEGORIES:Digital Marketing
END:VEVENT
BEGIN:VEVENT
DTSTART;TZID=UTC:20220923T140000
DTEND;TZID=UTC:20220923T160000
DTSTAMP:20260422T064142
CREATED:20220822T110915Z
LAST-MODIFIED:20220822T110915Z
UID:10085304-1663941600-1663948800@investinangus.com
SUMMARY:The low-cost guide to marketing your business
DESCRIPTION:When budgets are tight\, it can be difficult to find the funds for marketing. This webinar will offer marketing tips and advice that you can then use across your business – without bursting the bank! \nWe will look at: \n\nHow marketing extends way beyond what most businesses consider it to be and how it provides opportunities for businesses to make transformational change with little or minimal extra spend\nIdentifying marketing priorities and using these to reshape your business.\nThe marketing mix as a tool for reviewing how your business plans and delivers its marketing activity\nHow your marketing activity is delivered successfully and effectively in your business\nA series of top tips including the importance of understanding your customers\, the core components of a brand\, the value of strong and consistent branding\, the value of a clear focus and the power of creativity\nThe many options available with traditional Advertising and Promotion as a way a company communicates what it does and what it can offer customers\, but also looking how this has changed in a world where marketing has moved online\nThe foundations of effective marketing in a digital age\, looking at how your business can grasp new ways of marketing such as social media\, web\, and digital PR
URL:https://investinangus.com/event/the-low-cost-guide-to-marketing-your-business-4/
CATEGORIES:Digital Marketing,Marketing
END:VEVENT
END:VCALENDAR