BEGIN:VCALENDAR
VERSION:2.0
PRODID:-//Invest in Angus - ECPv6.15.17.1//NONSGML v1.0//EN
CALSCALE:GREGORIAN
METHOD:PUBLISH
X-ORIGINAL-URL:https://investinangus.com
X-WR-CALDESC:Events for Invest in Angus
REFRESH-INTERVAL;VALUE=DURATION:PT1H
X-Robots-Tag:noindex
X-PUBLISHED-TTL:PT1H
BEGIN:VTIMEZONE
TZID:UTC
BEGIN:STANDARD
TZOFFSETFROM:+0000
TZOFFSETTO:+0000
TZNAME:UTC
DTSTART:20210101T000000
END:STANDARD
END:VTIMEZONE
BEGIN:VEVENT
DTSTART;TZID=UTC:20220926T100000
DTEND;TZID=UTC:20220926T110000
DTSTAMP:20260422T045346
CREATED:20220822T111003Z
LAST-MODIFIED:20220822T111003Z
UID:10085306-1664186400-1664190000@investinangus.com
SUMMARY:Learning Zone - How to run a more efficient business
DESCRIPTION:We will explore they ways you can improve your efficiency with the least business impact and at a low cost\, covering: \n\nGovernance and process\nGood financial management\nUnderstanding your sales and costs\nTargeting only profitable customers\nReducing stock\nCutting wastage (process\, people\, and projects)
URL:https://investinangus.com/event/learning-zone-how-to-run-a-more-efficient-business-2/
CATEGORIES:Business Planning
END:VEVENT
BEGIN:VEVENT
DTSTART;TZID=UTC:20220926T140000
DTEND;TZID=UTC:20220926T160000
DTSTAMP:20260422T045346
CREATED:20220822T111042Z
LAST-MODIFIED:20220822T111042Z
UID:10085308-1664200800-1664208000@investinangus.com
SUMMARY:Photography for online business
DESCRIPTION:During this webinar you will: \n\nDiscover the basic ‘dos and don’ts’ of taking your own pictures\, editing them and uploading them onto digital platforms.\nSee some real-life examples of posts that demonstrate good\, bad and indifferent use for businesses.
URL:https://investinangus.com/event/photography-for-online-business-16/
CATEGORIES:Digital Marketing
END:VEVENT
BEGIN:VEVENT
DTSTART;TZID=UTC:20220926T180000
DTEND;TZID=UTC:20220926T200000
DTSTAMP:20260422T045346
CREATED:20220822T111129Z
LAST-MODIFIED:20220822T111129Z
UID:10085310-1664215200-1664222400@investinangus.com
SUMMARY:Planning & scheduling your online content
DESCRIPTION:Businesses who plan their content in advance\, aligning their channels with actual business objectives\, customer themes and national events\, and then schedule it to ensure it reaches the target market at the right time\, on the right platform – hugely increase the chances of achieving impact. \nIn this webinar\, you will learn how to: \n\nPlan content based on your business and your customer needs\nEvaluate current social media dashboards and management tools\nCreate a social media content calendar and schedule updates automatically\nReach more people through automating your blog and email newsletter content\nImplement simple automation techniques to increase efficiency\n\nHaving great content is just the start. This webinar will help you better organise and setup your content strategy through simple planning and effective scheduling\, to achieve great business results.
URL:https://investinangus.com/event/planning-scheduling-your-online-content-15/
CATEGORIES:Digital Marketing
END:VEVENT
END:VCALENDAR