BEGIN:VCALENDAR
VERSION:2.0
PRODID:-//Invest in Angus - ECPv6.15.17.1//NONSGML v1.0//EN
CALSCALE:GREGORIAN
METHOD:PUBLISH
X-ORIGINAL-URL:https://investinangus.com
X-WR-CALDESC:Events for Invest in Angus
REFRESH-INTERVAL;VALUE=DURATION:PT1H
X-Robots-Tag:noindex
X-PUBLISHED-TTL:PT1H
BEGIN:VTIMEZONE
TZID:UTC
BEGIN:STANDARD
TZOFFSETFROM:+0000
TZOFFSETTO:+0000
TZNAME:UTC
DTSTART:20210101T000000
END:STANDARD
END:VTIMEZONE
BEGIN:VEVENT
DTSTART;TZID=UTC:20220928T090000
DTEND;TZID=UTC:20220928T170000
DTSTAMP:20260422T045346
CREATED:20220711T091351Z
LAST-MODIFIED:20220711T091351Z
UID:10085063-1664355600-1664384400@investinangus.com
SUMMARY:Marketing 1-2-1 Surgery Sessions
DESCRIPTION:Whether you’d like to discuss market research\, marketing strategy or would even just like an impartial review of your website or social media page\, this is an opportunity to book a one to one appointment with Business Gateway either from the Dundee office or over Zoom with marketing specialist\, Stuart Milne. \nThere will also be information on additional services from Business Gateway and details of other webinars which may be appropriate for you.  \nThese appointments are for businesses based in Dundee\, Angus and Perth.
URL:https://investinangus.com/event/marketing-1-2-1-surgery-sessions-4/
CATEGORIES:Marketing
END:VEVENT
BEGIN:VEVENT
DTSTART;TZID=UTC:20220928T100000
DTEND;TZID=UTC:20220928T120000
DTSTAMP:20260422T045346
CREATED:20220822T111449Z
LAST-MODIFIED:20220822T111449Z
UID:10085316-1664359200-1664366400@investinangus.com
SUMMARY:The basics of trading on Ebay\, Etsy and Amazon Marketplaces
DESCRIPTION:As a consumer\, you’ve almost certainly purchased online from one of the global marketplaces such as Ebay\, Etsy or Amazon\, so why wouldn’t your customers do the same and buy from you? \nWe will cover:\n \n\nWhy to sell via a Marketplace\, your own website\, or both\nChoosing the right Marketplace – looking specificly at Ebay\, Etsy and Amazon\n\nUnderstanding Profit Margins and how Marketplace fees affect them\n\nAn overview of some of the rules and regulations enforced by these platforms\nTrading internationally – what’s possible?\n\nYou’ll leave with a better understanding of how online marketplaces can help you reach your target audience\, which marketplace is best for you\, and how to get started selling quickly and easily.
URL:https://investinangus.com/event/the-basics-of-trading-on-ebay-etsy-and-amazon-marketplaces-3/
CATEGORIES:Digital Marketing
END:VEVENT
BEGIN:VEVENT
DTSTART;TZID=UTC:20220928T130000
DTEND;TZID=UTC:20220928T150000
DTSTAMP:20260422T045346
CREATED:20220822T111556Z
LAST-MODIFIED:20220822T111556Z
UID:10085318-1664370000-1664377200@investinangus.com
SUMMARY:The business benefits of running a sustainable business
DESCRIPTION:It’s becoming increasingly important to customers to source their products from companies who have strong green credentials. This webinar will show how by becoming more sustainable you can increase sales and profits. \nWe will look at: \nUnderstanding the problem\nWhat is sustainability and why it is important\nInnovation\nProfiting from being a green business\nEmbracing a purpose beyond profit\nThe sustainability triple bottom line\nDeveloping your own green charter\nExamples of those practicing this way of growth with remarkable success\nTop tips for going green
URL:https://investinangus.com/event/the-business-benefits-of-running-a-sustainable-business-3/
CATEGORIES:Business Planning,Sustainable/Circular Economy
END:VEVENT
BEGIN:VEVENT
DTSTART;TZID=UTC:20220928T180000
DTEND;TZID=UTC:20220928T200000
DTSTAMP:20260422T045346
CREATED:20220704T114341Z
LAST-MODIFIED:20220704T114341Z
UID:10085054-1664388000-1664395200@investinangus.com
SUMMARY:Marketing Strategy Workshop
DESCRIPTION:This new workshop will cover the crucial next steps in what you need to know to ensure successful marketing takes place within your business. \nMarketing Strategy is an advancement from our ‘Market Research Made Easy’ workshop\, with the specific focus on supporting those businesses that are established and already have the basic marketing methods in place. \nThis workshop will look at: \n\nMarketing Audit – current knowledge and success.\nUnderstanding what ‘Marketing’ is.\nThe importance and benefits of planning.\nHow to develop your Marketing Strategy.\nMeasuring your marketing output\nTop tips to improve your Marketing Strategy\n\nBy the end of this workshop\, you will come away with the knowledge plus top tips for implementing your own marketing strategy plan into your business.
URL:https://investinangus.com/event/marketing-strategy-workshop-2/
CATEGORIES:Marketing
END:VEVENT
END:VCALENDAR