BEGIN:VCALENDAR
VERSION:2.0
PRODID:-//Invest in Angus - ECPv6.15.17.1//NONSGML v1.0//EN
CALSCALE:GREGORIAN
METHOD:PUBLISH
X-ORIGINAL-URL:https://investinangus.com
X-WR-CALDESC:Events for Invest in Angus
REFRESH-INTERVAL;VALUE=DURATION:PT1H
X-Robots-Tag:noindex
X-PUBLISHED-TTL:PT1H
BEGIN:VTIMEZONE
TZID:UTC
BEGIN:STANDARD
TZOFFSETFROM:+0000
TZOFFSETTO:+0000
TZNAME:UTC
DTSTART:20210101T000000
END:STANDARD
END:VTIMEZONE
BEGIN:VEVENT
DTSTART;TZID=UTC:20221011T100000
DTEND;TZID=UTC:20221011T120000
DTSTAMP:20260424T112731
CREATED:20220920T145835Z
LAST-MODIFIED:20220920T145835Z
UID:10085479-1665482400-1665489600@investinangus.com
SUMMARY:Blogging for business
DESCRIPTION:This webinar will provide you with the knowledge and understanding you need to create a blog that promotes your business. \nWe will cover: \n\nWhat a ‘blog’ is\, how to set one up and what it takes to make them work\nOther small and medium sized businesses who already blog successfully and what you can learn from them\nOptions for monetising a blog\nHow to promote your blog\nHow your blog can help move your website higher up search engine rankings\nUnderstanding analytics and measuring the impact of your blog
URL:https://investinangus.com/event/blogging-for-business-4/
CATEGORIES:Digital Marketing
END:VEVENT
BEGIN:VEVENT
DTSTART;TZID=UTC:20221011T140000
DTEND;TZID=UTC:20221011T160000
DTSTAMP:20260424T112731
CREATED:20221003T100737Z
LAST-MODIFIED:20221003T100737Z
UID:10085606-1665496800-1665504000@investinangus.com
SUMMARY:How to protect and manage your intellectual property
DESCRIPTION:You have invested time\, energy\, and money into your project\, however\, have you protected the innovation? \nFollowing this webinar\, you will understand how to manage your intellectual property (IP) or how to start the process of registering it. \nTopics covered include: \n\nWhat are intellectual assets (IA)?\nWhat is intellectual property (IP)?\nHow to use IP (in the real world)\nWhere to get more insight and information\n\nParticipants will leave with: \n\nAn understanding that all businesses create IA/IP\nA framework of knowledge about IP\nA little more knowledge about the diverse types of IP\nAn insight into how to identify\, protect and exploit IP/IA\nContext of why IP/IA matters\nLinks to useful learning resources
URL:https://investinangus.com/event/how-to-protect-and-manage-your-intellectual-property-4/
CATEGORIES:Legislation
END:VEVENT
BEGIN:VEVENT
DTSTART;TZID=UTC:20221011T180000
DTEND;TZID=UTC:20221011T200000
DTSTAMP:20260424T112731
CREATED:20220920T145922Z
LAST-MODIFIED:20220920T145922Z
UID:10085481-1665511200-1665518400@investinangus.com
SUMMARY:An Introduction to Self-Employment and Starting your own Business
DESCRIPTION:The workshop will provide you with the opportunity to network with other business owners and will also highlight useful sources of information\, advice and guidance. \nThere will also be information on additional services from Business Gateway and details of other webinars which may be appropriate for you.  \nThis webinar is for businesses based in Dundee\, Angus and Perth.
URL:https://investinangus.com/event/an-introduction-to-self-employment-and-starting-your-own-business-9/
CATEGORIES:Business Start-up
END:VEVENT
END:VCALENDAR