BEGIN:VCALENDAR
VERSION:2.0
PRODID:-//Invest in Angus - ECPv6.15.17.1//NONSGML v1.0//EN
CALSCALE:GREGORIAN
METHOD:PUBLISH
X-WR-CALNAME:Invest in Angus
X-ORIGINAL-URL:https://investinangus.com
X-WR-CALDESC:Events for Invest in Angus
REFRESH-INTERVAL;VALUE=DURATION:PT1H
X-Robots-Tag:noindex
X-PUBLISHED-TTL:PT1H
BEGIN:VTIMEZONE
TZID:UTC
BEGIN:STANDARD
TZOFFSETFROM:+0000
TZOFFSETTO:+0000
TZNAME:UTC
DTSTART:20210101T000000
END:STANDARD
END:VTIMEZONE
BEGIN:VEVENT
DTSTART;TZID=UTC:20221012T100000
DTEND;TZID=UTC:20221012T120000
DTSTAMP:20260424T112711
CREATED:20220920T150009Z
LAST-MODIFIED:20220920T150009Z
UID:10085483-1665568800-1665576000@investinangus.com
SUMMARY:Website analytics to improve your business and sales
DESCRIPTION:Google Analytics (Universal and GA4)\, Search Console and Heat Mapping are incredibly powerful tools that help you better understand how your website is performing. This webinar will better equip you to be able to improve the performance and effectiveness of your website by: \n\nLearning about top landing pages and traffic sources\, to understanding organic search rankings and user interaction\,\nWe’ll show you around the Google Analytics interface\, help you view and understand key reports\, how to setup conversions and more.
URL:https://investinangus.com/event/website-analytics-to-improve-your-business-and-sales-15/
CATEGORIES:Digital Marketing
END:VEVENT
BEGIN:VEVENT
DTSTART;TZID=UTC:20221012T140000
DTEND;TZID=UTC:20221012T160000
DTSTAMP:20260424T112711
CREATED:20220829T092255Z
LAST-MODIFIED:20220829T092255Z
UID:10085346-1665583200-1665590400@investinangus.com
SUMMARY:Beyond Brexit: Selling and Exporting Overseas
DESCRIPTION:Jane Milroy our expert in exporting will be running this innovative masterclass helping you to look at ways to grow business and explore some great opportunities selling to different markets overseas. \nThis information packed webinar will take you through all the key areas you need to consider when trading internationally with a particular emphasis on doing business with EU countries in the post-Brexit era. It will cover both strategic and practical aspects of both exporting and importing and is suitable for companies that are new or in the earlier stages of trading internationally. \nTopics to be covered will include: researching market opportunities\, routes to market and working with international partners\, incoterms\, customs and VAT implications\, legal aspects of working internationally and pricing strategies and getting paid.
URL:https://investinangus.com/event/beyond-brexit-selling-and-exporting-overseas/
CATEGORIES:Brexit,International Trade
END:VEVENT
BEGIN:VEVENT
DTSTART;TZID=UTC:20221012T140000
DTEND;TZID=UTC:20221012T160000
DTSTAMP:20260424T112711
CREATED:20220920T150051Z
LAST-MODIFIED:20220920T150051Z
UID:10085485-1665583200-1665590400@investinangus.com
SUMMARY:How to improve your Google search rankings - Part 1: On page optimisation
DESCRIPTION:Join us to look at how Google and other search engines decide the order in which they list their search results. We will show you how to maximise your chances of appearing towards the top of the search rankings\, ensuring you understand what key words and phrases your potential customers are using when searching online\, and how to optimise your website as a result. \nWe will cover: \n\nHow search engines work\, and the ‘on-page’ factors used to rank your site\nUnderstanding customer search behaviour\nKeyword research tools and how to benefit from them\nOptimising your website content for search engines
URL:https://investinangus.com/event/how-to-improve-your-google-search-rankings-part-1-on-page-optimisation-4/
CATEGORIES:Digital Marketing
END:VEVENT
END:VCALENDAR