BEGIN:VCALENDAR
VERSION:2.0
PRODID:-//Invest in Angus - ECPv6.15.17.1//NONSGML v1.0//EN
CALSCALE:GREGORIAN
METHOD:PUBLISH
X-ORIGINAL-URL:https://investinangus.com
X-WR-CALDESC:Events for Invest in Angus
REFRESH-INTERVAL;VALUE=DURATION:PT1H
X-Robots-Tag:noindex
X-PUBLISHED-TTL:PT1H
BEGIN:VTIMEZONE
TZID:UTC
BEGIN:STANDARD
TZOFFSETFROM:+0000
TZOFFSETTO:+0000
TZNAME:UTC
DTSTART:20210101T000000
END:STANDARD
END:VTIMEZONE
BEGIN:VEVENT
DTSTART;TZID=UTC:20221024T100000
DTEND;TZID=UTC:20221024T120000
DTSTAMP:20260422T030150
CREATED:20220920T152308Z
LAST-MODIFIED:20220920T152308Z
UID:10085509-1666605600-1666612800@investinangus.com
SUMMARY:Instagram for business
DESCRIPTION:Thinking about using Instagram to communicate with existing and potential customers? Want to showcase your products or services using it? During this webinar we will cover: \n\nGetting the setup right and benefitting from the available business tools.\nBest practice profiles\, and some strategies to help your business stand out from the crowd.\nThe types of audience you can reach via this platform and the factors and analytics such as cost and timing of posting images and how that can maximise impact.\nThe various types of content you can post to Instagram\, from regular posts to Stories and Reels.
URL:https://investinangus.com/event/instagram-for-business-21/
CATEGORIES:Digital Marketing
END:VEVENT
BEGIN:VEVENT
DTSTART;TZID=UTC:20221024T140000
DTEND;TZID=UTC:20221024T160000
DTSTAMP:20260422T030150
CREATED:20220920T152357Z
LAST-MODIFIED:20220920T152357Z
UID:10085511-1666620000-1666627200@investinangus.com
SUMMARY:Cloud for business
DESCRIPTION:Your digital back office is the technology and tools that you use to manage and grow your business. In this webinar\, we’ll look at back-office strategies and explore the range of cloud services on the market that can support you with keeping great customer relations\, managing resources\, keeping organised and communicating efficiently. \nBy the end of this webinar\, you will be able to: \n\nUnderstand the areas of your digital back-office and the impact each area can have on the efficiency and growth of your business.\nUse up-to-date knowledge on current cloud services and tools to help you with upgrading your digital back office to be more secure\, scalable and efficient.\nUse real-world examples to help you understand different cloud-based platforms\, their functions\, and their costs.\nMake informed decisions about improving your digital back-office in the future based on scalability\, security\, efficiency and affordability.
URL:https://investinangus.com/event/cloud-for-business-19/
CATEGORIES:Business Planning,Technology
END:VEVENT
BEGIN:VEVENT
DTSTART;TZID=UTC:20221024T183000
DTEND;TZID=UTC:20221024T193000
DTSTAMP:20260422T030150
CREATED:20221003T103421Z
LAST-MODIFIED:20221003T103421Z
UID:10085636-1666636200-1666639800@investinangus.com
SUMMARY:Learning Zone - How to run a more efficient business
DESCRIPTION:We will explore the ways you can improve your efficiency with the least business impact and at a low cost\, covering: \n\nGovernance and process\nGood financial management\nUnderstanding your sales and costs\nTargeting only profitable customers\nReducing stock\nCutting wastage (process\, people\, and projects)
URL:https://investinangus.com/event/learning-zone-how-to-run-a-more-efficient-business-3/
CATEGORIES:Business Planning,Sustainable/Circular Economy
END:VEVENT
END:VCALENDAR