BEGIN:VCALENDAR
VERSION:2.0
PRODID:-//Invest in Angus - ECPv6.15.17.1//NONSGML v1.0//EN
CALSCALE:GREGORIAN
METHOD:PUBLISH
X-ORIGINAL-URL:https://investinangus.com
X-WR-CALDESC:Events for Invest in Angus
REFRESH-INTERVAL;VALUE=DURATION:PT1H
X-Robots-Tag:noindex
X-PUBLISHED-TTL:PT1H
BEGIN:VTIMEZONE
TZID:UTC
BEGIN:STANDARD
TZOFFSETFROM:+0000
TZOFFSETTO:+0000
TZNAME:UTC
DTSTART:20210101T000000
END:STANDARD
END:VTIMEZONE
BEGIN:VEVENT
DTSTART;TZID=UTC:20221025T090000
DTEND;TZID=UTC:20221025T170000
DTSTAMP:20260422T030150
CREATED:20221003T101804Z
LAST-MODIFIED:20221003T101804Z
UID:10085624-1666688400-1666717200@investinangus.com
SUMMARY:Finance 1-2-1 Surgery Sessions
DESCRIPTION:Take this opportunity to discuss your finance queries with finance specialist\, Scott Geddes. Gain clarity on the start-up and running costs for your business or discuss how to make your business profitable and financially viable. \nBrush up on some financial basics by learning how to create a cash-flow forecast and better understand your business’s profit and loss accounts. If you’re getting ready to apply for funding\, lean on Scott’s experience to understand what lenders are looking for. \nBecome aware of your financial commitments\, as they can differ depending on your business type. \nOnce you have booked your space online\, someone will be in touch to discuss an appointment time with you and send you further information. These sessions can take place online via Zoom or alternatively\, face to face at the Dundee Business Gateway Office. \nThese appointments are aimed at businesses based in Dundee\, Angus\, and Perth.
URL:https://investinangus.com/event/finance-1-2-1-surgery-sessions-5/
CATEGORIES:Finance
END:VEVENT
BEGIN:VEVENT
DTSTART;TZID=UTC:20221025T100000
DTEND;TZID=UTC:20221025T120000
DTSTAMP:20260422T030150
CREATED:20220920T152528Z
LAST-MODIFIED:20220920T152528Z
UID:10085513-1666692000-1666699200@investinangus.com
SUMMARY:Planning & scheduling your online content
DESCRIPTION:Businesses who plan their content in advance\, aligning their channels with actual business objectives\, customer themes and national events\, and then schedule it to ensure it reaches the target market at the right time\, on the right platform – hugely increase the chances of achieving impact. \nIn this webinar\, you will learn how to: \n\nPlan content based on your business and your customer needs\nEvaluate current social media dashboards and management tools\nCreate a social media content calendar and schedule updates automatically\nReach more people through automating your blog and email newsletter content\nImplement simple automation techniques to increase efficiency\n\nHaving great content is just the start. This webinar will help you better organise and setup your content strategy through simple planning and effective scheduling\, to achieve great business results.
URL:https://investinangus.com/event/planning-scheduling-your-online-content-16/
CATEGORIES:Digital Marketing
END:VEVENT
BEGIN:VEVENT
DTSTART;TZID=UTC:20221025T100000
DTEND;TZID=UTC:20221025T120000
DTSTAMP:20260422T030150
CREATED:20221003T102113Z
LAST-MODIFIED:20221003T102113Z
UID:10085626-1666692000-1666699200@investinangus.com
SUMMARY:Build your brand and promotional graphics
DESCRIPTION:This webinar will define what a brand is (and is not) and explain how it is more than just creating a logo. We will explore how a business can use their brand to show its identity\, purpose\, personality\, message\, and values in order to stand out from competitors\, build a loyal customer base and make more sales. \nThis session will: \n\nProvide you with a clear understanding of the difference between brands and branding\nHelp you understand what a brand is\nShow you why branding is important\nLook at your brand strategy\, brand identity and action\nHelp you learn how to develop your brand’s positioning\, character\, and purpose to differentiate your business from its competitors\nDemonstrate how to set up a brand kit and style guide to ensure consistency across websites\, social media\, business cards\, posters etc.\nTeach you how to create simple promotional graphics using a variety of tools including Canva\nHighlight a variety of free tools including Google Drive\, Hubspot and Mailchimp that can save time and simplify marketing tasks
URL:https://investinangus.com/event/build-your-brand-and-promotional-graphics-4/
CATEGORIES:Business Planning,Digital Marketing,Marketing
END:VEVENT
BEGIN:VEVENT
DTSTART;TZID=UTC:20221025T110000
DTEND;TZID=UTC:20221025T120000
DTSTAMP:20260422T030150
CREATED:20220829T093928Z
LAST-MODIFIED:20220829T093928Z
UID:10085363-1666695600-1666699200@investinangus.com
SUMMARY:DASA Funding and how Scottish Companies can win it
DESCRIPTION:DASA funds innovation projects which support UK defence and security quickly and effectively\, through an Open Call for Innovation\, along with Thematic Competitions and innovation loans. \nDASA has recently launched several new funding and acceleration programmes to support companies to commercialise new products\, which this webinar will focus on.
URL:https://investinangus.com/event/dasa-funding-and-how-scottish-companies-can-win-it/
CATEGORIES:Finance
END:VEVENT
BEGIN:VEVENT
DTSTART;TZID=UTC:20221025T140000
DTEND;TZID=UTC:20221025T160000
DTSTAMP:20260422T030150
CREATED:20220920T152617Z
LAST-MODIFIED:20220920T152617Z
UID:10085515-1666706400-1666713600@investinangus.com
SUMMARY:Website usability and customer experience
DESCRIPTION:Website usability and user experience are key to driving leads\, sales and other conversions through your website. But where do you get started? \nDuring this webinar\, we’ll cover: \n\nWhat User Experience is and what impact it can have\nSome of the key factors influencing website usability\, including credibility\, value\, purpose and more\nHints\, tips and tools to help you start improving elements of your website\, from navigation menus to page layouts\nAn overview of tools to help you measure User Experience
URL:https://investinangus.com/event/website-usability-and-customer-experience-4/
CATEGORIES:Digital Marketing
END:VEVENT
BEGIN:VEVENT
DTSTART;TZID=UTC:20221025T170000
DTEND;TZID=UTC:20221025T190000
DTSTAMP:20260422T030150
CREATED:20221003T102211Z
LAST-MODIFIED:20221003T102211Z
UID:10085628-1666717200-1666724400@investinangus.com
SUMMARY:HR – Recruiting\, managing\, and retaining staff
DESCRIPTION:One of the scariest things you can do as a business is take on staff – from hiring\, interviewing\, payroll\, pensions\, contracts\, remote working and more\, it is a minefield for the business owner. \nThis webinar will allow you to have the key information in your possession to take on staff and manage your team. \nTopics covered: \n\nRecruiting\, managing\, and retaining staff\nAttracting and recruiting the best and right people for our business\nOur obligations as employers\nManaging people to stay with us\nMoving on\nDismissal\nRestructure/Redundancy\n\nWe will also look at: \n\nHow in the current climate you can manage staff and teams in a remote environment\, considering their productivity\, efficiency\, and the issues of home working\nHow you can best manage staff to ensure productivity is kept and mental health is supported\nThe impact of companies who may be considering restructuring and therefore redundancy for the first time and how that can be managed
URL:https://investinangus.com/event/hr-recruiting-managing-and-retaining-staff-5/
CATEGORIES:HR
END:VEVENT
BEGIN:VEVENT
DTSTART;TZID=UTC:20221025T180000
DTEND;TZID=UTC:20221025T200000
DTSTAMP:20260422T030150
CREATED:20220920T152702Z
LAST-MODIFIED:20220920T152702Z
UID:10085517-1666720800-1666728000@investinangus.com
SUMMARY:The basics of trading on Ebay\, Etsy and Amazon Marketplaces
DESCRIPTION:As a consumer\, you’ve almost certainly purchased online from one of the global marketplaces such as Ebay\, Etsy or Amazon\, so why wouldn’t your customers do the same and buy from you? \nWe will cover:\n \n\nWhy to sell via a Marketplace\, your own website\, or both\nChoosing the right Marketplace – looking specificly at Ebay\, Etsy and Amazon\n\nUnderstanding Profit Margins and how Marketplace fees affect them\n\nAn overview of some of the rules and regulations enforced by these platforms\nTrading internationally – what’s possible?\n\nYou’ll leave with a better understanding of how online marketplaces can help you reach your target audience\, which marketplace is best for you\, and how to get started selling quickly and easily.
URL:https://investinangus.com/event/the-basics-of-trading-on-ebay-etsy-and-amazon-marketplaces-4/
CATEGORIES:Digital Marketing
END:VEVENT
END:VCALENDAR