BEGIN:VCALENDAR
VERSION:2.0
PRODID:-//Invest in Angus - ECPv6.15.17.1//NONSGML v1.0//EN
CALSCALE:GREGORIAN
METHOD:PUBLISH
X-WR-CALNAME:Invest in Angus
X-ORIGINAL-URL:https://investinangus.com
X-WR-CALDESC:Events for Invest in Angus
REFRESH-INTERVAL;VALUE=DURATION:PT1H
X-Robots-Tag:noindex
X-PUBLISHED-TTL:PT1H
BEGIN:VTIMEZONE
TZID:UTC
BEGIN:STANDARD
TZOFFSETFROM:+0000
TZOFFSETTO:+0000
TZNAME:UTC
DTSTART:20210101T000000
END:STANDARD
END:VTIMEZONE
BEGIN:VEVENT
DTSTART;TZID=UTC:20221103T110000
DTEND;TZID=UTC:20221103T120000
DTSTAMP:20260422T005951
CREATED:20221017T153409Z
LAST-MODIFIED:20221017T153409Z
UID:10085676-1667473200-1667476800@investinangus.com
SUMMARY:Tourism businesses – Make Instagram work for you
DESCRIPTION:We’ll help you: \n\nFind out if/how Instagram will help grow your business.\nUnderstand how tourism is uniquely suited to Instagram and what elements can be used to drive the best engagement and conversion.\nAppreciate how to use its functionality to create the best content.\nLearn about your followers and gain new followers ideally suited to your content.
URL:https://investinangus.com/event/tourism-businesses-make-instagram-work-for-you-2/
CATEGORIES:Digital Marketing,Tourism
END:VEVENT
BEGIN:VEVENT
DTSTART;TZID=UTC:20221103T140000
DTEND;TZID=UTC:20221103T160000
DTSTAMP:20260422T005951
CREATED:20221017T153513Z
LAST-MODIFIED:20221017T153513Z
UID:10085678-1667484000-1667491200@investinangus.com
SUMMARY:Protect your business and data from hackers
DESCRIPTION:Join us to look at why it’s important for all businesses to give their online security thought and consideration. We will take you through some simple steps to minimise the risks\, and we will also direct you to available support to help you and your business. \nDuring the session will cover: \n\nCyber security and why it matters for businesses\nSteps to take to protect yourself including backups\, malware protection\, mobile devices\, VPNs\, firewalls\, passwords and more secure authentication to help avoid scams and fraud\nSimple ways to protect your website and social media from attack\nBasic good practice\, to prepare and understand what to do if the worst happens
URL:https://investinangus.com/event/protect-your-business-and-data-from-hackers-21/
CATEGORIES:Data Protection,Technology
END:VEVENT
BEGIN:VEVENT
DTSTART;TZID=UTC:20221103T173000
DTEND;TZID=UTC:20221103T200000
DTSTAMP:20260422T005951
CREATED:20210524T135034Z
LAST-MODIFIED:20221103T100707Z
UID:10082255-1667496600-1667505600@investinangus.com
SUMMARY:Flexible Workforce Development Fund
DESCRIPTION:Speaking with businesses across Dundee & Angus\, the barriers to growth are very similar with finding skilled employees often right at the heart of the problem. \nAccess tailored training and development opportunities designed to overcome skills gaps\, recruitment and employee retention challenges. \nJoin us on Thursday 3rd November at Dundee and Angus College Kingsway Training Restaurant to hear directly from businesses who have tackled their staffing problem in a more proactive manner and seen tangible results from funded training and recruitment academies. \nBook your free ticket here: https://www.eventbrite.co.uk/e/overcome-growth-frustrations-with-funded-training-for-your-business-tickets-430914987327 \nLearn how the Flexible Workplace Development Fund can benefit your business from our expert speakers: \n\nCaryn Gibson\, D&A College Economics Partnership Manager.\nGuest speaker Stevie Baxter BSc\, CEO of The Sporting Pursuit and Associate Trainer of D&A College.\nGuest speaker Marc Donald\, Account Manager at The ESP Group – Journeycall.\n\nWho should attend? \nBusiness owners and employees who are committed to improving staff performance and overcoming recruitment issues. \nWhat will I get from attending the event? \nHear first-hand about local businesses who have benefited from funded training opportunities and the impact it has made commercially in their business. \nFind out about the Flexible Workforce Development Fund and how it can be used to upskill your team to get your business in shape for future growth. \nHow much does it cost? \nIt’s free! We want to shout from the rooftops about this opportunity so would love as many of you as possible to come along. \nRefreshments will be provided.
URL:https://investinangus.com/event/flexible-workforce-development-fund/
LOCATION:Dundee & Angus College\, Gardyne Campus\, Dundee\, DD5 1NY
CATEGORIES:Finance,HR,Recruitment
END:VEVENT
BEGIN:VEVENT
DTSTART;TZID=UTC:20221103T173000
DTEND;TZID=UTC:20221103T200000
DTSTAMP:20260422T005951
CREATED:20221018T112130Z
LAST-MODIFIED:20221018T112130Z
UID:10085695-1667496600-1667505600@investinangus.com
SUMMARY:Overcome Growth Frustrations With Funded Training For Your Business
DESCRIPTION:Speaking with businesses across Dundee & Angus the barriers to growth are very similar\, with access to skilled employees often right at the heart of the problem. Up until recently companies have often fought their way out of situations through recruitment of experienced staff; however\, this is becoming increasingly difficult due to the competitive employment market. \nOn the 3rd November\, join us at Dundee and Angus College Training Restaurant to hear directly from businesses who have tackled their staffing problem in a more proactive manner\, and seen tangible results from funded training and recruitment academies. \nWho should attend? \nBusiness owners and employees who are committed to improving staff performance and overcoming recruitment issues. \nWhat will I get from attending the event ? \nHear first-hand about local businesses who have benefited from funded training opportunities and the impact it has made commercially in their business. \nFind out about the Flexible Workforce Development Fund and how it can be used to upskill your team to get your business in shape for future growth.
URL:https://investinangus.com/event/overcome-growth-frustrations-with-funded-training-for-your-business/
LOCATION:Dundee & Angus College\, Gardyne Campus\, Dundee\, DD5 1NY
CATEGORIES:Business Planning,HR,Recruitment
END:VEVENT
BEGIN:VEVENT
DTSTART;TZID=UTC:20221103T180000
DTEND;TZID=UTC:20221103T200000
DTSTAMP:20260422T005951
CREATED:20220906T135017Z
LAST-MODIFIED:20220906T135017Z
UID:10085421-1667498400-1667505600@investinangus.com
SUMMARY:Complete Guide to Finance for Starting a Business
DESCRIPTION:The workshop will look at: \n\nmanaging a profit and loss account\nproducing a cashflow statement\nworking capital\nthe different sources of finance\nthe different legal structures of a business\n\nThere will also be information on additional services from Business Gateway and details of other workshops which may be appropriate for you. \nThis webinar is aimed at businesses based in Dundee\, Angus and Perth. 
URL:https://investinangus.com/event/complete-guide-to-finance-for-starting-a-business-2/
CATEGORIES:Business Start-up,Finance
END:VEVENT
END:VCALENDAR