BEGIN:VCALENDAR
VERSION:2.0
PRODID:-//Invest in Angus - ECPv6.15.17.1//NONSGML v1.0//EN
CALSCALE:GREGORIAN
METHOD:PUBLISH
X-ORIGINAL-URL:https://investinangus.com
X-WR-CALDESC:Events for Invest in Angus
REFRESH-INTERVAL;VALUE=DURATION:PT1H
X-Robots-Tag:noindex
X-PUBLISHED-TTL:PT1H
BEGIN:VTIMEZONE
TZID:UTC
BEGIN:STANDARD
TZOFFSETFROM:+0000
TZOFFSETTO:+0000
TZNAME:UTC
DTSTART:20210101T000000
END:STANDARD
END:VTIMEZONE
BEGIN:VEVENT
DTSTART;TZID=UTC:20221104T100000
DTEND;TZID=UTC:20221104T120000
DTSTAMP:20260421T232918
CREATED:20221017T153933Z
LAST-MODIFIED:20221017T153933Z
UID:10085680-1667556000-1667563200@investinangus.com
SUMMARY:Making digital content accessible
DESCRIPTION:Everyone consumes and understands information differently\, with some facing additional challenges that aren’t always considered. In this webinar\, we’ll explore the challenges that people can have when accessing digital content and we’ll look at the ways you can improve your digital content to be inclusive and considerate for all. \nBy the end of this webinar\, you will be able to: \n\nUnderstand and consider the barriers and challenges faced by others when accessing digital content.\nAssess your digital content on how easy it is for others to access\, consume and understand.\nReview your website content with an understanding of what adjustments you should make to ensure that your content is catering to all.\nUse social media functions and tools to help make your content more accessible.\nUnderstand and use an ‘Accessibility Ready Checklist’ for any of your content to ensure you are designing and developing content for all of your audience.
URL:https://investinangus.com/event/making-digital-content-accessible-5/
CATEGORIES:Digital Marketing
END:VEVENT
BEGIN:VEVENT
DTSTART;TZID=UTC:20221104T140000
DTEND;TZID=UTC:20221104T160000
DTSTAMP:20260421T232918
CREATED:20221017T154024Z
LAST-MODIFIED:20221017T154024Z
UID:10085682-1667570400-1667577600@investinangus.com
SUMMARY:Cloud for business
DESCRIPTION:Your digital back office is the technology and tools that you use to manage and grow your business. In this webinar\, we’ll look at back-office strategies and explore the range of cloud services on the market that can support you with keeping great customer relations\, managing resources\, keeping organised and communicating efficiently. \nBy the end of this webinar\, you will be able to: \n\nUnderstand the areas of your digital back-office and the impact each area can have on the efficiency and growth of your business.\nUse up-to-date knowledge on current cloud services and tools to help you with upgrading your digital back office to be more secure\, scalable and efficient.\nUse real-world examples to help you understand different cloud-based platforms\, their functions\, and their costs.\nMake informed decisions about improving your digital back-office in the future based on scalability\, security\, efficiency and affordability.
URL:https://investinangus.com/event/cloud-for-business-20/
CATEGORIES:Business Planning,Technology
END:VEVENT
END:VCALENDAR