BEGIN:VCALENDAR
VERSION:2.0
PRODID:-//Invest in Angus - ECPv6.15.17.1//NONSGML v1.0//EN
CALSCALE:GREGORIAN
METHOD:PUBLISH
X-WR-CALNAME:Invest in Angus
X-ORIGINAL-URL:https://investinangus.com
X-WR-CALDESC:Events for Invest in Angus
REFRESH-INTERVAL;VALUE=DURATION:PT1H
X-Robots-Tag:noindex
X-PUBLISHED-TTL:PT1H
BEGIN:VTIMEZONE
TZID:UTC
BEGIN:STANDARD
TZOFFSETFROM:+0000
TZOFFSETTO:+0000
TZNAME:UTC
DTSTART:20210101T000000
END:STANDARD
END:VTIMEZONE
BEGIN:VEVENT
DTSTART;TZID=UTC:20221107T090000
DTEND;TZID=UTC:20221111T170000
DTSTAMP:20260422T005953
CREATED:20221101T165421Z
LAST-MODIFIED:20221101T165421Z
UID:10085817-1667811600-1668186000@investinangus.com
SUMMARY:Business Finance Week 2022
DESCRIPTION:Throughout the week of 7-11 November 2022 the British Business Bank\, along with well-respected business support partners from across the UK\, are working together to host Business Finance Week 2022. \nDuring five days of nation-wide and regional in-person events\, webinars and more\, we’re helping smaller businesses learn all about the different finance options available to them to support their individual needs. \nEach day will be centred round a key theme\, giving you the opportunity to hear from experts in their field on a varied range of subjects. \nSee the events calendar on the British Business Bank website.
URL:https://investinangus.com/event/business-finance-week-2022/
CATEGORIES:Business Planning,Finance
END:VEVENT
BEGIN:VEVENT
DTSTART;TZID=UTC:20221107T090000
DTEND;TZID=UTC:20221111T170000
DTSTAMP:20260422T005953
CREATED:20221101T165632Z
LAST-MODIFIED:20221101T165632Z
UID:10085819-1667811600-1668186000@investinangus.com
SUMMARY:Scottish Careers Week
DESCRIPTION:Scottish Careers Week is back for its second year on  7 to 11 November 2022 — and you can get involved! \nWith even more events\, activities and resources\, we invite people of all ages to take part. Discover the opportunities and career support available in Scotland to help shape your future. \nThe week is about all things skills\, jobs and careers. \nIf you’d like to deliver activity during the week\, read our ‘Get Involved’ toolkit for ideas.
URL:https://investinangus.com/event/scottish-careers-week/
CATEGORIES:Business Planning,HR,Recruitment
END:VEVENT
BEGIN:VEVENT
DTSTART;TZID=UTC:20221109T080000
DTEND;TZID=UTC:20221110T130000
DTSTAMP:20260422T005953
CREATED:20220829T093434Z
LAST-MODIFIED:20220829T093434Z
UID:10085356-1667980800-1668085200@investinangus.com
SUMMARY:Scotland’s tourism industry conference 2022
DESCRIPTION:Scotland’s tourism industry conference is back for 2022. With a packed programme\, the event is designed to celebrate\, empower and further propel our industry into the future in line with the national ambition to be leaders in 21st century tourism. \nThe landscape our industry operates in has changed significantly over recent years\, prompting huge change\, unprecedented challenges but also new opportunities. \nA collaboration between the Scottish Tourism Alliance (STA)\, the Association of Scottish Visitor Attractions (ASVA) and HIT Scotland (Hospitality Industry Trust)\, the Industry Conference will run across two days. It will bring together an exciting range of speakers to deliver important insights\, advice and inspiration to navigate and flourish in this new world and to embrace the new opportunities and responsibilities it presents. This year’s event will also feature an exhibitor hall as well as a complimentary evening reception offering the ideal chance to catch up\, connect and have fun. \nThe biggest conference of its kind in Scotland\, the much-awaited event of the year is the perfect opportunity for the community to re-connect with industry peers\, make new connections\, gain invaluable and actionable learnings from expert speakers\, share knowledge and be inspired. \nThis is an unmissable event for anyone at any level who works\, supports or is interested in the tourism industry.
URL:https://investinangus.com/event/scotlands-tourism-industry-conference-2022/
LOCATION:Edinburgh International Conference Centre\, 150 Morrison Street\, Edinburgh\, EH3 8EE
CATEGORIES:Networking,Tourism
END:VEVENT
BEGIN:VEVENT
DTSTART;TZID=UTC:20221110T100000
DTEND;TZID=UTC:20221110T113000
DTSTAMP:20260422T005953
CREATED:20221024T104749Z
LAST-MODIFIED:20221024T104749Z
UID:10085699-1668074400-1668079800@investinangus.com
SUMMARY:Exploring Debt Funding Options
DESCRIPTION:As the funding landscape continues to evolve\, there are a wide range of debt related products\, outside of traditional bank loans and overdrafts\, available to support businesses to start up\, scale up or stay ahead. Delivered in partnership by British Business Bank (BBB) and Federation of Small Businesses (FSB) as part of the British Business Bank’s Business Finance Week\, this virtual event is designed to: \nBuild your awareness and understanding of the options available to you\, with a particular focus on loans (including RLS)\, invoice finance and asset finance \nHelp you make informed choices about what type of finance is right for you and your business at a particular stage \nYou will also have the opportunity to hear from some of the providers themselves – to hear their views on current market conditions\, sectoral trends & funder appetite\, understand how best to improve / maximise your chance of success when applying\, and importantly how best to manage the debt once it’s in place. \nYou will also hear first-hand from businesses about the positive impact that loans\, invoice finance or asset finance have had in terms of accelerating the growth of their business and how they overcame some of those initial barriers to get to that point.
URL:https://investinangus.com/event/exploring-debt-funding-options/
CATEGORIES:Finance
END:VEVENT
BEGIN:VEVENT
DTSTART;TZID=UTC:20221110T100000
DTEND;TZID=UTC:20221110T120000
DTSTAMP:20260422T005953
CREATED:20221024T110918Z
LAST-MODIFIED:20221024T110918Z
UID:10085711-1668074400-1668081600@investinangus.com
SUMMARY:The essentials of bookkeeping and what expenses you can claim
DESCRIPTION:This webinar is for those who are entering business for the first time or require an understanding of what is involved in financially managing a business\, including basic bookkeeping\, and creating a profit and loss account. You will also get an understanding of what expenses the business can claim and then how to fund your business. At the end of the session\, you will receive a workbook on excel to help you manage and monitor costs and sales. \nAt the end of this session\, you will be able to: \n\nImplement basic bookkeeping skills across your business\nCreate a profit and loss account\nUnderstand what expenses can and cannot be claimed\nUse financial management to increase revenues and profits\nUnderstand capital and revenue costs and how they are treated
URL:https://investinangus.com/event/the-essentials-of-bookkeeping-and-what-expenses-you-can-claim-6/
CATEGORIES:Finance
END:VEVENT
BEGIN:VEVENT
DTSTART;TZID=UTC:20221110T110000
DTEND;TZID=UTC:20221110T120000
DTSTAMP:20260422T005953
CREATED:20221031T100644Z
LAST-MODIFIED:20221031T100644Z
UID:10085811-1668078000-1668081600@investinangus.com
SUMMARY:Skilled worker route: How employers can sponsor international talent
DESCRIPTION:Join us for an update on the Skilled Worker Route: how employers can sponsor international talent. \nWith most EU and non-EU citizens now subject to the UK immigration system\, we invite you to join us as we discuss how the Skilled Worker route can help you to access overseas talent. As a Scottish based SME\, TalentScotland can support your business in a number of ways. \nThis webinar is presented by Brodies LLP\, TalentScotland’s immigration specialists – you’ll have the opportunity to ask questions you may have.
URL:https://investinangus.com/event/skilled-worker-route-how-employers-can-sponsor-international-talent/
CATEGORIES:HR,Recruitment
END:VEVENT
BEGIN:VEVENT
DTSTART;TZID=UTC:20221110T140000
DTEND;TZID=UTC:20221110T160000
DTSTAMP:20260422T005953
CREATED:20221017T154827Z
LAST-MODIFIED:20221017T154827Z
UID:10085686-1668088800-1668096000@investinangus.com
SUMMARY:TikTok and Instagram Reels for business
DESCRIPTION:You might view TikTok as a stream of dance trends and lip-synching videos\, but it can also be a fantastic place to engage with your customers and increase the reach of your business online. Explore how to create bitesize vertical video content and how to use this new format for more effective business communication. \nWe will cover: \n\nHow to optimise your TikTok and Instagram accounts for the best results with video.\nHow to discover the latest trends on each platform and leverage this to create popular videos for your business.\nIdeas for creating content to entertain\, inspire or educate your audience (with lots of examples from a variety of relevant TikTok and Reels accounts).\nHow to increase engagement and reach by paying attention to your videos’ structure\, duration\, titles and understanding hashtags and algorithms.\nThe best kit\, apps and workflow to create bitesize vertical videos for both platforms.
URL:https://investinangus.com/event/tiktok-and-instagram-reels-for-business-5/
CATEGORIES:Digital Marketing
END:VEVENT
BEGIN:VEVENT
DTSTART;TZID=UTC:20221110T180000
DTEND;TZID=UTC:20221110T200000
DTSTAMP:20260422T005953
CREATED:20220906T135206Z
LAST-MODIFIED:20220906T135206Z
UID:10085425-1668103200-1668110400@investinangus.com
SUMMARY:How to write a Business Plan and why you need one
DESCRIPTION:This webinar will help you create a robust business plan. \nThe webinar will look at: \n\ncreating a description for your business\nthe business planning process\nefficient ways of obtaining skills and resources\npresenting your business plan\n\nThere will also be information on additional services from Business Gateway and details of other webinars which may be appropriate for you.  \nThis webinar is for businesses based in Dundee\, Angus and Perth.
URL:https://investinangus.com/event/how-to-write-a-business-plan-and-why-you-need-one-8/
CATEGORIES:Business Planning
END:VEVENT
BEGIN:VEVENT
DTSTART;TZID=UTC:20221110T180000
DTEND;TZID=UTC:20221110T200000
DTSTAMP:20260422T005953
CREATED:20221017T155122Z
LAST-MODIFIED:20221017T155122Z
UID:10085688-1668103200-1668110400@investinangus.com
SUMMARY:An introduction to business websites & what you need to consider
DESCRIPTION:This webinar will take you through all the steps required to design\, build and host a business website. You will learn about: \n\nThe need to determine website objectives\nThe importance of knowing who your audience is and measuring results\nSetting clear calls to action and creating engaging content\nCreating your brand’s visual identity online\, your site’s blueprint and how you can structure your site map\nWhat’s involved in registering your domain\, maintaining your site content\, and options for hosting it\n\nThis webinar will also offer guidance on when and how to outsource your website development. Covering topics such as choosing a suitable content management system\, what to organise first and costing for the work.
URL:https://investinangus.com/event/an-introduction-to-business-websites-what-you-need-to-consider-18/
CATEGORIES:Digital Marketing
END:VEVENT
END:VCALENDAR