BEGIN:VCALENDAR
VERSION:2.0
PRODID:-//Invest in Angus - ECPv6.15.17.1//NONSGML v1.0//EN
CALSCALE:GREGORIAN
METHOD:PUBLISH
X-ORIGINAL-URL:https://investinangus.com
X-WR-CALDESC:Events for Invest in Angus
REFRESH-INTERVAL;VALUE=DURATION:PT1H
X-Robots-Tag:noindex
X-PUBLISHED-TTL:PT1H
BEGIN:VTIMEZONE
TZID:UTC
BEGIN:STANDARD
TZOFFSETFROM:+0000
TZOFFSETTO:+0000
TZNAME:UTC
DTSTART:20210101T000000
END:STANDARD
END:VTIMEZONE
BEGIN:VEVENT
DTSTART;TZID=UTC:20221114T090000
DTEND;TZID=UTC:20221120T170000
DTSTAMP:20260422T010030
CREATED:20221025T151222Z
LAST-MODIFIED:20221025T151222Z
UID:10085780-1668416400-1668963600@investinangus.com
SUMMARY:Living Wage Week
DESCRIPTION:Living Wage Week will be held this year from the 14th to the 20th of November. \nIt is the annual celebration of the Living Wage movement across the UK. \nSee the programme of events for businesses on the Scottish Living Wage website.
URL:https://investinangus.com/event/living-wage-week/
CATEGORIES:Business Planning,HR
END:VEVENT
BEGIN:VEVENT
DTSTART;TZID=UTC:20221115T100000
DTEND;TZID=UTC:20221115T120000
DTSTAMP:20260422T010030
CREATED:20221024T111157Z
LAST-MODIFIED:20221024T111157Z
UID:10085718-1668506400-1668513600@investinangus.com
SUMMARY:Pinterest for business
DESCRIPTION:A commonly used tool for those researching products and services for personal life (clothing ideas\, holidays inspiration\, cooking alternatives!)\, but how can it benefit your business? Move from being a beginner to knowing enough to gain commercial benefit from the use of Pinterest. \nDuring this webinar we’ll help you better understand: \n\nWho is using Pinterest and what are they looking for?\nHow to setup your business profile\nKey features to use within Pinterest\nMeasuring success and engagement
URL:https://investinangus.com/event/pinterest-for-business-21/
CATEGORIES:Digital Marketing
END:VEVENT
BEGIN:VEVENT
DTSTART;TZID=UTC:20221115T110000
DTEND;TZID=UTC:20221115T120000
DTSTAMP:20260422T010030
CREATED:20221031T100833Z
LAST-MODIFIED:20221031T100833Z
UID:10085813-1668510000-1668513600@investinangus.com
SUMMARY:An update on low cost Visa routes
DESCRIPTION:There are lots of low-cost visa routes under the UK’s points-based system. \nJoin TalentScotland for an update on affordable visa options\, including the Graduate\, High Potential Individual and Youth Mobility routes.
URL:https://investinangus.com/event/an-update-on-low-cost-visa-routes/
CATEGORIES:Business Planning,HR
END:VEVENT
BEGIN:VEVENT
DTSTART;TZID=UTC:20221115T120000
DTEND;TZID=UTC:20221115T140000
DTSTAMP:20260422T010030
CREATED:20221024T111252Z
LAST-MODIFIED:20221024T111252Z
UID:10085720-1668513600-1668520800@investinangus.com
SUMMARY:Build your brand and promotional graphics
DESCRIPTION:This webinar will define what a brand is (and is not) and explain how it is more than just creating a logo. We will explore how a business can use their brand to show its identity\, purpose\, personality\, message\, and values in order to stand out from competitors\, build a loyal customer base and make more sales. \nThis session will: \n\nProvide you with a clear understanding of the difference between brands and branding\nHelp you understand what a brand is\nShow you why branding is important\nLook at your brand strategy\, brand identity and action\nHelp you learn how to develop your brand’s positioning\, character\, and purpose to differentiate your business from its competitors\nDemonstrate how to set up a brand kit and style guide to ensure consistency across websites\, social media\, business cards\, posters etc.\nTeach you how to create simple promotional graphics using a variety of tools including Canva\nHighlight a variety of free tools including Google Drive\, Hubspot and Mailchimp that can save time and simplify marketing tasks
URL:https://investinangus.com/event/build-your-brand-and-promotional-graphics-5/
CATEGORIES:Digital Marketing,Marketing
END:VEVENT
BEGIN:VEVENT
DTSTART;TZID=UTC:20221115T150000
DTEND;TZID=UTC:20221115T170000
DTSTAMP:20260422T010030
CREATED:20221024T112151Z
LAST-MODIFIED:20221024T112151Z
UID:10085722-1668524400-1668531600@investinangus.com
SUMMARY:Upgrade your business marketing with a CRM system
DESCRIPTION:From organising how you reach new customers to tracking the new deals you close\, a Customer Relationship Management (CRM) system is a great tool to help your business grow. In this webinar\, we’ll show you how to connect a CRM to your website\, track potential new customers\, manage your business activities\, nurture your leads and track successful\, new business. \nBy the end of this webinar\, you will understand: \n\nWhat a CRM is\, why they’re important and the difference between some of the best CRMs offered to businesses.\nHow to use HubSpot\, a free CRM\, for managing contacts\, organising sales processes and creating reports.\nHow to improve your sales and marketing processes by using CRM task management\, meeting scheduling and email marketing.\nYour legal responsibilities when capturing customer information.
URL:https://investinangus.com/event/upgrade-your-business-marketing-with-a-crm-system-5/
CATEGORIES:Digital Marketing
END:VEVENT
END:VCALENDAR