BEGIN:VCALENDAR
VERSION:2.0
PRODID:-//Invest in Angus - ECPv6.15.17.1//NONSGML v1.0//EN
CALSCALE:GREGORIAN
METHOD:PUBLISH
X-ORIGINAL-URL:https://investinangus.com
X-WR-CALDESC:Events for Invest in Angus
REFRESH-INTERVAL;VALUE=DURATION:PT1H
X-Robots-Tag:noindex
X-PUBLISHED-TTL:PT1H
BEGIN:VTIMEZONE
TZID:UTC
BEGIN:STANDARD
TZOFFSETFROM:+0000
TZOFFSETTO:+0000
TZNAME:UTC
DTSTART:20210101T000000
END:STANDARD
END:VTIMEZONE
BEGIN:VEVENT
DTSTART;TZID=UTC:20221114T090000
DTEND;TZID=UTC:20221120T170000
DTSTAMP:20260422T011158
CREATED:20221025T151222Z
LAST-MODIFIED:20221025T151222Z
UID:10085780-1668416400-1668963600@investinangus.com
SUMMARY:Living Wage Week
DESCRIPTION:Living Wage Week will be held this year from the 14th to the 20th of November. \nIt is the annual celebration of the Living Wage movement across the UK. \nSee the programme of events for businesses on the Scottish Living Wage website.
URL:https://investinangus.com/event/living-wage-week/
CATEGORIES:Business Planning,HR
END:VEVENT
BEGIN:VEVENT
DTSTART;TZID=UTC:20221118T110000
DTEND;TZID=UTC:20221118T130000
DTSTAMP:20260422T011158
CREATED:20221024T112826Z
LAST-MODIFIED:20221024T112826Z
UID:10085738-1668769200-1668776400@investinangus.com
SUMMARY:e-Commerce with Shopify
DESCRIPTION:Shopify is a powerful all-in-one e-Commerce website builder that makes setting up an online store simple and straightforward. In this webinar\, we will explore Shopify’s features and pull together the building blocks for your first e-Commerce website. \nBy the end of this webinar\, you will be able to: \n\nUnderstand the essential features that a website needs to have to sell physical and digital products online\nUnderstand what Shopify is and how to use the features it offers to build a secure and powerful e-Commerce website\nUse the Shopify page builder and work with free themes to get the design and style of your website on-brand\nUnderstand how to manage orders and deliver great customer service\nUnderstand how to launch your new e-Commerce website and ensure all essential building blocks are in place using a pre-launch checklist
URL:https://investinangus.com/event/e-commerce-with-shopify-5/
CATEGORIES:Digital Marketing
END:VEVENT
BEGIN:VEVENT
DTSTART;TZID=UTC:20221118T140000
DTEND;TZID=UTC:20221118T160000
DTSTAMP:20260422T011158
CREATED:20221024T112913Z
LAST-MODIFIED:20221024T112913Z
UID:10085740-1668780000-1668787200@investinangus.com
SUMMARY:Build a customer focused business
DESCRIPTION:Did you know that a returning customer will typically spend more than two thirds more with your business than a brand new one? \nDid you know that retaining just 5% of your customer base can give an increase of over 20% in profits for your business? \nHaving an effective strategy in place for your business to deliver great customer service is critical for your business. \nWe will cover: \n\nWhy good customer service is critical for business growth\nWhat are the essentials of delivering great customer service and how should this be delivered?\nHow to effectively manage different types of customers and their expectations\nHow\, why\, and when you should measure the service a business delivers\nHow to use the service provided to promote a business and enable growth
URL:https://investinangus.com/event/build-a-customer-focused-business-5/
CATEGORIES:Business Planning
END:VEVENT
END:VCALENDAR