BEGIN:VCALENDAR
VERSION:2.0
PRODID:-//Invest in Angus - ECPv6.15.17.1//NONSGML v1.0//EN
CALSCALE:GREGORIAN
METHOD:PUBLISH
X-ORIGINAL-URL:https://investinangus.com
X-WR-CALDESC:Events for Invest in Angus
REFRESH-INTERVAL;VALUE=DURATION:PT1H
X-Robots-Tag:noindex
X-PUBLISHED-TTL:PT1H
BEGIN:VTIMEZONE
TZID:UTC
BEGIN:STANDARD
TZOFFSETFROM:+0000
TZOFFSETTO:+0000
TZNAME:UTC
DTSTART:20210101T000000
END:STANDARD
END:VTIMEZONE
BEGIN:VEVENT
DTSTART;TZID=UTC:20221129T100000
DTEND;TZID=UTC:20221129T120000
DTSTAMP:20260421T234440
CREATED:20221024T114317Z
LAST-MODIFIED:20221024T114317Z
UID:10085768-1669716000-1669723200@investinangus.com
SUMMARY:How to build a digital marketing plan
DESCRIPTION:This webinar will guide you through the steps needed to create an effective digital marketing strategy\, ensuring you focus on the right tactics to meet your business objectives and goals. \nWe will cover: \n\nThe importance of planning your digital marketing activities\nBuilding your plan around a simple framework\nConducting a situational analysis (and understanding Customers and Competitors)\nDeveloping your brand and tone of voice\nPlanning your Content strategy\nPrioritising digital channels\nEvaluating your Digital Marketing efforts
URL:https://investinangus.com/event/how-to-build-a-digital-marketing-plan-20/
CATEGORIES:Digital Marketing
END:VEVENT
BEGIN:VEVENT
DTSTART;TZID=UTC:20221129T170000
DTEND;TZID=UTC:20221129T190000
DTSTAMP:20260421T234440
CREATED:20221024T114431Z
LAST-MODIFIED:20221024T114431Z
UID:10085770-1669741200-1669748400@investinangus.com
SUMMARY:HR – Recruiting\, managing\, and retaining staff
DESCRIPTION:One of the scariest things you can do as a business is take on staff – from hiring\, interviewing\, payroll\, pensions\, contracts\, remote working and more\, it is a minefield for the business owner. \nThis webinar will allow you to have the key information in your possession to take on staff and manage your team. \nTopics covered: \n\nRecruiting\, managing\, and retaining staff\nAttracting and recruiting the best and right people for our business\nOur obligations as employers\nManaging people to stay with us\nMoving on\nDismissal\nRestructure/Redundancy\n\nWe will also look at: \n\nHow in the current climate you can manage staff and teams in a remote environment\, considering their productivity\, efficiency\, and the issues of home working\nHow you can best manage staff to ensure productivity is kept and mental health is supported\nThe impact of companies who may be considering restructuring and therefore redundancy for the first time and how that can be managed
URL:https://investinangus.com/event/hr-recruiting-managing-and-retaining-staff-6/
CATEGORIES:HR,Recruitment
END:VEVENT
END:VCALENDAR