BEGIN:VCALENDAR
VERSION:2.0
PRODID:-//Invest in Angus - ECPv6.15.17.1//NONSGML v1.0//EN
CALSCALE:GREGORIAN
METHOD:PUBLISH
X-WR-CALNAME:Invest in Angus
X-ORIGINAL-URL:https://investinangus.com
X-WR-CALDESC:Events for Invest in Angus
REFRESH-INTERVAL;VALUE=DURATION:PT1H
X-Robots-Tag:noindex
X-PUBLISHED-TTL:PT1H
BEGIN:VTIMEZONE
TZID:UTC
BEGIN:STANDARD
TZOFFSETFROM:+0000
TZOFFSETTO:+0000
TZNAME:UTC
DTSTART:20210101T000000
END:STANDARD
END:VTIMEZONE
BEGIN:VEVENT
DTSTART;TZID=UTC:20221130T090000
DTEND;TZID=UTC:20221130T170000
DTSTAMP:20260421T233434
CREATED:20221024T114532Z
LAST-MODIFIED:20221024T114532Z
UID:10085772-1669798800-1669827600@investinangus.com
SUMMARY:Marketing 1-2-1 Surgery Sessions
DESCRIPTION:Whether you’d like to discuss market research\, marketing strategy or would even just like an impartial review of your website or social media page\, this is an opportunity to book a one to one appoint either from our Dundee office or over Zoom with our marketing specialist\, Stuart Milne. \nOnce you have booked your space\, one of our team will be in touch to arrange an appointment. \nThese appointments are for businesses based in Dundee\, Angus or Perth.
URL:https://investinangus.com/event/marketing-1-2-1-surgery-sessions-8/
CATEGORIES:Marketing
END:VEVENT
BEGIN:VEVENT
DTSTART;TZID=UTC:20221130T100000
DTEND;TZID=UTC:20221130T120000
DTSTAMP:20260421T233434
CREATED:20221024T114621Z
LAST-MODIFIED:20221024T114621Z
UID:10085774-1669802400-1669809600@investinangus.com
SUMMARY:Online Sales: Improve\, develop & make more money
DESCRIPTION:What’s the best way to sell your products online? The key to improving your online business is measuring its effectiveness – you can then take steps to optimise its performance. Should you be using your own eCommerce store or Amazon\, neither or both? This webinar will help you decide. \nWe will cover: \n\nFactors to consider when selling online.\nWhat eCommerce options exist\, and the benefits of each\nDifferences in available eCommerce platforms\nBenefits of automation\nKey items to optimise performance
URL:https://investinangus.com/event/online-sales-improve-develop-make-more-money-15/
CATEGORIES:Digital Marketing
END:VEVENT
BEGIN:VEVENT
DTSTART;TZID=UTC:20221130T130000
DTEND;TZID=UTC:20221130T140000
DTSTAMP:20260421T233434
CREATED:20221128T103234Z
LAST-MODIFIED:20221128T103234Z
UID:10085935-1669813200-1669816800@investinangus.com
SUMMARY:How to stay secure online
DESCRIPTION:This panel webinar\, led by a panel of experts\, will offer valuable discussion\, insights\, and tips on recognising potential threats; securing data and personal information; and reinforcing why online security and the importance of protecting your customers online is essential for every business. \nThis session will explore: \n\nWhat are the most common online threats in today’s world?\nWhat are the most common ways that businesses are likely to be impacted by online threats?\nTop tips for managing online security and building cyber resilience\nThe first thing you should do if your business is the victim of a cyber-attack\nWhat support is out there to help businesses understand how to better protect their online security?
URL:https://investinangus.com/event/how-to-stay-secure-online/
CATEGORIES:Business Planning,Technology
END:VEVENT
BEGIN:VEVENT
DTSTART;TZID=UTC:20221130T180000
DTEND;TZID=UTC:20221130T190000
DTSTAMP:20260421T233434
CREATED:20221031T095952Z
LAST-MODIFIED:20221031T095952Z
UID:10085805-1669831200-1669834800@investinangus.com
SUMMARY:What is a social enterprise & how to become one
DESCRIPTION:There are many questions around social enterprises. \n\nWhat actually is a social enterprise and how does it differ from a charity?\nCould your business be a social enterprise?\nWhat would be the benefits?\nHow do you go about this?\n\nBayile Adeoti\, founder of Dechomai and the president of Scottish Women in Business hosts this zoom event to do just that. She will also be joined by FirstPort and Social Enterprise Scotland. \nThe floor will be open for all your questions about your business\, your ideas and all the burning questions you have.
URL:https://investinangus.com/event/what-is-a-social-enterprise-how-to-become-one/
CATEGORIES:Business Planning
END:VEVENT
BEGIN:VEVENT
DTSTART;TZID=UTC:20221130T180000
DTEND;TZID=UTC:20221130T200000
DTSTAMP:20260421T233434
CREATED:20220906T135614Z
LAST-MODIFIED:20220906T135614Z
UID:10085433-1669831200-1669838400@investinangus.com
SUMMARY:Ready\, Steady\, Grow: How to Expand Your Business
DESCRIPTION:Are you a business that has been trading for less than five years? \nDo you realise your full potential? This is an opportunity for you to gain an outsider’s perspective\, which can be essential in realising the potential for your business to expand. \nWorking with our advisers\, you will analyse the current state of your business\, and identify key areas for growth. You will also be shown various tools that can be utilised to analyse your business’ performance. \nYou will leave this webinar feeling motivated\, with the knowledge of how to grow your business. You’ll now be able to set new goals\, that previously weren’t possible. \nIf you are an early-stage business looking to grow\, book your place now! \nThis webinar is for businesses located in Perth\, Dundee & Angus.
URL:https://investinangus.com/event/ready-steady-grow-how-to-expand-your-business-3/
CATEGORIES:Business Planning
END:VEVENT
END:VCALENDAR