BEGIN:VCALENDAR
VERSION:2.0
PRODID:-//Invest in Angus - ECPv6.15.17.1//NONSGML v1.0//EN
CALSCALE:GREGORIAN
METHOD:PUBLISH
X-ORIGINAL-URL:https://investinangus.com
X-WR-CALDESC:Events for Invest in Angus
REFRESH-INTERVAL;VALUE=DURATION:PT1H
X-Robots-Tag:noindex
X-PUBLISHED-TTL:PT1H
BEGIN:VTIMEZONE
TZID:UTC
BEGIN:STANDARD
TZOFFSETFROM:+0000
TZOFFSETTO:+0000
TZNAME:UTC
DTSTART:20210101T000000
END:STANDARD
END:VTIMEZONE
BEGIN:VEVENT
DTSTART;TZID=UTC:20221205T100000
DTEND;TZID=UTC:20221205T120000
DTSTAMP:20260421T234431
CREATED:20221121T102307Z
LAST-MODIFIED:20221121T102307Z
UID:10085890-1670234400-1670241600@investinangus.com
SUMMARY:Protect your business and data from hackers
DESCRIPTION:Join us to look at why it’s important for all businesses to give their online security thought and consideration. We will take you through some simple steps to minimise the risks\, and we will also direct you to available support to help you and your business. \nDuring the session will cover: \n\nCyber security and why it matters for businesses\nSteps to take to protect yourself including backups\, malware protection\, mobile devices\, VPNs\, firewalls\, passwords and more secure authentication to help avoid scams and fraud\nSimple ways to protect your website and social media from attack\nBasic good practice\, to prepare and understand what to do if the worst happens
URL:https://investinangus.com/event/protect-your-business-and-data-from-hackers-22/
CATEGORIES:Data Protection,Technology
END:VEVENT
BEGIN:VEVENT
DTSTART;TZID=UTC:20221205T130000
DTEND;TZID=UTC:20221205T150000
DTSTAMP:20260421T234431
CREATED:20221128T103609Z
LAST-MODIFIED:20221128T103609Z
UID:10085943-1670245200-1670252400@investinangus.com
SUMMARY:The business benefits of running a sustainable business
DESCRIPTION:It’s becoming increasingly important to customers to source their products from companies who have strong green credentials. This webinar will show how by becoming more sustainable you can increase sales and profits. \nWe will look at: \nUnderstanding the problem\nWhat is sustainability and why it is important\nInnovation\nProfiting from being a green business\nEmbracing a purpose beyond profit\nThe sustainability triple bottom line\nDeveloping your own green charter\nExamples of those practicing this way of growth with remarkable success\nTop tips for going green
URL:https://investinangus.com/event/the-business-benefits-of-running-a-sustainable-business-6/
CATEGORIES:Business Planning,Sustainable/Circular Economy
END:VEVENT
BEGIN:VEVENT
DTSTART;TZID=UTC:20221205T140000
DTEND;TZID=UTC:20221205T160000
DTSTAMP:20260421T234431
CREATED:20221121T102354Z
LAST-MODIFIED:20221121T102354Z
UID:10085892-1670248800-1670256000@investinangus.com
SUMMARY:Facebook for business
DESCRIPTION:Get to grips with Facebook – the world’s most popular social networking platform. \nIn this webinar you will: \n\nLearn how to get the most out of Facebook and how it could fit into your business’s digital marketing strategy.\nBetter understand the algorithm behind Facebook\, and how to create great content that achieves a bigger reach and impact.\nLearn from the stats and data you can get from the system and discover who your most interested customers/clients are.\nUnderstand the power of Facebook advertising\, and other selling options available to you.\nDiscover other business opportunities presented by Facebook\, including how to promote and sell products and services.\nBe introduced to ‘Business Suite’ – a free Facebook dashboard to manage all your business activity.
URL:https://investinangus.com/event/facebook-for-business-24/
CATEGORIES:Digital Marketing
END:VEVENT
BEGIN:VEVENT
DTSTART;TZID=UTC:20221205T143000
DTEND;TZID=UTC:20221205T153000
DTSTAMP:20260421T234431
CREATED:20221123T173153Z
LAST-MODIFIED:20221123T173153Z
UID:10085919-1670250600-1670254200@investinangus.com
SUMMARY:Skilled Worker Route: How employers can sponsor international talent
DESCRIPTION:Join us for an update on the Skilled Worker Route: how employers can sponsor international talent. With most EU and non-EU citizens now subject to the UK immigration system\, we invite you to join us as we discuss how the Skilled Worker route can help you to access overseas talent. As a Scottish based SME\, TalentScotland can support your business in a number of ways. \nThis webinar is presented by Brodies LLP\, TalentScotland’s immigration specialists – you’ll have the opportunity to ask questions you may have.
URL:https://investinangus.com/event/skilled-worker-route-how-employers-can-sponsor-international-talent-2/
CATEGORIES:HR,Recruitment
END:VEVENT
END:VCALENDAR