BEGIN:VCALENDAR
VERSION:2.0
PRODID:-//Invest in Angus - ECPv6.15.17.1//NONSGML v1.0//EN
CALSCALE:GREGORIAN
METHOD:PUBLISH
X-WR-CALNAME:Invest in Angus
X-ORIGINAL-URL:https://investinangus.com
X-WR-CALDESC:Events for Invest in Angus
REFRESH-INTERVAL;VALUE=DURATION:PT1H
X-Robots-Tag:noindex
X-PUBLISHED-TTL:PT1H
BEGIN:VTIMEZONE
TZID:UTC
BEGIN:STANDARD
TZOFFSETFROM:+0000
TZOFFSETTO:+0000
TZNAME:UTC
DTSTART:20210101T000000
END:STANDARD
END:VTIMEZONE
BEGIN:VEVENT
DTSTART;TZID=UTC:20221206T090000
DTEND;TZID=UTC:20221207T170000
DTSTAMP:20260421T232749
CREATED:20221007T141736Z
LAST-MODIFIED:20221007T141736Z
UID:10085654-1670317200-1670432400@investinangus.com
SUMMARY:Scottish Agritourism Conference 2022
DESCRIPTION:The Scottish Agritourism annual conference is for anyone keen to help grow our sector to its full potential. \nWhether you are an agritourism business owner\, or a farmer or crofter considering agritourism; part of our vital supply chain or an economic development professional keen to support the sector\, this will be the largest gathering of the agritourism sector in Scotland and everyone is welcome. \nThe event will include three main speaker sessions covering: \n\nSustainability of the Family Farm & Croft – focusing on agritourism as a way of ensuring that future generations can live and work on farm.\nCreating an agritourism destination – a look at farms that have created multi-aspects to their agritourism offering\, increasing opportunities for visitors to spend money.\nPutting Meat on to Agritourism Menus – 50% of agritourism farms in Scotland are to offer food & drink by 2030 as part of the national agritourism strategy. We know that there is high demand from consumers to buy meat direct and a great deal of interest from farmers in selling meat direct to consumers. This session will explore the challenges and opportunities that exist around this. A particular focus will be on access to processing facilities and margins.\n\nAs well as these sessions\, Cabinet Secretary for Rural Affairs and the Islands\, Mairi Gougeon\, will update on Scotland’s Agritourism Strategy; Vikki Millar\, Visit Scotland Marketing Director\, will share data showing the impact of Scottish tourism on the agritourism sector and there will be an update on the overall activity of Scottish Agritourism during the previous 12 months.  \nThroughout the programme you can expect: \n\nInspirational industry speakers and stories\nBreak out sessions by region and agritourism type\nSupplier exhibition\nSuperb networking opportunities\, including a drinks reception and evening dinner
URL:https://investinangus.com/event/scottish-agritourism-conference-2022/
LOCATION:Perth Concert Hall\, Mill Street\, Perth\, PH1 5HZ
CATEGORIES:Food & Drink,Networking,Tourism
END:VEVENT
BEGIN:VEVENT
DTSTART;TZID=UTC:20221206T093000
DTEND;TZID=UTC:20221206T130000
DTSTAMP:20260421T232749
CREATED:20221123T172832Z
LAST-MODIFIED:20221123T172832Z
UID:10085915-1670319000-1670331600@investinangus.com
SUMMARY:Developing Your International digital/eCommerce strategy
DESCRIPTION:This webinar will cover the following areas: \n\nGlobal E-Commerce Market Overview\nInternational E-Commerce Growth Dynamics\nKey Digital Strategy Considerations\, including – Audience Insight; Digital Marketing; Trading Platforms; Warehousing & Fulfilment; Customer Support; User Experience & Conversion; Payment Processing; Delivery\n\nAs a result of attending this webinar you will obtain a clearer understanding of the key strategy components of a successful international e-commerce business.
URL:https://investinangus.com/event/developing-your-international-digital-ecommerce-strategy-2/
CATEGORIES:Digital Marketing,International Trade
END:VEVENT
BEGIN:VEVENT
DTSTART;TZID=UTC:20221206T100000
DTEND;TZID=UTC:20221206T120000
DTSTAMP:20260421T232749
CREATED:20221121T102447Z
LAST-MODIFIED:20221121T102447Z
UID:10085894-1670320800-1670328000@investinangus.com
SUMMARY:Pinterest for business
DESCRIPTION:A commonly used tool for those researching products and services for personal life (clothing ideas\, holidays inspiration\, cooking alternatives!)\, but how can it benefit your business? Move from being a beginner to knowing enough to gain commercial benefit from the use of Pinterest. \nDuring this webinar we’ll help you better understand: \n\nWho is using Pinterest and what are they looking for?\nHow to setup your business profile\nKey features to use within Pinterest\nMeasuring success and engagement
URL:https://investinangus.com/event/pinterest-for-business-22/
CATEGORIES:Digital Marketing
END:VEVENT
BEGIN:VEVENT
DTSTART;TZID=UTC:20221206T120000
DTEND;TZID=UTC:20221206T140000
DTSTAMP:20260421T232749
CREATED:20221128T103701Z
LAST-MODIFIED:20221128T103701Z
UID:10085945-1670328000-1670335200@investinangus.com
SUMMARY:How to protect and manage your intellectual property
DESCRIPTION:You have invested time\, energy\, and money into your project\, however\, have you protected the innovation? \nFollowing this webinar\, you will understand how to manage your intellectual property (IP) or how to start the process of registering it. \nTopics covered include: \n\nWhat are intellectual assets (IA)?\nWhat is intellectual property (IP)?\nHow to use IP (in the real world)\nWhere to get more insight and information\n\nParticipants will leave with: \n\nAn understanding that all businesses create IA/IP\nA framework of knowledge about IP\nA little more knowledge about the diverse types of IP\nAn insight into how to identify\, protect and exploit IP/IA\nContext of why IP/IA matters\nLinks to useful learning resources
URL:https://investinangus.com/event/how-to-protect-and-manage-your-intellectual-property-6/
CATEGORIES:Business Planning,Legislation
END:VEVENT
BEGIN:VEVENT
DTSTART;TZID=UTC:20221206T180000
DTEND;TZID=UTC:20221206T200000
DTSTAMP:20260421T232749
CREATED:20220912T103631Z
LAST-MODIFIED:20220912T103631Z
UID:10085449-1670349600-1670356800@investinangus.com
SUMMARY:Market Research Made Easy
DESCRIPTION:The workshop will look at: \n\nthe role of marketing in your business\nidentifying your target customers\nidentifying the strengths and weaknesses of your competitors\nmarket research\n\nThere will also be information on additional services from Business Gateway and details of other webinars which may be appropriate for you. \nThis webinar is for businesses based in Dundee\, Angus and Perth.
URL:https://investinangus.com/event/market-research-made-easy-7/
CATEGORIES:Business Planning,Marketing
END:VEVENT
BEGIN:VEVENT
DTSTART;TZID=UTC:20221206T180000
DTEND;TZID=UTC:20221206T200000
DTSTAMP:20260421T232749
CREATED:20221121T102534Z
LAST-MODIFIED:20221121T102534Z
UID:10085896-1670349600-1670356800@investinangus.com
SUMMARY:Instagram for business
DESCRIPTION:Thinking about using Instagram to communicate with existing and potential customers? Want to showcase your products or services using it? During this webinar we will cover: \n\nGetting the setup right and benefitting from the available business tools.\nBest practice profiles\, and some strategies to help your business stand out from the crowd.\nThe types of audience you can reach via this platform and the factors and analytics such as cost and timing of posting images and how that can maximise impact.\nThe various types of content you can post to Instagram\, from regular posts to Stories and Reels.
URL:https://investinangus.com/event/instagram-for-business-22/
CATEGORIES:Digital Marketing
END:VEVENT
END:VCALENDAR