BEGIN:VCALENDAR
VERSION:2.0
PRODID:-//Invest in Angus - ECPv6.15.17.1//NONSGML v1.0//EN
CALSCALE:GREGORIAN
METHOD:PUBLISH
X-WR-CALNAME:Invest in Angus
X-ORIGINAL-URL:https://investinangus.com
X-WR-CALDESC:Events for Invest in Angus
REFRESH-INTERVAL;VALUE=DURATION:PT1H
X-Robots-Tag:noindex
X-PUBLISHED-TTL:PT1H
BEGIN:VTIMEZONE
TZID:UTC
BEGIN:STANDARD
TZOFFSETFROM:+0000
TZOFFSETTO:+0000
TZNAME:UTC
DTSTART:20210101T000000
END:STANDARD
END:VTIMEZONE
BEGIN:VEVENT
DTSTART;TZID=UTC:20221213T100000
DTEND;TZID=UTC:20221213T120000
DTSTAMP:20260421T232910
CREATED:20221128T104636Z
LAST-MODIFIED:20221128T104636Z
UID:10085959-1670925600-1670932800@investinangus.com
SUMMARY:An introduction to business websites & what you need to consider
DESCRIPTION:This webinar will take you through all the steps required to design\, build and host a business website. You will learn about: \n\nThe need to determine website objectives\nThe importance of knowing who your audience is and measuring results\nSetting clear calls to action and creating engaging content\nCreating your brand’s visual identity online\, your site’s blueprint and how you can structure your site map\nWhat’s involved in registering your domain\, maintaining your site content\, and options for hosting it\n\nThis webinar will also offer guidance on when and how to outsource your website development. Covering topics such as choosing a suitable content management system\, what to organise first and costing for the work.
URL:https://investinangus.com/event/an-introduction-to-business-websites-what-you-need-to-consider-19/
CATEGORIES:Digital Marketing
END:VEVENT
BEGIN:VEVENT
DTSTART;TZID=UTC:20221213T120000
DTEND;TZID=UTC:20221213T140000
DTSTAMP:20260421T232910
CREATED:20221128T104725Z
LAST-MODIFIED:20221128T104725Z
UID:10085961-1670932800-1670940000@investinangus.com
SUMMARY:How to write and develop your business plan
DESCRIPTION:New and established businesses will require a business plan for getting a loan\, grant or just to consider the direction they wish to go in. This webinar will teach you what you need to include and how. We will walk you through what should be included within a business plan\, how a business plan is used to improve your prospects for a loan or a grant\, and how you can develop a business plan to meet your needs. \nWe will: \n\nProvide a structure for a business plan\nReview each section of what should be included within the business plan\nExplain when and how to use a business plan\nExplore the connections (and importance) between the words and the numbers\nLook at how to identify and manage cashflow within the business planning process
URL:https://investinangus.com/event/how-to-write-and-develop-your-business-plan-8/
CATEGORIES:Business Planning
END:VEVENT
BEGIN:VEVENT
DTSTART;TZID=UTC:20221213T140000
DTEND;TZID=UTC:20221213T160000
DTSTAMP:20260421T232910
CREATED:20221128T104817Z
LAST-MODIFIED:20221128T104817Z
UID:10085963-1670940000-1670947200@investinangus.com
SUMMARY:The basics of trading on eBay\, Etsy and Amazon Marketplaces
DESCRIPTION:As a consumer\, you’ve almost certainly purchased online from one of the global marketplaces such as eBay\, Etsy or Amazon\, so why wouldn’t your customers do the same and buy from you? \nWe will cover:\n \n\nWhy to sell via a Marketplace\, your own website\, or both\nChoosing the right Marketplace – looking specifically at eBay\, Etsy and Amazon\n\nUnderstanding Profit Margins and how Marketplace fees affect them\n\nAn overview of some of the rules and regulations enforced by these platforms\nTrading internationally – what’s possible?\n\nYou’ll leave with a better understanding of how online marketplaces can help you reach your target audience\, which marketplace is best for you\, and how to get started selling quickly and easily.
URL:https://investinangus.com/event/the-basics-of-trading-on-ebay-etsy-and-amazon-marketplaces-6/
CATEGORIES:Digital Marketing
END:VEVENT
BEGIN:VEVENT
DTSTART;TZID=UTC:20221213T143000
DTEND;TZID=UTC:20221213T153000
DTSTAMP:20260421T232910
CREATED:20221206T101839Z
LAST-MODIFIED:20221206T101839Z
UID:10086010-1670941800-1670945400@investinangus.com
SUMMARY:Scale-Up Visa Route
DESCRIPTION:The government has recently introduced the Scale-Up visa route\, which gives certain employers another visa option to help access international talent. \nJoin us to learn more about this new route and how it could help you access international talent.
URL:https://investinangus.com/event/scale-up-visa-route-2/
CATEGORIES:HR,Recruitment
END:VEVENT
BEGIN:VEVENT
DTSTART;TZID=UTC:20221213T180000
DTEND;TZID=UTC:20221213T200000
DTSTAMP:20260421T232910
CREATED:20220912T103910Z
LAST-MODIFIED:20220912T103910Z
UID:10085455-1670954400-1670961600@investinangus.com
SUMMARY:How to Write a Business Plan and why you need one
DESCRIPTION:This webinar will help you create a robust business plan. \nThe webinar will look at: \n\ncreating a description for your business\nthe business planning process\nefficient ways of obtaining skills and resources\npresenting your business plan\n\nThere will also be information on additional services from Business Gateway and details of other webinars which may be appropriate for you.  \nThis webinar is for businesses based in Dundee\, Angus and Perth.
URL:https://investinangus.com/event/how-to-write-a-business-plan-and-why-you-need-one-9/
CATEGORIES:Business Planning
END:VEVENT
END:VCALENDAR