BEGIN:VCALENDAR
VERSION:2.0
PRODID:-//Invest in Angus - ECPv6.15.17.1//NONSGML v1.0//EN
CALSCALE:GREGORIAN
METHOD:PUBLISH
X-ORIGINAL-URL:https://investinangus.com
X-WR-CALDESC:Events for Invest in Angus
REFRESH-INTERVAL;VALUE=DURATION:PT1H
X-Robots-Tag:noindex
X-PUBLISHED-TTL:PT1H
BEGIN:VTIMEZONE
TZID:UTC
BEGIN:STANDARD
TZOFFSETFROM:+0000
TZOFFSETTO:+0000
TZNAME:UTC
DTSTART:20210101T000000
END:STANDARD
END:VTIMEZONE
BEGIN:VEVENT
DTSTART;TZID=UTC:20221214T100000
DTEND;TZID=UTC:20221214T120000
DTSTAMP:20260421T214604
CREATED:20221128T104900Z
LAST-MODIFIED:20221128T104900Z
UID:10085965-1671012000-1671019200@investinangus.com
SUMMARY:Get impact & engagement with social media analytics
DESCRIPTION:Facebook\, Instagram\, Twitter\, LinkedIn & Pinterest are widely used social platforms\, but often account owners aren’t looking at the metrics provided within them. Those metrics will inform you of reach\, impressions\, demographics and more\, all of which can help towards improving the impact of your posting and targeting. \nThis webinar will help you understand how to access those metrics\, and how to use them to improve your social media delivery.
URL:https://investinangus.com/event/get-impact-engagement-with-social-media-analytics-19/
CATEGORIES:Digital Marketing
END:VEVENT
BEGIN:VEVENT
DTSTART;TZID=UTC:20221214T100000
DTEND;TZID=UTC:20221214T120000
DTSTAMP:20260421T214604
CREATED:20221212T101712Z
LAST-MODIFIED:20221212T101712Z
UID:10086032-1671012000-1671019200@investinangus.com
SUMMARY:Build your brand and promotional graphics
DESCRIPTION:This webinar will define what a brand is (and is not) and explain how it is more than just creating a logo. We will explore how a business can use their brand to show its identity\, purpose\, personality\, message\, and values in order to stand out from competitors\, build a loyal customer base and make more sales. \nThis session will: \n\nProvide you with a clear understanding of the difference between brands and branding\nHelp you understand what a brand is\nShow you why branding is important\nLook at your brand strategy\, brand identity and action\nHelp you learn how to develop your brand’s positioning\, character\, and purpose to differentiate your business from its competitors\nDemonstrate how to set up a brand kit and style guide to ensure consistency across websites\, social media\, business cards\, posters etc.\nTeach you how to create simple promotional graphics using a variety of tools including Canva\nHighlight a variety of free tools including Google Drive\, Hubspot and Mailchimp that can save time and simplify marketing tasks
URL:https://investinangus.com/event/build-your-brand-and-promotional-graphics-6/
CATEGORIES:Digital Marketing,Marketing
END:VEVENT
BEGIN:VEVENT
DTSTART;TZID=UTC:20221214T140000
DTEND;TZID=UTC:20221214T160000
DTSTAMP:20260421T214604
CREATED:20221128T104945Z
LAST-MODIFIED:20221128T104945Z
UID:10085967-1671026400-1671033600@investinangus.com
SUMMARY:Upgrade your business marketing with a CRM system
DESCRIPTION:From organising how you reach new customers to tracking the new deals you close\, a Customer Relationship Management (CRM) system is a great tool to help your business grow. In this webinar\, we’ll show you how to connect a CRM to your website\, track potential new customers\, manage your business activities\, nurture your leads and track successful\, new business. \nBy the end of this webinar\, you will understand: \n\nWhat a CRM is\, why they’re important and the difference between some of the best CRMs offered to businesses.\nHow to use HubSpot\, a free CRM\, for managing contacts\, organising sales processes and creating reports.\nHow to improve your sales and marketing processes by using CRM task management\, meeting scheduling and email marketing.\nYour legal responsibilities when capturing customer information.
URL:https://investinangus.com/event/upgrade-your-business-marketing-with-a-crm-system-6/
CATEGORIES:Digital Marketing
END:VEVENT
BEGIN:VEVENT
DTSTART;TZID=UTC:20221214T143000
DTEND;TZID=UTC:20221214T153000
DTSTAMP:20260421T214604
CREATED:20221206T101943Z
LAST-MODIFIED:20221206T101943Z
UID:10086012-1671028200-1671031800@investinangus.com
SUMMARY:Latest updates on the low cost visa routes
DESCRIPTION:There are lots of low-cost visa routes under the UK’s points-based system. \nJoin TalentScotland for an update on affordable visa options\, including the Graduate\, High Potential Individual and Youth Mobility routes.
URL:https://investinangus.com/event/latest-updates-on-the-low-cost-visa-routes/
CATEGORIES:HR,Recruitment
END:VEVENT
END:VCALENDAR