BEGIN:VCALENDAR
VERSION:2.0
PRODID:-//Invest in Angus - ECPv6.15.17.1//NONSGML v1.0//EN
CALSCALE:GREGORIAN
METHOD:PUBLISH
X-WR-CALNAME:Invest in Angus
X-ORIGINAL-URL:https://investinangus.com
X-WR-CALDESC:Events for Invest in Angus
REFRESH-INTERVAL;VALUE=DURATION:PT1H
X-Robots-Tag:noindex
X-PUBLISHED-TTL:PT1H
BEGIN:VTIMEZONE
TZID:UTC
BEGIN:STANDARD
TZOFFSETFROM:+0000
TZOFFSETTO:+0000
TZNAME:UTC
DTSTART:20210101T000000
END:STANDARD
END:VTIMEZONE
BEGIN:VEVENT
DTSTART;TZID=UTC:20221215T090000
DTEND;TZID=UTC:20221215T170000
DTSTAMP:20260421T233442
CREATED:20220912T103444Z
LAST-MODIFIED:20220912T103444Z
UID:10085445-1671094800-1671123600@investinangus.com
SUMMARY:Finance 1-2-1 Surgery Sessions
DESCRIPTION:Take this opportunity to discuss your finance queries with our finance specialist\, Scott Geddes. Gain clarity on the start-up and running costs for your business or discuss how to make your business profitable and financially viable. \nBrush up on some financial basics by learning how to create a cash-flow forecast and better understand your business’s profit and loss accounts. If you’re getting ready to apply for funding\, lean on Scott’s experience to understand what lenders are looking for. \nBecome aware of your financial commitments\, as they can differ depending on your business type. \nOnce you have booked your space online\, one of our team will be in touch to discuss an appointment time with you and send you further information. These sessions can take place online via Zoom or alternatively\, face to face in our Dundee Business Gateway Office. \nThese appointments are aimed at businesses based in Dundee\, Angus\, and Perth.
URL:https://investinangus.com/event/finance-1-2-1-surgery-sessions-4/
CATEGORIES:Finance
END:VEVENT
BEGIN:VEVENT
DTSTART;TZID=UTC:20221215T100000
DTEND;TZID=UTC:20221215T123000
DTSTAMP:20260421T233442
CREATED:20221206T100819Z
LAST-MODIFIED:20221206T100819Z
UID:10085997-1671098400-1671107400@investinangus.com
SUMMARY:Become a CPD-certified Green Champion
DESCRIPTION:Rising energy costs\, the climate emergency and increasing consumer pressure continue to impact businesses and challenges the way they manage their environmental performance. \nThe good news is Business Energy Scotland’s Green Champions training course has already helped over 4\,000 professionals from organisations across Scotland to prepare for this challenge. \nAnd this is your chance to join them. This webinar will pack the entire Green Champions foundation modules into one session and provide you with the skills and knowledge needed to grow a green\, profitable businesses.
URL:https://investinangus.com/event/become-a-cpd-certified-green-champion/
CATEGORIES:Green Economy
END:VEVENT
BEGIN:VEVENT
DTSTART;TZID=UTC:20221215T170000
DTEND;TZID=UTC:20221215T190000
DTSTAMP:20260421T233442
CREATED:20221128T105109Z
LAST-MODIFIED:20221128T105109Z
UID:10085969-1671123600-1671130800@investinangus.com
SUMMARY:HR – Recruiting\, managing\, and retaining staff
DESCRIPTION:One of the scariest things you can do as a business is take on staff – from hiring\, interviewing\, payroll\, pensions\, contracts\, remote working and more\, it is a minefield for the business owner. \nThis webinar will allow you to have the key information in your possession to take on staff and manage your team. \nTopics covered: \n\nRecruiting\, managing\, and retaining staff\nAttracting and recruiting the best and right people for our business\nOur obligations as employers\nManaging people to stay with us\nMoving on\nDismissal\nRestructure/Redundancy\n\nWe will also look at: \n\nHow in the current climate you can manage staff and teams in a remote environment\, considering their productivity\, efficiency\, and the issues of home working\nHow you can best manage staff to ensure productivity is kept and mental health is supported\nThe impact of companies who may be considering restructuring and therefore redundancy for the first time and how that can be managed
URL:https://investinangus.com/event/hr-recruiting-managing-and-retaining-staff-7/
CATEGORIES:HR,Recruitment
END:VEVENT
BEGIN:VEVENT
DTSTART;TZID=UTC:20221215T180000
DTEND;TZID=UTC:20221215T200000
DTSTAMP:20260421T233442
CREATED:20220912T103955Z
LAST-MODIFIED:20220912T103955Z
UID:10085457-1671127200-1671134400@investinangus.com
SUMMARY:An Introduction to Bookkeeping
DESCRIPTION:This workshop will explain: \n\nwhat financial records are needed\nthe broad principles and procedures of accounting systems\nhow to choose accounting systems – both manual and computerised\nwhich financial statements and statutory returns are relevant to your business\ndifferent accounting periods and financial years\nhow to use financial records for monitoring the financial state of your business\ncash flow forecasting\, profit and loss statements as well as what they should contain\nwhat financial measures and forecasts are needed by your business\nwhat information on financial record keeping is available and from whom\n\nBy the end of the workshop you will be able to introduce or improve your financial record keeping system and improve how you manage your finances. \nThis webinar is for businesses in Dundee\, Angus and Perth.
URL:https://investinangus.com/event/an-introduction-to-bookkeeping-7/
CATEGORIES:Finance
END:VEVENT
END:VCALENDAR