BEGIN:VCALENDAR
VERSION:2.0
PRODID:-//Invest in Angus - ECPv6.15.17.1//NONSGML v1.0//EN
CALSCALE:GREGORIAN
METHOD:PUBLISH
X-WR-CALNAME:Invest in Angus
X-ORIGINAL-URL:https://investinangus.com
X-WR-CALDESC:Events for Invest in Angus
REFRESH-INTERVAL;VALUE=DURATION:PT1H
X-Robots-Tag:noindex
X-PUBLISHED-TTL:PT1H
BEGIN:VTIMEZONE
TZID:UTC
BEGIN:STANDARD
TZOFFSETFROM:+0000
TZOFFSETTO:+0000
TZNAME:UTC
DTSTART:20220101T000000
END:STANDARD
END:VTIMEZONE
BEGIN:VEVENT
DTSTART;TZID=UTC:20230106T090000
DTEND;TZID=UTC:20230106T110000
DTSTAMP:20260421T175744
CREATED:20221220T094752Z
LAST-MODIFIED:20221220T094752Z
UID:10086108-1672995600-1673002800@investinangus.com
SUMMARY:The low-cost guide to marketing your business
DESCRIPTION:When budgets are tight\, it can be difficult to find the funds for marketing. This webinar will offer marketing tips and advice that you can then use across your business – without bursting the bank! \nWe will look at: \n\nHow marketing extends way beyond what most businesses consider it to be and how it provides opportunities for businesses to make transformational change with little or minimal extra spend\nIdentifying marketing priorities and using these to reshape your business.\nThe marketing mix as a tool for reviewing how your business plans and delivers its marketing activity\nHow your marketing activity is delivered successfully and effectively in your business\nA series of top tips including the importance of understanding your customers\, the core components of a brand\, the value of strong and consistent branding\, the value of a clear focus and the power of creativity\nThe many options available with traditional Advertising and Promotion as a way a company communicates what it does and what it can offer customers\, but also looking how this has changed in a world where marketing has moved online\nThe foundations of effective marketing in a digital age\, looking at how your business can grasp new ways of marketing such as social media\, web\, and digital PR
URL:https://investinangus.com/event/the-low-cost-guide-to-marketing-your-business-8/
CATEGORIES:Digital Marketing,Marketing
END:VEVENT
BEGIN:VEVENT
DTSTART;TZID=UTC:20230106T120000
DTEND;TZID=UTC:20230106T140000
DTSTAMP:20260421T175744
CREATED:20221212T101804Z
LAST-MODIFIED:20221212T101804Z
UID:10086034-1673006400-1673013600@investinangus.com
SUMMARY:Cloud essentials for business
DESCRIPTION:Business owners and managers are busy. You’re wearing many hats\, and your time is always in short supply. Cloud-based digital tools help you to run a more productive business by embracing the right digital processes. \nWe’ll focus on exploring a range of tools on the market which will help you to enhance your customer service operation\, improve your project management\, organise your digital storage and much more. By the end of this webinar\, you will be able to: \n\nUnderstand what the cloud is and what its benefits are\nUnderstand your own ‘digital back office’\nUse up-to-date knowledge on current cloud services and tools to help you with your business operations\nMake informed decisions about improving your digital processes based on scalability\, security\, efficiency and affordability
URL:https://investinangus.com/event/cloud-essentials-for-business/
CATEGORIES:Technology
END:VEVENT
END:VCALENDAR