BEGIN:VCALENDAR
VERSION:2.0
PRODID:-//Invest in Angus - ECPv6.15.17.1//NONSGML v1.0//EN
CALSCALE:GREGORIAN
METHOD:PUBLISH
X-ORIGINAL-URL:https://investinangus.com
X-WR-CALDESC:Events for Invest in Angus
REFRESH-INTERVAL;VALUE=DURATION:PT1H
X-Robots-Tag:noindex
X-PUBLISHED-TTL:PT1H
BEGIN:VTIMEZONE
TZID:UTC
BEGIN:STANDARD
TZOFFSETFROM:+0000
TZOFFSETTO:+0000
TZNAME:UTC
DTSTART:20220101T000000
END:STANDARD
END:VTIMEZONE
BEGIN:VEVENT
DTSTART;TZID=UTC:20230110T100000
DTEND;TZID=UTC:20230110T120000
DTSTAMP:20260421T234339
CREATED:20221212T102026Z
LAST-MODIFIED:20221212T102026Z
UID:10086040-1673344800-1673352000@investinangus.com
SUMMARY:Twitter for business
DESCRIPTION:This webinar will help you develop and hone your social media strategy in order to amplify your message using Twitter. You will gain a deeper understanding of where Twitter fits into your overall plan\, and how it differs from other platforms. \nYou will also learn about: \n\nWhat makes a good Twitter profile (and the options available to you).\nTwitter best practice content and what makes the perfect tweet.\nDashboards such as Hootsuite to help you manage and integrate your social media accounts and schedule content.\nAdvanced techniques for social listening and pro-actively finding content and customers.\nThe basics of Twitter paid advertising.
URL:https://investinangus.com/event/twitter-for-business-18/
CATEGORIES:Digital Marketing
END:VEVENT
BEGIN:VEVENT
DTSTART;TZID=UTC:20230110T150000
DTEND;TZID=UTC:20230110T170000
DTSTAMP:20260421T234339
CREATED:20221220T094928Z
LAST-MODIFIED:20221220T094928Z
UID:10086112-1673362800-1673370000@investinangus.com
SUMMARY:The essentials of bookkeeping and what expenses you can claim
DESCRIPTION:This webinar is for those who are entering business for the first time or require an understanding of what is involved in financially managing a business\, including basic bookkeeping\, and creating a profit and loss account. You will also get an understanding of what expenses the business can claim and then how to fund your business. At the end of the session\, you will receive a workbook on excel to help you manage and monitor costs and sales. \nAt the end of this session\, you will be able to: \n\nImplement basic bookkeeping skills across your business\nCreate a profit and loss account\nUnderstand what expenses can and cannot be claimed\nUse financial management to increase revenues and profits\nUnderstand capital and revenue costs and how they are treated
URL:https://investinangus.com/event/the-essentials-of-bookkeeping-and-what-expenses-you-can-claim-9/
CATEGORIES:Finance
END:VEVENT
BEGIN:VEVENT
DTSTART;TZID=UTC:20230110T180000
DTEND;TZID=UTC:20230110T200000
DTSTAMP:20260421T234339
CREATED:20221212T102113Z
LAST-MODIFIED:20221212T102113Z
UID:10086042-1673373600-1673380800@investinangus.com
SUMMARY:An Introduction to Self-Employment and Starting your own Business
DESCRIPTION:The workshop will provide you with the opportunity to network with other business owners and will also highlight useful sources of information\, advice and guidance. \nThere will also be information on additional services from Business Gateway and details of other webinars which may be appropriate for you.  \nThis webinar is for businesses based in Dundee\, Angus and Perth.
URL:https://investinangus.com/event/an-introduction-to-self-employment-and-starting-your-own-business-10/
CATEGORIES:Business Start-up
END:VEVENT
BEGIN:VEVENT
DTSTART;TZID=UTC:20230110T180000
DTEND;TZID=UTC:20230110T200000
DTSTAMP:20260421T234339
CREATED:20221212T102157Z
LAST-MODIFIED:20221212T102157Z
UID:10086044-1673373600-1673380800@investinangus.com
SUMMARY:Producing engaging online content
DESCRIPTION:Producing quality content is an excellent way of helping your customers develop a meaningful relationship with your brand\, services and products. In this webinar we will show you how to source and develop a variety of content for your website and social channels. Ideal for businesses that already have a business website or use social media and now want to take it a step further\, and develop the skills to show your audience that you are a trusted operator in your field. \nThis session will help you: \n\nUnderstand what kind of content your customers are looking for\nSource\, write and deliver that content\nAmplify your brand and message and boost engagement online
URL:https://investinangus.com/event/producing-engaging-online-content-21/
CATEGORIES:Digital Marketing
END:VEVENT
END:VCALENDAR