BEGIN:VCALENDAR
VERSION:2.0
PRODID:-//Invest in Angus - ECPv6.15.17.1//NONSGML v1.0//EN
CALSCALE:GREGORIAN
METHOD:PUBLISH
X-ORIGINAL-URL:https://investinangus.com
X-WR-CALDESC:Events for Invest in Angus
REFRESH-INTERVAL;VALUE=DURATION:PT1H
X-Robots-Tag:noindex
X-PUBLISHED-TTL:PT1H
BEGIN:VTIMEZONE
TZID:UTC
BEGIN:STANDARD
TZOFFSETFROM:+0000
TZOFFSETTO:+0000
TZNAME:UTC
DTSTART:20220101T000000
END:STANDARD
END:VTIMEZONE
BEGIN:VEVENT
DTSTART;TZID=UTC:20230111T093000
DTEND;TZID=UTC:20230111T170000
DTSTAMP:20260421T234440
CREATED:20221212T102246Z
LAST-MODIFIED:20221212T102246Z
UID:10086046-1673429400-1673456400@investinangus.com
SUMMARY:HR 1-2-1 Surgery Sessions
DESCRIPTION:With an academic background in business law & HR management\, Skye is the perfect resource to offer confidential\, impartial advice for businesses of all sizes and sectors. Whether you’re looking to hire your first employee\, looking to review your workplace policies or dealing with complex employee issues – no challenge is too big or too small. \nOnce you have booked your space online\, one of our team will be in touch to discuss an appointment time with you and send you further information. These sessions can take place online via Zoom or alternatively\, face to face in our Dundee Business Gateway Office. \nThese appointments are aimed at businesses based in Dundee\, Angus\, and Perth.
URL:https://investinangus.com/event/hr-1-2-1-surgery-sessions/
CATEGORIES:HR
END:VEVENT
BEGIN:VEVENT
DTSTART;TZID=UTC:20230111T100000
DTEND;TZID=UTC:20230111T120000
DTSTAMP:20260421T234440
CREATED:20221212T102328Z
LAST-MODIFIED:20221212T102328Z
UID:10086048-1673431200-1673438400@investinangus.com
SUMMARY:Pinterest for business
DESCRIPTION:A commonly used tool for those researching products and services for personal life (clothing ideas\, holidays inspiration\, cooking alternatives!)\, but how can it benefit your business? Move from being a beginner to knowing enough to gain commercial benefit from the use of Pinterest. \nDuring this webinar we’ll help you better understand: \n\nWho is using Pinterest and what are they looking for?\nHow to setup your business profile\nKey features to use within Pinterest\nMeasuring success and engagement
URL:https://investinangus.com/event/pinterest-for-business-23/
CATEGORIES:Digital Marketing
END:VEVENT
BEGIN:VEVENT
DTSTART;TZID=UTC:20230111T140000
DTEND;TZID=UTC:20230111T160000
DTSTAMP:20260421T234440
CREATED:20221212T102414Z
LAST-MODIFIED:20221212T102414Z
UID:10086050-1673445600-1673452800@investinangus.com
SUMMARY:Facebook for business
DESCRIPTION:Get to grips with Facebook – the world’s most popular social networking platform. \nIn this webinar you will: \n\nLearn how to get the most out of Facebook and how it could fit into your business’s digital marketing strategy.\nBetter understand the algorithm behind Facebook\, and how to create great content that achieves a bigger reach and impact.\nLearn from the stats and data you can get from the system and discover who your most interested customers/clients are.\nUnderstand the power of Facebook advertising\, and other selling options available to you.\nDiscover other business opportunities presented by Facebook\, including how to promote and sell products and services.\nBe introduced to ‘Business Suite’ – a free Facebook dashboard to manage all your business activity.
URL:https://investinangus.com/event/facebook-for-business-25/
CATEGORIES:Digital Marketing
END:VEVENT
END:VCALENDAR