BEGIN:VCALENDAR
VERSION:2.0
PRODID:-//Invest in Angus - ECPv6.15.17.1//NONSGML v1.0//EN
CALSCALE:GREGORIAN
METHOD:PUBLISH
X-WR-CALNAME:Invest in Angus
X-ORIGINAL-URL:https://investinangus.com
X-WR-CALDESC:Events for Invest in Angus
REFRESH-INTERVAL;VALUE=DURATION:PT1H
X-Robots-Tag:noindex
X-PUBLISHED-TTL:PT1H
BEGIN:VTIMEZONE
TZID:UTC
BEGIN:STANDARD
TZOFFSETFROM:+0000
TZOFFSETTO:+0000
TZNAME:UTC
DTSTART:20220101T000000
END:STANDARD
END:VTIMEZONE
BEGIN:VEVENT
DTSTART;TZID=UTC:20230112T080000
DTEND;TZID=UTC:20230112T100000
DTSTAMP:20260421T233232
CREATED:20221220T095016Z
LAST-MODIFIED:20221220T095016Z
UID:10086114-1673510400-1673517600@investinangus.com
SUMMARY:How to protect and manage your intellectual property
DESCRIPTION:You have invested time\, energy\, and money into your project\, however\, have you protected the innovation? \nFollowing this webinar\, you will understand how to manage your intellectual property (IP) or how to start the process of registering it. \nTopics covered include: \n\nWhat are intellectual assets (IA)?\nWhat is intellectual property (IP)?\nHow to use IP (in the real world)\nWhere to get more insight and information\n\nParticipants will leave with: \n\nAn understanding that all businesses create IA/IP\nA framework of knowledge about IP\nA little more knowledge about the diverse types of IP\nAn insight into how to identify\, protect and exploit IP/IA\nContext of why IP/IA matters\nLinks to useful learning resources
URL:https://investinangus.com/event/how-to-protect-and-manage-your-intellectual-property-7/
CATEGORIES:Legislation
END:VEVENT
BEGIN:VEVENT
DTSTART;TZID=UTC:20230112T140000
DTEND;TZID=UTC:20230112T160000
DTSTAMP:20260421T233232
CREATED:20221220T095109Z
LAST-MODIFIED:20221220T095109Z
UID:10086116-1673532000-1673539200@investinangus.com
SUMMARY:Build your brand and promotional graphics
DESCRIPTION:This webinar will define what a brand is (and is not) and explain how it is more than just creating a logo. We will explore how a business can use their brand to show its identity\, purpose\, personality\, message\, and values in order to stand out from competitors\, build a loyal customer base and make more sales. \nThis session will: \n\nProvide you with a clear understanding of the difference between brands and branding\nHelp you understand what a brand is\nShow you why branding is important\nLook at your brand strategy\, brand identity and action\nHelp you learn how to develop your brand’s positioning\, character\, and purpose to differentiate your business from its competitors\nDemonstrate how to set up a brand kit and style guide to ensure consistency across websites\, social media\, business cards\, posters etc.\nTeach you how to create simple promotional graphics using a variety of tools including Canva\nHighlight a variety of free tools including Google Drive\, Hubspot and Mailchimp that can save time and simplify marketing tasks
URL:https://investinangus.com/event/build-your-brand-and-promotional-graphics-7/
CATEGORIES:Digital Marketing,Marketing
END:VEVENT
BEGIN:VEVENT
DTSTART;TZID=UTC:20230112T170000
DTEND;TZID=UTC:20230112T190000
DTSTAMP:20260421T233232
CREATED:20221212T102533Z
LAST-MODIFIED:20221212T102533Z
UID:10086052-1673542800-1673550000@investinangus.com
SUMMARY:e-Commerce with Shopify
DESCRIPTION:Shopify is a powerful all-in-one e-Commerce website builder that makes setting up an online store simple and straightforward. In this webinar\, we will explore Shopify’s features and pull together the building blocks for your first e-Commerce website. \nBy the end of this webinar\, you will be able to: \n\nUnderstand the essential features that a website needs to have to sell physical and digital products online\nUnderstand what Shopify is and how to use the features it offers to build a secure and powerful e-Commerce website\nUse the Shopify page builder and work with free themes to get the design and style of your website on-brand\nUnderstand how to manage orders and deliver great customer service\nUnderstand how to launch your new e-Commerce website and ensure all essential building blocks are in place using a pre-launch checklist\n\nShopify is a paid monthly subscription costing around £25 per month
URL:https://investinangus.com/event/e-commerce-with-shopify-7/
CATEGORIES:Digital Marketing
END:VEVENT
END:VCALENDAR