BEGIN:VCALENDAR
VERSION:2.0
PRODID:-//Invest in Angus - ECPv6.15.17.1//NONSGML v1.0//EN
CALSCALE:GREGORIAN
METHOD:PUBLISH
X-WR-CALNAME:Invest in Angus
X-ORIGINAL-URL:https://investinangus.com
X-WR-CALDESC:Events for Invest in Angus
REFRESH-INTERVAL;VALUE=DURATION:PT1H
X-Robots-Tag:noindex
X-PUBLISHED-TTL:PT1H
BEGIN:VTIMEZONE
TZID:UTC
BEGIN:STANDARD
TZOFFSETFROM:+0000
TZOFFSETTO:+0000
TZNAME:UTC
DTSTART:20220101T000000
END:STANDARD
END:VTIMEZONE
BEGIN:VEVENT
DTSTART;TZID=UTC:20230120T090000
DTEND;TZID=UTC:20230120T110000
DTSTAMP:20260421T175735
CREATED:20230109T095710Z
LAST-MODIFIED:20230109T095710Z
UID:10086166-1674205200-1674212400@investinangus.com
SUMMARY:Build an effective strategy to grow your business
DESCRIPTION:This webinar is practical\, outcome driven\, and designed to fit with the needs of small businesses in both B2C and B2B environments. It will help you develop a strategically led approach that can turbo charge business growth\, identify the core growth strategy(ies) that are right for your business\, and develop an action plan. \nWe will look at: \n\nYour business today – identifying your strengths and areas for development\nThe key pillars of a business and why balancing all areas is essential for success\nPersonal and business ambitions and using these to guide strategy development\nAnsoff’s Matrix as a tool for identifying core growth strategies\nThe core components of your business delivery\nHow to develop a methodical\, strategic approach to developing your business for future success\n\nAfter the webinar\, you will understand: \n\nHow to undertake a balanced review of where your business is that helps identify areas for development\nAnsoff’s Matrix and how to use it as a core strategic planning tool\nHow to create a strategic plan for growing your business
URL:https://investinangus.com/event/build-an-effective-strategy-to-grow-your-business-7/
CATEGORIES:Business Planning
END:VEVENT
BEGIN:VEVENT
DTSTART;TZID=UTC:20230120T133000
DTEND;TZID=UTC:20230120T163000
DTSTAMP:20260421T175735
CREATED:20230109T104806Z
LAST-MODIFIED:20230109T104806Z
UID:10086177-1674221400-1674232200@investinangus.com
SUMMARY:What is involved in building a successful international ready website
DESCRIPTION:This expert-led webinar covers everything you need to stay ahead of competitors by creating a globalised website and social media presence. \nThe session is designed as a guide for ambitious Scottish businesses planning to expand into new international marketplaces. \nYou’ll learn about the following topics: \n\nSelecting a domain\nRegistering with search engines\nChoosing a web host\nLanguage and localisation issues\nPayment and shipping\nLocalising your social media
URL:https://investinangus.com/event/what-is-involved-in-building-a-successful-international-ready-website/
CATEGORIES:Digital Marketing,International Trade
END:VEVENT
BEGIN:VEVENT
DTSTART;TZID=UTC:20230120T140000
DTEND;TZID=UTC:20230120T160000
DTSTAMP:20260421T175735
CREATED:20221212T103354Z
LAST-MODIFIED:20221212T103354Z
UID:10086072-1674223200-1674230400@investinangus.com
SUMMARY:Photography for online business
DESCRIPTION:During this webinar you will: \n\nDiscover the basic ‘dos and don’ts’ of taking your own pictures\, editing them and uploading them onto digital platforms.\nSee some real-life examples of posts that demonstrate good\, bad and indifferent use for businesses.
URL:https://investinangus.com/event/photography-for-online-business-20/
CATEGORIES:Digital Marketing
END:VEVENT
END:VCALENDAR