BEGIN:VCALENDAR
VERSION:2.0
PRODID:-//Invest in Angus - ECPv6.15.17.1//NONSGML v1.0//EN
CALSCALE:GREGORIAN
METHOD:PUBLISH
X-ORIGINAL-URL:https://investinangus.com
X-WR-CALDESC:Events for Invest in Angus
REFRESH-INTERVAL;VALUE=DURATION:PT1H
X-Robots-Tag:noindex
X-PUBLISHED-TTL:PT1H
BEGIN:VTIMEZONE
TZID:UTC
BEGIN:STANDARD
TZOFFSETFROM:+0000
TZOFFSETTO:+0000
TZNAME:UTC
DTSTART:20220101T000000
END:STANDARD
END:VTIMEZONE
BEGIN:VEVENT
DTSTART;TZID=UTC:20230125T090000
DTEND;TZID=UTC:20230125T110000
DTSTAMP:20260421T234335
CREATED:20221212T103738Z
LAST-MODIFIED:20221212T103738Z
UID:10086082-1674637200-1674644400@investinangus.com
SUMMARY:Making digital content accessible
DESCRIPTION:Everyone consumes and understands information differently\, with some facing additional challenges that aren’t always considered. In this webinar\, we’ll explore the challenges that people can have when accessing digital content and we’ll look at the ways you can improve your digital content to be inclusive and considerate for all. \nBy the end of this webinar\, you will be able to: \n\nUnderstand and consider the barriers and challenges faced by others when accessing digital content.\nAssess your digital content on how easy it is for others to access\, consume and understand.\nReview your website content with an understanding of what adjustments you should make to ensure that your content is catering to all.\nUse social media functions and tools to help make your content more accessible.\nUnderstand and use an ‘Accessibility Ready Checklist’ for any of your content to ensure you are designing and developing content for all of your audience.
URL:https://investinangus.com/event/making-digital-content-accessible-7/
CATEGORIES:Digital Marketing
END:VEVENT
BEGIN:VEVENT
DTSTART;TZID=UTC:20230125T090000
DTEND;TZID=UTC:20230125T130000
DTSTAMP:20260421T234335
CREATED:20230117T090549Z
LAST-MODIFIED:20230117T090549Z
UID:10086225-1674637200-1674651600@investinangus.com
SUMMARY:Fife & Tayside Procurement Surgery
DESCRIPTION:To support local suppliers in Angus\, Dundee City\, Fife and Perth & Kinross Councils\, Procurement Surgeries are hosted by each local authority on a rotating basis. \nLocal suppliers are invited to attend clinic appointments lasting 20 minutes\, available from 9:00am to 1:00pm by prior appointment only.  The appointments shall be conducted via Webex\, hosted by the Supplier Development Programme. \nProcurement Surgeries will: \n\nSignpost and prepare businesses to local support\, aiming to increase their confidence when tendering with the public sector;\nAssist suppliers in gaining knowledge of local supply chain opportunities across Fife and Tayside;\nHelp the Councils build relationships with suppliers and break down barriers to bidding;\nRaise awareness of the opportunities within public sector procurement\, such as Regulated Procurement Pipelines; and\nSupport suppliers in becoming “tender ready” with the Supplier Development Programme to better understand and respond to the “ask” from local authorities in procurement.\n\nBookings for Procurement Surgeries must be booked in advance by SMEs by logging into the SDP website and answering the required questions that are part of the booking process.
URL:https://investinangus.com/event/fife-tayside-procurement-surgery-2/
CATEGORIES:Procurement
END:VEVENT
BEGIN:VEVENT
DTSTART;TZID=UTC:20230125T120000
DTEND;TZID=UTC:20230125T140000
DTSTAMP:20260421T234335
CREATED:20230109T101727Z
LAST-MODIFIED:20230109T101727Z
UID:10086170-1674648000-1674655200@investinangus.com
SUMMARY:Lunch with Dr Susie Mitchell
DESCRIPTION:Join Scottish Women in Business for lunch as they kick off their quarterly topic of innovation and technology with guest speaker Dr Susie Mitchell\, Programme Director at Glasgow City of Science and Innovation. \nAbout Dr Mitchell: \n\nShe came to Glasgow in 1996 to undertake a PhD in cancer research at the University of Glasgow’s Beatson Institute for Cancer Research where she was awarded the John Paul Award for research excellence\nShe would then become an R&D manager within the NHS\, a public policy practitioner for local and national government\, and Accessibility and Inclusion lead for the Glasgow 2014 Commonwealth Games Organising Committee\nShe is a champion of diversity in STEM and in 2016 was recognised by Equate Scotland as a Leading Woman of Scotland for her contributions to STEM and Scotland’s advancement\nIn 2013\, she became Programme Director for Glasgow City of Science and Innovation – a regional innovation partnership that influences regional innovation strategy and delivers impact through a range of pioneering projects and programmes that support greater innovation in business to benefit people\, productivity and planet\nShe is a proud member of the Glasgow International Jazz Festival Board and outside work\, is a session musician and a presenter and contributor for the BBC.
URL:https://investinangus.com/event/lunch-with-dr-susie-mitchell/
LOCATION:Clayton Hotel\, 286 Clyde Street\, Glasgow\, G1 4AR
CATEGORIES:Networking
END:VEVENT
BEGIN:VEVENT
DTSTART;TZID=UTC:20230125T143000
DTEND;TZID=UTC:20230125T153000
DTSTAMP:20260421T234335
CREATED:20221206T102400Z
LAST-MODIFIED:20221206T102400Z
UID:10086020-1674657000-1674660600@investinangus.com
SUMMARY:Latest updates on the low cost visa routes
DESCRIPTION:There are lots of low-cost visa routes under the UK’s points-based system. \nJoin TalentScotland for an update on affordable visa options\, including the Graduate\, High Potential Individual and Youth Mobility routes.
URL:https://investinangus.com/event/latest-updates-on-the-low-cost-visa-routes-2/
CATEGORIES:HR,Recruitment
END:VEVENT
BEGIN:VEVENT
DTSTART;TZID=UTC:20230125T180000
DTEND;TZID=UTC:20230125T200000
DTSTAMP:20260421T234335
CREATED:20221212T103823Z
LAST-MODIFIED:20221212T103823Z
UID:10086084-1674669600-1674676800@investinangus.com
SUMMARY:The basics of trading on eBay\, Etsy and Amazon Marketplaces
DESCRIPTION:As a consumer\, you’ve almost certainly purchased online from one of the global marketplaces such as eBay\, Etsy or Amazon\, so why wouldn’t your customers do the same and buy from you? \nWe will cover:\n \n\nWhy to sell via a Marketplace\, your own website\, or both\nChoosing the right Marketplace – looking specificly at eBay\, Etsy and Amazon\n\nUnderstanding Profit Margins and how Marketplace fees affect them\n\nAn overview of some of the rules and regulations enforced by these platforms\nTrading internationally – what’s possible?\n\nYou’ll leave with a better understanding of how online marketplaces can help you reach your target audience\, which marketplace is best for you\, and how to get started selling quickly and easily.
URL:https://investinangus.com/event/the-basics-of-trading-on-ebay-etsy-and-amazon-marketplaces-7/
CATEGORIES:Digital Marketing
END:VEVENT
BEGIN:VEVENT
DTSTART;TZID=UTC:20230125T180000
DTEND;TZID=UTC:20230125T200000
DTSTAMP:20260421T234335
CREATED:20230116T091333Z
LAST-MODIFIED:20230116T091333Z
UID:10086207-1674669600-1674676800@investinangus.com
SUMMARY:Ready\, Steady\, Grow: How to Expand Your Business
DESCRIPTION:Are you a business that has been trading for less than five years? \nDo you realise your full potential? This is an opportunity for you to gain an outsider’s perspective\, which can be essential in realising the potential for your business to expand. \nWorking with our advisers\, you will analyse the current state of your business\, and identify key areas for growth. You will also be shown various tools that can be utilised to analyse your business’ performance. \nYou will leave this webinar feeling motivated\, with the knowledge of how to grow your business. You’ll now be able to set new goals\, that previously weren’t possible. \nIf you are an early-stage business looking to grow\, book your place now! \nThis webinar is for businesses located in Perth\, Dundee & Angus.
URL:https://investinangus.com/event/ready-steady-grow-how-to-expand-your-business-4/
CATEGORIES:Business Planning
END:VEVENT
END:VCALENDAR