BEGIN:VCALENDAR
VERSION:2.0
PRODID:-//Invest in Angus - ECPv6.15.17.1//NONSGML v1.0//EN
CALSCALE:GREGORIAN
METHOD:PUBLISH
X-WR-CALNAME:Invest in Angus
X-ORIGINAL-URL:https://investinangus.com
X-WR-CALDESC:Events for Invest in Angus
REFRESH-INTERVAL;VALUE=DURATION:PT1H
X-Robots-Tag:noindex
X-PUBLISHED-TTL:PT1H
BEGIN:VTIMEZONE
TZID:UTC
BEGIN:STANDARD
TZOFFSETFROM:+0000
TZOFFSETTO:+0000
TZNAME:UTC
DTSTART:20220101T000000
END:STANDARD
END:VTIMEZONE
BEGIN:VEVENT
DTSTART;TZID=UTC:20230126T093000
DTEND;TZID=UTC:20230126T123000
DTSTAMP:20260421T233319
CREATED:20230109T105757Z
LAST-MODIFIED:20230109T105757Z
UID:10086183-1674725400-1674736200@investinangus.com
SUMMARY:Fair Work Workshop
DESCRIPTION:Fair Work is an investment in everyone\, for everyone. Fair Work can improve productivity\, innovation\, organisational reputation and recruitment\, reduce staff turnover\, and lead to diverse workplaces with a richness of talent and a diversity of ideas. \nFor workers\, it increases financial security\, physical health and psychological wellbeing. For businesses\, it brings more engaged\, committed and adaptable workers who spot challenges and opportunities\, solve problems\, offer insight and ideas for business improvement\, and create value. \nWhat’s the event about? \nJoin this interactive online workshop to explore the five dimensions of Fair Work. \nGain practical tips and advice on where you can implement changes that will help your business in retaining and motivating staff and contribute to your business’s reputation as a fair and secure employer as well as potentially increase innovation and productivity. \nYou’ll also have the opportunity of a one to one follow up session with one of our workplace innovation specialist to discuss your action plan\, and you’ll be signposted to further support available from the Scottish Enterprise workplace innovation team and local partners. \nWho’s it for? \nThese workshops are for business leaders\, managers and change agents within growing businesses in Scotland.
URL:https://investinangus.com/event/fair-work-workshop/
CATEGORIES:HR
END:VEVENT
BEGIN:VEVENT
DTSTART;TZID=UTC:20230126T093000
DTEND;TZID=UTC:20230126T130000
DTSTAMP:20260421T233319
CREATED:20230109T105906Z
LAST-MODIFIED:20230109T105906Z
UID:10086186-1674725400-1674738000@investinangus.com
SUMMARY:LinkedIn to grow your business internationally
DESCRIPTION:There are now more than 830m business people worldwide and in excess of 34m in the UK who consider LinkedIn to be the pre-eminent business networking platform online. \nA key place online where professionals have the ability to connect\, develop their sales and market themselves\, their skills\, services and products. \nUsing many live demos\, this LinkedIn masterclass is designed for anyone looking to use LinkedIn more effectively and to ensure that you are best placed to use the power and opportunities of LinkedIn for you and your business\, giving you the know-how to market yourself\, increase your visibility & reputation and\, most importantly\, develop new international business on it. \nWe will be covering the following: \n\nKey Concepts and settings on LinkedIn to get the most out of it\nCreating a Profile which will market\, attract and sell for you\nTargeting prospects using the Advanced Search and other tools\nHow to best connect with people (and how not to)\nAdvertising on LinkedIn\nLinkedIn Groups\nDeveloping and Using your Company Pages to best effect
URL:https://investinangus.com/event/linkedin-to-grow-your-business-internationally/
CATEGORIES:Digital Marketing,International Trade
END:VEVENT
BEGIN:VEVENT
DTSTART;TZID=UTC:20230126T100000
DTEND;TZID=UTC:20230126T120000
DTSTAMP:20260421T233319
CREATED:20221212T103908Z
LAST-MODIFIED:20221212T103908Z
UID:10086086-1674727200-1674734400@investinangus.com
SUMMARY:Getting to grips with TikTok for Business
DESCRIPTION:The aim of this session is to go through the process of planning\, shooting and editing a short videos using the TikTok app. \nThe session covers creating ‘expert’ videos\, text videos\, using TikTok soundtracks\, creating voiceover videos\, and using transitions in videos.
URL:https://investinangus.com/event/getting-to-grips-with-tiktok-for-business/
CATEGORIES:Digital Marketing
END:VEVENT
BEGIN:VEVENT
DTSTART;TZID=UTC:20230126T140000
DTEND;TZID=UTC:20230126T160000
DTSTAMP:20260421T233319
CREATED:20221212T103955Z
LAST-MODIFIED:20221212T103955Z
UID:10086088-1674741600-1674748800@investinangus.com
SUMMARY:How to improve your Google search rankings - Part 2: Off page optimisation & technical considerations
DESCRIPTION:Join us as we take a further\, more detailed look at how the Google search engines indexes and ranks websites based on a number of external (off-page) and technical factors. Implementing this learning will increase your chances of customers discovering your business through Google – the world’s leading research tool. \nWe will cover: \n\nHow to block or control what websites are allowed to ‘index’\nThe importance of a fast loading mobile website\nHow security and usability influence Google\nWhat “off-page” optimisation means\, and tactics to generate back-links\nThe importance of Local SEO\, and why a “Google Business Profile” is vital
URL:https://investinangus.com/event/how-to-improve-your-google-search-rankings-part-2-off-page-optimisation-technical-considerations-6/
CATEGORIES:Digital Marketing
END:VEVENT
BEGIN:VEVENT
DTSTART;TZID=UTC:20230126T180000
DTEND;TZID=UTC:20230126T200000
DTSTAMP:20260421T233319
CREATED:20221212T104048Z
LAST-MODIFIED:20221212T104048Z
UID:10086090-1674756000-1674763200@investinangus.com
SUMMARY:An Introduction to Bookkeeping
DESCRIPTION:This workshop will explain: \n\nwhat financial records are needed\nthe broad principles and procedures of accounting systems\nhow to choose accounting systems – both manual and computerised\nwhich financial statements and statutory returns are relevant to your business\ndifferent accounting periods and financial years\nhow to use financial records for monitoring the financial state of your business\ncash flow forecasting\, profit and loss statements as well as what they should contain\nwhat financial measures and forecasts are needed by your business\nwhat information on financial record keeping is available and from whom\n\nBy the end of the workshop you will be able to introduce or improve your financial record keeping system and improve how you manage your finances.
URL:https://investinangus.com/event/an-introduction-to-bookkeeping-9/
CATEGORIES:Finance
END:VEVENT
END:VCALENDAR