BEGIN:VCALENDAR
VERSION:2.0
PRODID:-//Invest in Angus - ECPv6.15.17.1//NONSGML v1.0//EN
CALSCALE:GREGORIAN
METHOD:PUBLISH
X-ORIGINAL-URL:https://investinangus.com
X-WR-CALDESC:Events for Invest in Angus
REFRESH-INTERVAL;VALUE=DURATION:PT1H
X-Robots-Tag:noindex
X-PUBLISHED-TTL:PT1H
BEGIN:VTIMEZONE
TZID:UTC
BEGIN:STANDARD
TZOFFSETFROM:+0000
TZOFFSETTO:+0000
TZNAME:UTC
DTSTART:20220101T000000
END:STANDARD
END:VTIMEZONE
BEGIN:VEVENT
DTSTART;TZID=UTC:20230131T100000
DTEND;TZID=UTC:20230131T110000
DTSTAMP:20260421T161147
CREATED:20221206T101421Z
LAST-MODIFIED:20221206T101421Z
UID:10086004-1675159200-1675162800@investinangus.com
SUMMARY:The employee ownership landscape and view of the future
DESCRIPTION:Aimed at professional advisors\, this webinar series will explore different aspects of the subject to broaden your knowledge and support your clients to make informed decisions. The webinars are also relevant for business owners considering succession planning. \nIn this webinar\, Graeme Nuttall OBE will discuss best practice regarding the design and implementation of an EOT (Employee Ownership Trust). \nHe’ll give insights into current proposals to streamline and improve the EOT legislation — how it may look in the future\, and how the world of employee ownership may look in the future.
URL:https://investinangus.com/event/the-employee-ownership-landscape-and-view-of-the-future/
CATEGORIES:Business Planning
END:VEVENT
BEGIN:VEVENT
DTSTART;TZID=UTC:20230131T100000
DTEND;TZID=UTC:20230131T120000
DTSTAMP:20260421T161147
CREATED:20221212T104347Z
LAST-MODIFIED:20221212T104347Z
UID:10086098-1675159200-1675166400@investinangus.com
SUMMARY:Online Sales: Improve\, develop & make more money
DESCRIPTION:What’s the best way to sell your products online? The key to improving your online business is measuring its effectiveness – you can then take steps to optimise its performance. Should you be using your own eCommerce store or Amazon\, neither or both? This webinar will help you decide. \nWe will cover: \n\nFactors to consider when selling online.\nWhat eCommerce options exist\, and the benefits of each\nDifferences in available eCommerce platforms\nBenefits of automation\nKey items to optimise performance
URL:https://investinangus.com/event/online-sales-improve-develop-make-more-money-16/
CATEGORIES:Digital Marketing
END:VEVENT
BEGIN:VEVENT
DTSTART;TZID=UTC:20230131T103000
DTEND;TZID=UTC:20230131T120000
DTSTAMP:20260421T161147
CREATED:20230117T090713Z
LAST-MODIFIED:20230117T090713Z
UID:10086227-1675161000-1675166400@investinangus.com
SUMMARY:Planning Your Bid – Time and Resources
DESCRIPTION:The biggest learning curve in tendering is understanding the time\, energy\, and resources that go into creating a winning bid. \nThe more planning you do before writing your bid\, the easier you’ll find it when you begin your response. This training will walk you through the steps of how to plan and manage your bid. From capture planning to forming a bid team (this doesn’t necessarily need to be a full team\, it could be one person if they have the right skills) to making key decisions. \nOne of SDP’s expert trainers will also show an example of a Bid Time Plan and how to complete it. \nOverview of what you will learn: \n\nWhat work can be done pre-tender to make the process of creating the bid less stressful\nHow to make objective decisions while managing a bid\nHow to create a bid time plan\n\nAt the end of the session\, there will be an interactive Q&A session where you will have the opportunity to ask any burning questions you may have. As well as the chance to hear what other SME businesses in Scotland have to say.
URL:https://investinangus.com/event/planning-your-bid-time-and-resources/
CATEGORIES:Procurement
END:VEVENT
BEGIN:VEVENT
DTSTART;TZID=UTC:20230131T110000
DTEND;TZID=UTC:20230131T120000
DTSTAMP:20260421T161147
CREATED:20230109T110031Z
LAST-MODIFIED:20230109T110031Z
UID:10086188-1675162800-1675166400@investinangus.com
SUMMARY:An update on 'Right to Work' checks
DESCRIPTION:Covid-19 right to work measures are ending on 30 September 2022. In this webinar\, TalentScotland will look at how employers in Scotland can continue to perform right to work checks after this date. \nThis webinar is presented by Brodies LLP\, TalentScotland’s immigration specialists\, and you’ll have the opportunity to have any questions you might have.
URL:https://investinangus.com/event/an-update-on-right-to-work-checks-3/
CATEGORIES:HR,Recruitment
END:VEVENT
BEGIN:VEVENT
DTSTART;TZID=UTC:20230131T140000
DTEND;TZID=UTC:20230131T160000
DTSTAMP:20260421T161147
CREATED:20221212T104430Z
LAST-MODIFIED:20221212T104430Z
UID:10086100-1675173600-1675180800@investinangus.com
SUMMARY:LinkedIn for business
DESCRIPTION:No longer just an online CV\, LinkedIn can be an incredibly powerful – and profitable – business tool. Like any tool\, you must learn how to use it\, and this webinar gives you expert guidance. \nYou will: \n\nLearn how to create a LinkedIn strategy to boost your business reputation via marketing and brand promotion initiatives.\nLearn the difference between personal and company profiles and how to optimise them for both maximum visibility and brand awareness.\nUnderstand that content is king on LinkedIn\, and we’ll show you how to plan and produce captivating content that enriches your brand.
URL:https://investinangus.com/event/linkedin-for-business-22/
CATEGORIES:Digital Marketing
END:VEVENT
BEGIN:VEVENT
DTSTART;TZID=UTC:20230131T180000
DTEND;TZID=UTC:20230131T200000
DTSTAMP:20260421T161148
CREATED:20230130T110313Z
LAST-MODIFIED:20230130T110313Z
UID:10086336-1675188000-1675195200@investinangus.com
SUMMARY:Ready\, Steady\, Grow: How to Expand Your Business
DESCRIPTION:Are you a business that has been trading for less than five years? \nDo you realise your full potential? This is an opportunity for you to gain an outsider’s perspective\, which can be essential in realising the potential for your business to expand. \nWorking with our advisers\, you will analyse the current state of your business\, and identify key areas for growth. You will also be shown various tools that can be utilised to analyse your business’ performance. \nYou will leave this webinar feeling motivated\, with the knowledge of how to grow your business. You’ll now be able to set new goals\, that previously weren’t possible. \nIf you are an early-stage business looking to grow\, book your place now! \nThis webinar is for businesses located in Perth\, Dundee & Angus.
URL:https://investinangus.com/event/ready-steady-grow-how-to-expand-your-business-5/
CATEGORIES:Business Planning
END:VEVENT
END:VCALENDAR