BEGIN:VCALENDAR
VERSION:2.0
PRODID:-//Invest in Angus - ECPv6.15.17.1//NONSGML v1.0//EN
CALSCALE:GREGORIAN
METHOD:PUBLISH
X-WR-CALNAME:Invest in Angus
X-ORIGINAL-URL:https://investinangus.com
X-WR-CALDESC:Events for Invest in Angus
REFRESH-INTERVAL;VALUE=DURATION:PT1H
X-Robots-Tag:noindex
X-PUBLISHED-TTL:PT1H
BEGIN:VTIMEZONE
TZID:UTC
BEGIN:STANDARD
TZOFFSETFROM:+0000
TZOFFSETTO:+0000
TZNAME:UTC
DTSTART:20220101T000000
END:STANDARD
END:VTIMEZONE
BEGIN:VEVENT
DTSTART;TZID=UTC:20230203T090000
DTEND;TZID=UTC:20230203T110000
DTSTAMP:20260421T234309
CREATED:20230123T101345Z
LAST-MODIFIED:20230123T101345Z
UID:10086269-1675414800-1675422000@investinangus.com
SUMMARY:e-Commerce with Shopify
DESCRIPTION:Shopify is a powerful all-in-one e-Commerce website builder that makes setting up an online store simple and straightforward. In this webinar\, we will explore Shopify’s features and pull together the building blocks for your first e-Commerce website. \nBy the end of this webinar\, you will be able to: \n\nUnderstand the essential features that a website needs to have to sell physical and digital products online\nUnderstand what Shopify is and how to use the features it offers to build a secure and powerful e-Commerce website\nUse the Shopify page builder and work with free themes to get the design and style of your website on-brand\nUnderstand how to manage orders and deliver great customer service\nUnderstand how to launch your new e-Commerce website and ensure all essential building blocks are in place using a pre-launch checklist\n\nShopify is a paid monthly subscription costing around £25 per month
URL:https://investinangus.com/event/e-commerce-with-shopify-8/
CATEGORIES:Digital Marketing
END:VEVENT
BEGIN:VEVENT
DTSTART;TZID=UTC:20230203T100000
DTEND;TZID=UTC:20230203T113000
DTSTAMP:20260421T234309
CREATED:20230130T112852Z
LAST-MODIFIED:20230130T112852Z
UID:10086375-1675418400-1675423800@investinangus.com
SUMMARY:Amazon and eMarketplaces drop-in clinic
DESCRIPTION:Join experts Karen Riddick\, Ali Shariat and Zamir Cajee and get advice on how to develop your eMarketplace to boost your following and sales. \nThe session will cover all major online marketplaces including Amazon\, eBay\, Alibaba\, Faire\, Etsy\, and will offer personal advice for your business. \nAbout the experts \nKaren Riddick is a business owner\, writer\, speaker\, and Amazon guru. She is the founder of Second Nature Online\, an eco-friendly soft furnishing business\, which she has exponentially grown using global e-marketplaces like Amazon to reach international customers. \nAli Shariat is an expert at building brand following and leverage using the e-marketplaces\, to increase sales across traditional distribution channels. \nZamir Cajee runs his own business and has built up extensive experience of major marketplaces\, using this experience to assist major brands throughout the UK \nKaren\, Ali and Zamir founded This Way Up Education\, through which they share their practices\, tools\, and expertise to help other brands build up their sales\, reach and use of online marketplaces.
URL:https://investinangus.com/event/amazon-and-emarketplaces-drop-in-clinic/
CATEGORIES:Digital Marketing
END:VEVENT
BEGIN:VEVENT
DTSTART;TZID=UTC:20230203T160000
DTEND;TZID=UTC:20230203T180000
DTSTAMP:20260421T234309
CREATED:20230123T101441Z
LAST-MODIFIED:20230123T101441Z
UID:10086271-1675440000-1675447200@investinangus.com
SUMMARY:Making digital content accessible
DESCRIPTION:Everyone consumes and understands information differently\, with some facing additional challenges that aren’t always considered. In this webinar\, we’ll explore the challenges that people can have when accessing digital content and we’ll look at the ways you can improve your digital content to be inclusive and considerate for all. \nBy the end of this webinar\, you will be able to: \n\nUnderstand and consider the barriers and challenges faced by others when accessing digital content.\nAssess your digital content on how easy it is for others to access\, consume and understand.\nReview your website content with an understanding of what adjustments you should make to ensure that your content is catering to all.\nUse social media functions and tools to help make your content more accessible.\nUnderstand and use an ‘Accessibility Ready Checklist’ for any of your content to ensure you are designing and developing content for all of your audience.
URL:https://investinangus.com/event/making-digital-content-accessible-8/
CATEGORIES:Digital Marketing
END:VEVENT
END:VCALENDAR