BEGIN:VCALENDAR
VERSION:2.0
PRODID:-//Invest in Angus - ECPv6.15.17.1//NONSGML v1.0//EN
CALSCALE:GREGORIAN
METHOD:PUBLISH
X-ORIGINAL-URL:https://investinangus.com
X-WR-CALDESC:Events for Invest in Angus
REFRESH-INTERVAL;VALUE=DURATION:PT1H
X-Robots-Tag:noindex
X-PUBLISHED-TTL:PT1H
BEGIN:VTIMEZONE
TZID:UTC
BEGIN:STANDARD
TZOFFSETFROM:+0000
TZOFFSETTO:+0000
TZNAME:UTC
DTSTART:20220101T000000
END:STANDARD
END:VTIMEZONE
BEGIN:VEVENT
DTSTART;TZID=UTC:20230207T100000
DTEND;TZID=UTC:20230207T110000
DTSTAMP:20260421T161144
CREATED:20230130T113100Z
LAST-MODIFIED:20230130T113100Z
UID:10086380-1675764000-1675767600@investinangus.com
SUMMARY:International Marketing-Product\, Positioning\, Target Markets & Gap Analysis
DESCRIPTION:Moving into a new market is both exciting and terrifying. There are tremendous opportunities as well as unknown pitfalls. From a sales and marketing perspective how should you navigate these? \nThis workshop will cover the following areas:  \n\nUnderstand what brand positioning is\nHow to position your product or service in a new market\nWhat to look for in different markets\nWhat’s important about your brand\nPractical GAP Analysis tools\n\nAs a result of attending this webinar you will obtain a clearer understanding of what sales and marketing should consider before entering a new market.
URL:https://investinangus.com/event/international-marketing-product-positioning-target-markets-gap-analysis/
CATEGORIES:International Trade
END:VEVENT
BEGIN:VEVENT
DTSTART;TZID=UTC:20230207T100000
DTEND;TZID=UTC:20230207T120000
DTSTAMP:20260421T161144
CREATED:20230123T102827Z
LAST-MODIFIED:20230123T102827Z
UID:10086279-1675764000-1675771200@investinangus.com
SUMMARY:Pinterest for business
DESCRIPTION:A commonly used tool for those researching products and services for personal life (clothing ideas\, holidays inspiration\, cooking alternatives!)\, but how can it benefit your business? Move from being a beginner to knowing enough to gain commercial benefit from the use of Pinterest. \nDuring this webinar we’ll help you better understand: \n\nWho is using Pinterest and what are they looking for?\nHow to setup your business profile\nKey features to use within Pinterest\nMeasuring success and engagement
URL:https://investinangus.com/event/pinterest-for-business-24/
CATEGORIES:Digital Marketing
END:VEVENT
BEGIN:VEVENT
DTSTART;TZID=UTC:20230207T100000
DTEND;TZID=UTC:20230207T120000
DTSTAMP:20260421T161144
CREATED:20230130T113003Z
LAST-MODIFIED:20230130T113003Z
UID:10086378-1675764000-1675771200@investinangus.com
SUMMARY:Future Ready Digital - Info Session
DESCRIPTION:This short online interactive session will provide more information on the programme. You’ll get the opportunity to speak with the delivery team and raise any questions you might have prior to signing up to the five session programme. \nResearch highlights a strong link between digital maturity and business performance. Leading digital companies outperform across a range of financial and non-financial performance measures – this programme will support you to implement a digital project that delivers real value for your business. \nThis isn’t an IT programme – it’s about preparing for success in a turbulent and uncertain digital era\, through a blend of online and in-person workshops and practical project delivery. \nDelivered by industry expert Dr Jim Hamill and Scottish Enterprise’s Digital Team. \nThe programme will: \nShow you the full potential of existing and emerging technologies which support business growth and competitiveness in an increasingly volatile digital world\nHelp you apply digital initiatives that deliver real business improvement\nProvide support and share best practices\, as well as practical and strategic advice\nGuide you to develop and implement a Future Ready Digital Roadmap \nWho’s this for? \nThe Future Ready Digital programme is aimed at ambitious business leaders of Scottish companies.
URL:https://investinangus.com/event/future-ready-digital-info-session/
CATEGORIES:Business Planning,Technology
END:VEVENT
BEGIN:VEVENT
DTSTART;TZID=UTC:20230207T140000
DTEND;TZID=UTC:20230207T160000
DTSTAMP:20260421T161144
CREATED:20230123T102917Z
LAST-MODIFIED:20230123T102917Z
UID:10086281-1675778400-1675785600@investinangus.com
SUMMARY:Video production for social media
DESCRIPTION:Video captures people’s attention online and is important for getting your message across\, while engaging with your target audience. \nLearn how to: \n\nChoose what type of video to create to suit your business objectives\nPlan\, shoot\, edit\, and upload video without special kit or expertise.\nGet to know the various digital platforms that can be utilised to view and share video content.\nSee what editing apps are available and how to add music and subtitles.
URL:https://investinangus.com/event/video-production-for-social-media-27/
CATEGORIES:Digital Marketing
END:VEVENT
BEGIN:VEVENT
DTSTART;TZID=UTC:20230207T180000
DTEND;TZID=UTC:20230207T200000
DTSTAMP:20260421T161144
CREATED:20221220T113855Z
LAST-MODIFIED:20221220T113855Z
UID:10086126-1675792800-1675800000@investinangus.com
SUMMARY:Complete Guide to Finance for Start-Ups
DESCRIPTION:This webinar aims to give an introduction to the role of finance in business. \nThe workshop will look at: \n\nmanaging a profit and loss account\nproducing a cashflow statement\nworking capital\nthe different sources of finance\nthe different legal structures of a business
URL:https://investinangus.com/event/complete-guide-to-finance-for-start-ups-7/
CATEGORIES:Business Start-up,Finance
END:VEVENT
END:VCALENDAR