BEGIN:VCALENDAR
VERSION:2.0
PRODID:-//Invest in Angus - ECPv6.15.17.1//NONSGML v1.0//EN
CALSCALE:GREGORIAN
METHOD:PUBLISH
X-WR-CALNAME:Invest in Angus
X-ORIGINAL-URL:https://investinangus.com
X-WR-CALDESC:Events for Invest in Angus
REFRESH-INTERVAL;VALUE=DURATION:PT1H
X-Robots-Tag:noindex
X-PUBLISHED-TTL:PT1H
BEGIN:VTIMEZONE
TZID:UTC
BEGIN:STANDARD
TZOFFSETFROM:+0000
TZOFFSETTO:+0000
TZNAME:UTC
DTSTART:20220101T000000
END:STANDARD
END:VTIMEZONE
BEGIN:VEVENT
DTSTART;TZID=UTC:20230208T090000
DTEND;TZID=UTC:20230208T170000
DTSTAMP:20260421T161132
CREATED:20230110T170005Z
LAST-MODIFIED:20230110T170005Z
UID:10086200-1675846800-1675875600@investinangus.com
SUMMARY:Health & Safety information and mentoring
DESCRIPTION:MVV Environment Baldovie welcomes local businesses who are looking for information and mentoring on Health & Safety. \nCome along on Wednesday 8 February 2023 at 9am or 1pm. \nLearn from Health & Safety experts about best practice and find out what you can put in place to keep your business\, staff and customers safe and compliant. \nEmail sarah.cartmill@mvvuk.co.uk to register.
URL:https://investinangus.com/event/health-safety-information-and-mentoring/
CATEGORIES:Health and Safety
END:VEVENT
BEGIN:VEVENT
DTSTART;TZID=UTC:20230208T093000
DTEND;TZID=UTC:20230208T123000
DTSTAMP:20260421T161132
CREATED:20230116T161750Z
LAST-MODIFIED:20230116T161750Z
UID:10086218-1675848600-1675859400@investinangus.com
SUMMARY:Cruise Business Seminar
DESCRIPTION:This seminar\, organised by CruiseForth\, is aimed at businesses who may wish to develop opportunities arising from the cruise ships which visit the Forth and the Tay each year. \nIf you are a cruise friendly business\, operating within 90 minutes of the ports of Leith\, Newhaven\, South Queensferry\, Rosyth or Dundee\, would like to know more about the opportunities\, or believe you have something to offer\, contact Peter Wilson on info@cruiseforth.com to register your attendance. \nTo cover costs there will be an attendance fee of £25\, which will be invoiced in advance (no cancellation within 7 days of the event). For those attending\, who choose to advertise or renew advertising on the CruiseForth Website and App\, then £10 will be deducted from the annual fee (£80) on registration or renewal.
URL:https://investinangus.com/event/cruise-business-seminar/
LOCATION:Doubletree by Hilton\, North Queensferry\, KY11 1HP
CATEGORIES:Tourism
END:VEVENT
BEGIN:VEVENT
DTSTART;TZID=UTC:20230208T093000
DTEND;TZID=UTC:20230208T133000
DTSTAMP:20260421T161132
CREATED:20230116T092045Z
LAST-MODIFIED:20230116T092045Z
UID:10086215-1675848600-1675863000@investinangus.com
SUMMARY:Scottish Community Tourism (SCOTO) Roadshow
DESCRIPTION:SCOTO is on tour to raise awareness of the scale and impact of community-led tourism across Scotland from January to March 2023. \nFrom Shetland to Selkirk and Benbecula to Brechin\, join our Roadshow and find out how the SCOTO network can support you. \nSCOTO will be at Brechin City Hall on 8 February from 9.30am to 1.30pm. Register to attend.
URL:https://investinangus.com/event/scottish-community-tourism-scoto-roadshow/
CATEGORIES:Networking,Tourism
END:VEVENT
BEGIN:VEVENT
DTSTART;TZID=UTC:20230208T093000
DTEND;TZID=UTC:20230208T170000
DTSTAMP:20260421T161132
CREATED:20221220T113944Z
LAST-MODIFIED:20221220T113944Z
UID:10086128-1675848600-1675875600@investinangus.com
SUMMARY:HR 1-2-1 Surgery Sessions
DESCRIPTION:With an academic background in business law & HR management\, Skye is the perfect resource to offer confidential\, impartial advice for businesses of all sizes and sectors. Whether you’re looking to hire your first employee\, looking to review your workplace policies or dealing with complex employee issues – no challenge is too big or too small. \nOnce you have booked your space online\, one of our team will be in touch to discuss an appointment time with you and send you further information. These sessions can take place online via Zoom or alternatively\, face to face in our Dundee Business Gateway Office. \nThese appointments are aimed at businesses based in Dundee\, Angus\, and Perth.
URL:https://investinangus.com/event/hr-1-2-1-surgery-sessions-2/
CATEGORIES:HR
END:VEVENT
BEGIN:VEVENT
DTSTART;TZID=UTC:20230208T100000
DTEND;TZID=UTC:20230208T120000
DTSTAMP:20260421T161132
CREATED:20230123T103002Z
LAST-MODIFIED:20230123T103002Z
UID:10086283-1675850400-1675857600@investinangus.com
SUMMARY:Website User Experience – Is your website fit for purpose
DESCRIPTION:Websites should look good and function well\, and give your website visitors and customers a positive user experience. \nDuring this webinar\, we’ll look at User Experience (UX) and how you can improve it on your website\, including: \n\nUnderstand what User Experience is\nA look at some of the key factors\, including credibility\, value\, purpose and more\nHints\, tips and tools to help you start improving elements of your website\nAn overview of tools to help you measure User Experience
URL:https://investinangus.com/event/website-user-experience-is-your-website-fit-for-purpose-2/
CATEGORIES:Digital Marketing
END:VEVENT
BEGIN:VEVENT
DTSTART;TZID=UTC:20230208T140000
DTEND;TZID=UTC:20230208T160000
DTSTAMP:20260421T161132
CREATED:20230123T103045Z
LAST-MODIFIED:20230123T103045Z
UID:10086285-1675864800-1675872000@investinangus.com
SUMMARY:Facebook for business
DESCRIPTION:Get to grips with Facebook – the world’s most popular social networking platform. \nIn this webinar you will: \n\nLearn how to get the most out of Facebook and how it could fit into your business’s digital marketing strategy.\nBetter understand the algorithm behind Facebook\, and how to create great content that achieves a bigger reach and impact.\nLearn from the stats and data you can get from the system and discover who your most interested customers/clients are.\nUnderstand the power of Facebook advertising\, and other selling options available to you.\nDiscover other business opportunities presented by Facebook\, including how to promote and sell products and services.\nBe introduced to ‘Business Suite’ – a free Facebook dashboard to manage all your business activity.
URL:https://investinangus.com/event/facebook-for-business-26/
CATEGORIES:Digital Marketing
END:VEVENT
BEGIN:VEVENT
DTSTART;TZID=UTC:20230208T140000
DTEND;TZID=UTC:20230208T160000
DTSTAMP:20260421T161132
CREATED:20230130T110448Z
LAST-MODIFIED:20230130T110448Z
UID:10086340-1675864800-1675872000@investinangus.com
SUMMARY:Build an effective strategy to grow your business
DESCRIPTION:This webinar is practical\, outcome driven\, and designed to fit with the needs of small businesses in both B2C and B2B environments. It will help you develop a strategically led approach that can turbo charge business growth\, identify the core growth strategy(ies) that are right for your business\, and develop an action plan. \nWe will look at: \n\nYour business today – identifying your strengths and areas for development\nThe key pillars of a business and why balancing all areas is essential for success\nPersonal and business ambitions and using these to guide strategy development\nAnsoff’s Matrix as a tool for identifying core growth strategies\nThe core components of your business delivery\nHow to develop a methodical\, strategic approach to developing your business for future success\n\nAfter the webinar\, you will understand: \n\nHow to undertake a balanced review of where your business is that helps identify areas for development\nAnsoff’s Matrix and how to use it as a core strategic planning tool\nHow to create a strategic plan for growing your business
URL:https://investinangus.com/event/build-an-effective-strategy-to-grow-your-business-8/
CATEGORIES:Business Planning
END:VEVENT
BEGIN:VEVENT
DTSTART;TZID=UTC:20230208T143000
DTEND;TZID=UTC:20230208T153000
DTSTAMP:20260421T161132
CREATED:20230130T114748Z
LAST-MODIFIED:20230130T114748Z
UID:10086403-1675866600-1675870200@investinangus.com
SUMMARY:Scale-Up Visa Route: Latest updates
DESCRIPTION:The government has recently introduced the Scale-Up visa route\, which gives certain employers another visa option to help access international talent. \nJoin us to learn more about this new route and how it could help you access international talent.
URL:https://investinangus.com/event/scale-up-visa-route-latest-updates/
CATEGORIES:HR,Recruitment
END:VEVENT
END:VCALENDAR