BEGIN:VCALENDAR
VERSION:2.0
PRODID:-//Invest in Angus - ECPv6.15.17.1//NONSGML v1.0//EN
CALSCALE:GREGORIAN
METHOD:PUBLISH
X-ORIGINAL-URL:https://investinangus.com
X-WR-CALDESC:Events for Invest in Angus
REFRESH-INTERVAL;VALUE=DURATION:PT1H
X-Robots-Tag:noindex
X-PUBLISHED-TTL:PT1H
BEGIN:VTIMEZONE
TZID:UTC
BEGIN:STANDARD
TZOFFSETFROM:+0000
TZOFFSETTO:+0000
TZNAME:UTC
DTSTART:20220101T000000
END:STANDARD
END:VTIMEZONE
BEGIN:VEVENT
DTSTART;TZID=UTC:20230209T090000
DTEND;TZID=UTC:20230209T120000
DTSTAMP:20260421T175929
CREATED:20230130T115322Z
LAST-MODIFIED:20230130T115322Z
UID:10086407-1675933200-1675944000@investinangus.com
SUMMARY:Deposit Return Scheme Roadshow 2023
DESCRIPTION:Circularity Scotland are inviting producers\, retailers and hospitality providers to a roadshow to explain more about the Deposit Return Scheme which goes live on 16 August 2023. \nEach DRS workshop will last just over 3 hours and will cover: \n\nProducer Registration process\nReturn Point Operator Registration process\nOperations overview: how the scheme works\nExemptions: eligibility criteria\nQ&A session\n\nThe roadshow will take place on 9 February in Dundee where there are two sessions\, one at 9am and the other at 2pm. Spaces are limited.
URL:https://investinangus.com/event/deposit-return-scheme-roadshow-2023/
LOCATION:Malmaison Dundee\, 44 Whitehall Crescent\, Dundee\, DD1 4AY
CATEGORIES:Food & Drink,Legislation
END:VEVENT
BEGIN:VEVENT
DTSTART;TZID=UTC:20230209T100000
DTEND;TZID=UTC:20230209T110000
DTSTAMP:20260421T175929
CREATED:20230130T113329Z
LAST-MODIFIED:20230130T113329Z
UID:10086382-1675936800-1675940400@investinangus.com
SUMMARY:Understanding Your Customer and Building a Customer Avatar
DESCRIPTION:If businesses don’t understand their customers they can’t sell effectively to them. \nThis webinar will provide participants with the approach needed to truly and simply understand who their customers are and what they want.
URL:https://investinangus.com/event/understanding-your-customer-and-building-a-customer-avatar-2/
CATEGORIES:Business Planning,Marketing
END:VEVENT
BEGIN:VEVENT
DTSTART;TZID=UTC:20230209T100000
DTEND;TZID=UTC:20230209T120000
DTSTAMP:20260421T175929
CREATED:20230130T110543Z
LAST-MODIFIED:20230130T110543Z
UID:10086342-1675936800-1675944000@investinangus.com
SUMMARY:Build a customer focused business
DESCRIPTION:Did you know that a returning customer will typically spend more than two thirds more with your business than a brand new one? \nDid you know that retaining just 5% of your customer base can give an increase of over 20% in profits for your business? \nHaving an effective strategy in place for your business to deliver great customer service is critical for your business. \nWe will cover: \n\nWhy good customer service is critical for business growth\nWhat are the essentials of delivering great customer service and how should this be delivered?\nHow to effectively manage different types of customers and their expectations\nHow\, why\, and when you should measure the service a business delivers\nHow to use the service provided to promote a business and enable growth
URL:https://investinangus.com/event/build-a-customer-focused-business-8/
CATEGORIES:Business Planning,Marketing
END:VEVENT
BEGIN:VEVENT
DTSTART;TZID=UTC:20230209T110000
DTEND;TZID=UTC:20230209T120000
DTSTAMP:20260421T175929
CREATED:20230206T093127Z
LAST-MODIFIED:20230206T093127Z
UID:10086431-1675940400-1675944000@investinangus.com
SUMMARY:Digital fundamentals for tourism businesses
DESCRIPTION:An introductory session to the fundamental elements of promoting and managing a Scottish tourism business online. A joint VisitScotland and DigitalBoost event. \nAt the end of this webinar delegates will have learned about: \n\nGetting their business visible online with the right content\, at the right time\, on the right platforms.\nAssessing the quality of their online presence and knowing if they’re reaching their intended audience.\nUsing social media effectively\nThe different online booking and distribution platforms available to tourism businesses.\nCost-effective digital marketing and content distribution
URL:https://investinangus.com/event/digital-fundamentals-for-tourism-businesses-4/
CATEGORIES:Digital Marketing,Tourism
END:VEVENT
BEGIN:VEVENT
DTSTART;TZID=UTC:20230209T130000
DTEND;TZID=UTC:20230209T150000
DTSTAMP:20260421T175929
CREATED:20230130T110634Z
LAST-MODIFIED:20230130T110634Z
UID:10086344-1675947600-1675954800@investinangus.com
SUMMARY:How to write and develop your business plan
DESCRIPTION:New and established businesses will require a business plan for getting a loan\, grant or just to consider the direction they wish to go in. This webinar will teach you what you need to include and how. We will walk you through what should be included within a business plan\, how a business plan is used to improve your prospects for a loan or a grant\, and how you can develop a business plan to meet your needs. \nWe will: \n\nProvide a structure for a business plan\nReview each section of what should be included within the business plan\nExplain when and how to use a business plan\nExplore the connections (and importance) between the words and the numbers\nLook at how to identify and manage cashflow within the business planning process
URL:https://investinangus.com/event/how-to-write-and-develop-your-business-plan-11/
CATEGORIES:Business Planning,Business Start-up
END:VEVENT
BEGIN:VEVENT
DTSTART;TZID=UTC:20230209T140000
DTEND;TZID=UTC:20230209T150000
DTSTAMP:20260421T175929
CREATED:20230130T114924Z
LAST-MODIFIED:20230130T114924Z
UID:10086405-1675951200-1675954800@investinangus.com
SUMMARY:Does your climate tech scale-up have PMF?
DESCRIPTION:So you think you have a great Climate Tech idea\, product or services\, but does it have PMF? \nProduct Market Fit (PMF) is reached when a product or service and its value proposition solve the problem they’re trying to address\, customers are willing to pay for it with their time or money and there is a big enough market to sell to. \nJoin PMF experts from consultancy TRKR\, insights from disruptive built environment technology solution provider Arbnco and SE’s own Innovation specialist team\, to hear about PMF and how to find it.
URL:https://investinangus.com/event/does-your-climate-tech-scale-up-have-pmf/
CATEGORIES:Marketing
END:VEVENT
BEGIN:VEVENT
DTSTART;TZID=UTC:20230209T140000
DTEND;TZID=UTC:20230209T170000
DTSTAMP:20260421T175929
CREATED:20230130T115429Z
LAST-MODIFIED:20230130T115429Z
UID:10086410-1675951200-1675962000@investinangus.com
SUMMARY:Deposit Return Scheme Roadshow 2023
DESCRIPTION:Circularity Scotland are inviting producers\, retailers and hospitality providers to a roadshow to explain more about the Deposit Return Scheme which goes live on 16 August 2023. \nEach DRS workshop will last just over 3 hours and will cover: \n\nProducer Registration process\nReturn Point Operator Registration process\nOperations overview: how the scheme works\nExemptions: eligibility criteria\nQ&A session\n\nThe roadshow will take place on 9 February in Dundee where there are two sessions\, one at 9am and the other at 2pm. Spaces are limited.
URL:https://investinangus.com/event/deposit-return-scheme-roadshow-2023-2/
LOCATION:Malmaison Dundee\, 44 Whitehall Crescent\, Dundee\, DD1 4AY
CATEGORIES:Food & Drink,Legislation
END:VEVENT
BEGIN:VEVENT
DTSTART;TZID=UTC:20230209T153000
DTEND;TZID=UTC:20230209T170000
DTSTAMP:20260421T175929
CREATED:20230117T090922Z
LAST-MODIFIED:20230117T090922Z
UID:10086231-1675956600-1675962000@investinangus.com
SUMMARY:Understanding and Bidding - Frameworks and Dynamic Purchasing Systems (DPS)
DESCRIPTION:Frameworks and Dynamic Purchasing Systems (DPS) are fast becoming a popular way for buyers to manage common purchases. Frameworks and DPS’s can also be a lucrative source of business for suppliers but it is vital you understand the agreement before getting on a Framework. \nAt this training\, you will get an understanding of what a framework is\, the common features of a framework and why buyers use frameworks. One of SDP’s expert trainers will also talk you through the two main methods of winning business on a framework i.e. Direct Award and Call Off Contract. \nOverview of what you will learn: \n\nWhat is a Framework?\nHow to get on a Framework\nHow to win business off a Framework\nWhat is a Dynamic Purchasing System (DPS)?\n\nAt the end of the session\, there will be an interactive Q&A session where you will have the opportunity to ask any burning questions you may have. As well as the chance to hear what other SME businesses on Scotland have to say. \nThis event is suitable for Level 2 (Intermediate) for people who know about bidding but need to develop specific knowledge and skills.
URL:https://investinangus.com/event/understanding-and-bidding-frameworks-and-dynamic-purchasing-systems-dps/
CATEGORIES:Procurement
END:VEVENT
END:VCALENDAR