BEGIN:VCALENDAR
VERSION:2.0
PRODID:-//Invest in Angus - ECPv6.15.17.1//NONSGML v1.0//EN
CALSCALE:GREGORIAN
METHOD:PUBLISH
X-WR-CALNAME:Invest in Angus
X-ORIGINAL-URL:https://investinangus.com
X-WR-CALDESC:Events for Invest in Angus
REFRESH-INTERVAL;VALUE=DURATION:PT1H
X-Robots-Tag:noindex
X-PUBLISHED-TTL:PT1H
BEGIN:VTIMEZONE
TZID:UTC
BEGIN:STANDARD
TZOFFSETFROM:+0000
TZOFFSETTO:+0000
TZNAME:UTC
DTSTART:20220101T000000
END:STANDARD
END:VTIMEZONE
BEGIN:VEVENT
DTSTART;TZID=UTC:20230215T100000
DTEND;TZID=UTC:20230215T120000
DTSTAMP:20260421T234308
CREATED:20230123T103229Z
LAST-MODIFIED:20230123T103229Z
UID:10086289-1676455200-1676462400@investinangus.com
SUMMARY:Instagram for business
DESCRIPTION:Thinking about using Instagram to communicate with existing and potential customers? Want to showcase your products or services using it? During this webinar we will cover: \n\nGetting the setup right and benefitting from the available business tools.\nBest practice profiles\, and some strategies to help your business stand out from the crowd.\nThe types of audience you can reach via this platform and the factors and analytics such as cost and timing of posting images and how that can maximise impact.\nThe various types of content you can post to Instagram\, from regular posts to Stories and Reels.
URL:https://investinangus.com/event/instagram-for-business-24/
CATEGORIES:Digital Marketing
END:VEVENT
END:VCALENDAR