BEGIN:VCALENDAR
VERSION:2.0
PRODID:-//Invest in Angus - ECPv6.15.17.1//NONSGML v1.0//EN
CALSCALE:GREGORIAN
METHOD:PUBLISH
X-ORIGINAL-URL:https://investinangus.com
X-WR-CALDESC:Events for Invest in Angus
REFRESH-INTERVAL;VALUE=DURATION:PT1H
X-Robots-Tag:noindex
X-PUBLISHED-TTL:PT1H
BEGIN:VTIMEZONE
TZID:UTC
BEGIN:STANDARD
TZOFFSETFROM:+0000
TZOFFSETTO:+0000
TZNAME:UTC
DTSTART:20220101T000000
END:STANDARD
END:VTIMEZONE
BEGIN:VEVENT
DTSTART;TZID=UTC:20230221T080000
DTEND;TZID=UTC:20230221T160000
DTSTAMP:20260421T161222
CREATED:20230117T092136Z
LAST-MODIFIED:20230117T092136Z
UID:10086249-1676966400-1676995200@investinangus.com
SUMMARY:Transform Business Festival
DESCRIPTION:The Transform Business Festival is coming to Tayside on Tuesday 21 February at the Dundee Science Centre. \n\n\n\nThe Transform Business Festival Tayside will bring together entrepreneurs\, business owners and influential leaders under one roof for one unmissable day! \n\nBusiness-boosting talks from a host of carefully chosen guest speakers on various topics\nAn ecosystem village filled with industry-leading organisations available to offer you expert business advice\nLevel up your knowledge at our BiteSize Sessions\nGrow your connections at a Fire Side Chat or one of our Networking Events!
URL:https://investinangus.com/event/transform-business-festival/
LOCATION:Dundee Science Centre\, 14 Greenmarket\, Dundee\, DD1 4QB
END:VEVENT
BEGIN:VEVENT
DTSTART;TZID=UTC:20230221T100000
DTEND;TZID=UTC:20230221T120000
DTSTAMP:20260421T161222
CREATED:20230123T103639Z
LAST-MODIFIED:20230123T103639Z
UID:10086297-1676973600-1676980800@investinangus.com
SUMMARY:LinkedIn for business
DESCRIPTION:No longer just an online CV\, LinkedIn can be an incredibly powerful – and profitable – business tool. Like any tool\, you must learn how to use it\, and this webinar gives you expert guidance. \nYou will: \n\nLearn how to create a LinkedIn strategy to boost your business reputation via marketing and brand promotion initiatives.\nLearn the difference between personal and company profiles and how to optimise them for both maximum visibility and brand awareness.\nUnderstand that content is king on LinkedIn\, and we’ll show you how to plan and produce captivating content that enriches your brand.
URL:https://investinangus.com/event/linkedin-for-business-23/
CATEGORIES:Digital Marketing
END:VEVENT
BEGIN:VEVENT
DTSTART;TZID=UTC:20230221T140000
DTEND;TZID=UTC:20230221T150000
DTSTAMP:20260421T161222
CREATED:20230220T104848Z
LAST-MODIFIED:20230220T104848Z
UID:10086580-1676988000-1676991600@investinangus.com
SUMMARY:Cost of Doing Business: Reducing Energy Costs - Part 1
DESCRIPTION:Is your business impacted by rising energy costs? Join three practical webinars to discover low-cost investment opportunities to reduce energy costs and carbon emissions. \nJoin Mike Milner\, Tomson Consulting Ltd\, and Scottish Enterprise’s Sustainability Specialists on this practical three-part online series looking at the no cost\, low cost\, and investment opportunities for your company to reduce energy costs\, increase efficiencies and support decarbonisation – building long-term resilience in your business.These webinars are of value to all Scottish companies looking for practical solutions to reduce the impact of the energy crisis while working towards net zero. The webinars will provide insights into cost saving options for all sectors\, including energy monitoring\, management\, and behavioural change. You’ll also hear about specialised solutions associated with heating and cooling\, equipment\, and on-site renewable energy generation. \nMike Milner is a highly qualified and experienced engineer with over two decades of practical experience in many sectors including food and drink\, manufacturing\, hospitality and leisure\, construction\, and historic buildings. \nWebinar 1 — Introduction to energy saving\, management\, and analysis: \n\nEnergy bills\,\nEnergy sub metering\, monitoring\, and calculating costs\nHalf-hourly data – obtaining it\, simple analysis\, and interpretation\nBehaviour change\, and management\nEnergy management systems – what\, how and why
URL:https://investinangus.com/event/cost-of-doing-business-reducing-energy-costs-part-1/
CATEGORIES:Business Planning,Energy
END:VEVENT
BEGIN:VEVENT
DTSTART;TZID=UTC:20230221T140000
DTEND;TZID=UTC:20230221T160000
DTSTAMP:20260421T161222
CREATED:20230123T103722Z
LAST-MODIFIED:20230123T103722Z
UID:10086299-1676988000-1676995200@investinangus.com
SUMMARY:Get impact & engagement with social media analytics
DESCRIPTION:Facebook\, Instagram\, Twitter\, LinkedIn & Pinterest are widely used social platforms\, but often account owners aren’t looking at the metrics provided within them. Those metrics will inform you of reach\, impressions\, demographics and more\, all of which can help towards improving the impact of your posting and targeting. \nThis webinar will help you understand how to access those metrics\, and how to use them to improve your social media delivery.
URL:https://investinangus.com/event/get-impact-engagement-with-social-media-analytics-21/
CATEGORIES:Digital Marketing
END:VEVENT
BEGIN:VEVENT
DTSTART;TZID=UTC:20230221T140000
DTEND;TZID=UTC:20230221T160000
DTSTAMP:20260421T161222
CREATED:20230130T111518Z
LAST-MODIFIED:20230130T111518Z
UID:10086360-1676988000-1676995200@investinangus.com
SUMMARY:The business benefits of running a sustainable business
DESCRIPTION:It’s becoming increasingly important to customers to source their products from companies who have strong green credentials. This webinar will show how by becoming more sustainable you can increase sales and profits. \nWe will look at: \nUnderstanding the problem\nWhat is sustainability and why it is important\nInnovation\nProfiting from being a green business\nEmbracing a purpose beyond profit\nThe sustainability triple bottom line\nDeveloping your own green charter\nExamples of those practicing this way of growth with remarkable success\nTop tips for going green
URL:https://investinangus.com/event/the-business-benefits-of-running-a-sustainable-business-8/
CATEGORIES:Sustainable/Circular Economy
END:VEVENT
BEGIN:VEVENT
DTSTART;TZID=UTC:20230221T163000
DTEND;TZID=UTC:20230221T190000
DTSTAMP:20260421T161222
CREATED:20230130T141050Z
LAST-MODIFIED:20230130T141050Z
UID:10086412-1676997000-1677006000@investinangus.com
SUMMARY:Mint Ventures in Dundee: Making Angel Investment Accessible for Women
DESCRIPTION:Mint Ventures is a Scottish-based women-led angel investment group on a mission to make angel investing more accessible to women by educating both women and men from all business backgrounds how they can support more women to get involved. \nAngel investing is an important element of the funding ecosystem to support early-stage companies to grow and is particularly important during a recession. Despite women holding 40% of the Scotland’s wealth\, only 12% of business angels in Scotland are women. \nIt is\, however\, a myth that you need to be rich to angel invest and you can invest with as little as £2\,000 with specific tax schemes giving 30 – 50% relief set by the govt to encourage more angels. \nFollowing on from the UK Business Angel Association (UKBAA) and RBS Rose Review\, Women Backing Women campaign we are partnering with RBS / Coutts and Co\, Azets\, supported by local partners in each location and funded by Scottish Enterprise we are running a series of regional in-person ‘Making Angel Investing More Accessible to Women’ events across Scotland in Feb and March 2023. \nThese free events will raise awareness of angel investment in particular the challenges for women business founders and to encourage more women to consider angel investing. Open to both men and women who are professionally involved in supporting SME’s including\, lawyers\, accountants\, business advisers\, wealth managers\, IFA’s as well as women from any business background that might be considering growing their own company or becoming an angel investor. We will provide real insights into angel investing in gender specific language\, highlight the challenges that we can collectively support and provide a safe-space environment for all to learn\, ask questions and be inspired. \nPlease join us to find out more and spread the word to truly make a difference to the critical access to finance that our women entrepreneurs need.
URL:https://investinangus.com/event/mint-ventures-in-dundee-making-angel-investment-accessible-for-women/
LOCATION:Dudhope Castle\, Barrack Road\, Dundee\, DD3 6HF
CATEGORIES:Finance,Networking
END:VEVENT
END:VCALENDAR