BEGIN:VCALENDAR
VERSION:2.0
PRODID:-//Invest in Angus - ECPv6.15.17.1//NONSGML v1.0//EN
CALSCALE:GREGORIAN
METHOD:PUBLISH
X-ORIGINAL-URL:https://investinangus.com
X-WR-CALDESC:Events for Invest in Angus
REFRESH-INTERVAL;VALUE=DURATION:PT1H
X-Robots-Tag:noindex
X-PUBLISHED-TTL:PT1H
BEGIN:VTIMEZONE
TZID:UTC
BEGIN:STANDARD
TZOFFSETFROM:+0000
TZOFFSETTO:+0000
TZNAME:UTC
DTSTART:20220101T000000
END:STANDARD
END:VTIMEZONE
BEGIN:VEVENT
DTSTART;TZID=UTC:20230222T100000
DTEND;TZID=UTC:20230222T110000
DTSTAMP:20260421T161227
CREATED:20221206T101336Z
LAST-MODIFIED:20221206T101336Z
UID:10086002-1677060000-1677063600@investinangus.com
SUMMARY:The legal aspects of the employee ownership transaction
DESCRIPTION:Aimed at professional advisers\, this series of expert webinars will explore different aspects of employee ownership. It’s designed to help advisers broaden their knowledge and equip them to support their clients in making informed decisions. The webinars are also relevant for business owners looking at succession planning. \nIn this webinar\, Bruce Farquhar from Anderson Strathern will cover the requirements of the Employee Ownership Trust (EOT) legislation and look at the merits of opting for Corporate Trustee or individual trustees. \nHe’ll also talk about how the vendors can be protected within the parameters of HMRC rules and touch on the composition of the Trust Board.
URL:https://investinangus.com/event/the-legal-aspects-of-the-employee-ownership-transaction/
CATEGORIES:Business Planning
END:VEVENT
BEGIN:VEVENT
DTSTART;TZID=UTC:20230222T100000
DTEND;TZID=UTC:20230222T120000
DTSTAMP:20260421T161227
CREATED:20230123T103805Z
LAST-MODIFIED:20230123T103805Z
UID:10086301-1677060000-1677067200@investinangus.com
SUMMARY:Paid for advertising
DESCRIPTION:This webinar is designed to help you make more informed decisions about where paid for advertising fits in to your digital marketing strategy. During the webinar we will discuss various key considerations of paid advertising\, provide advice on planning\, explore platform options and look at measuring the impact of your ads. \nBy the end of the webinar\, you’ll have a better understanding of: \n\nKey concepts of paid ads and how it fits within your strategy\nBest practice during ads setup\nImportance of planning for paid Ads\nHow to evaluate and understand performance of paid ads
URL:https://investinangus.com/event/paid-for-advertising-21/
CATEGORIES:Digital Marketing
END:VEVENT
BEGIN:VEVENT
DTSTART;TZID=UTC:20230222T130000
DTEND;TZID=UTC:20230222T150000
DTSTAMP:20260421T161227
CREATED:20230123T103848Z
LAST-MODIFIED:20230123T103848Z
UID:10086303-1677070800-1677078000@investinangus.com
SUMMARY:Email marketing for business
DESCRIPTION:Connecting with your audience through effective email marketing campaigns is a great way to improve your marketing strategy and boost sales. In this webinar\, we’ll explore what makes an email campaign effective and ensure you are able to: \n\nSegment your audiences and target them effectively\nCreate a quality marketing email and measure its effectiveness\nIdentify the most suitable platforms and tools for email marketing campaigns\, including different paid-for account levels\nIdentify the different components of a successful email campaign\, including design\, HTML v text and other formats\nUse reporting and key metrics to make sure your campaigns are successful\nBe compliant with legal requirements relating to email communications
URL:https://investinangus.com/event/email-marketing-for-business-24/
CATEGORIES:Digital Marketing
END:VEVENT
BEGIN:VEVENT
DTSTART;TZID=UTC:20230222T173000
DTEND;TZID=UTC:20230222T193000
DTSTAMP:20260421T161227
CREATED:20230130T111610Z
LAST-MODIFIED:20230130T111610Z
UID:10086362-1677087000-1677094200@investinangus.com
SUMMARY:How to protect and manage your intellectual property
DESCRIPTION:You have invested time\, energy\, and money into your project\, however\, have you protected the innovation? \nFollowing this webinar\, you will understand how to manage your intellectual property (IP) or how to start the process of registering it. \nTopics covered include: \n\nWhat are intellectual assets (IA)?\nWhat is intellectual property (IP)?\nHow to use IP (in the real world)\nWhere to get more insight and information\n\nParticipants will leave with: \n\nAn understanding that all businesses create IA/IP\nA framework of knowledge about IP\nA little more knowledge about the diverse types of IP\nAn insight into how to identify\, protect and exploit IP/IA\nContext of why IP/IA matters\nLinks to useful learning resources
URL:https://investinangus.com/event/how-to-protect-and-manage-your-intellectual-property-8/
CATEGORIES:Business Planning,Legislation
END:VEVENT
BEGIN:VEVENT
DTSTART;TZID=UTC:20230222T180000
DTEND;TZID=UTC:20230222T200000
DTSTAMP:20260421T161227
CREATED:20230123T103938Z
LAST-MODIFIED:20230123T103938Z
UID:10086305-1677088800-1677096000@investinangus.com
SUMMARY:How to build a digital marketing plan
DESCRIPTION:This webinar will guide you through the steps needed to create an effective digital marketing strategy\, ensuring you focus on the right tactics to meet your business objectives and goals. \nWe will cover: \n\nThe importance of planning your digital marketing activities\nBuilding your plan around a simple framework\nConducting a situational analysis (and understanding Customers and Competitors)\nDeveloping your brand and tone of voice\nPlanning your Content strategy\nPrioritising digital channels\nEvaluating your Digital Marketing efforts
URL:https://investinangus.com/event/how-to-build-a-digital-marketing-plan-23/
CATEGORIES:Business Planning,Digital Marketing
END:VEVENT
END:VCALENDAR