BEGIN:VCALENDAR
VERSION:2.0
PRODID:-//Invest in Angus - ECPv6.15.17.1//NONSGML v1.0//EN
CALSCALE:GREGORIAN
METHOD:PUBLISH
X-ORIGINAL-URL:https://investinangus.com
X-WR-CALDESC:Events for Invest in Angus
REFRESH-INTERVAL;VALUE=DURATION:PT1H
X-Robots-Tag:noindex
X-PUBLISHED-TTL:PT1H
BEGIN:VTIMEZONE
TZID:UTC
BEGIN:STANDARD
TZOFFSETFROM:+0000
TZOFFSETTO:+0000
TZNAME:UTC
DTSTART:20220101T000000
END:STANDARD
END:VTIMEZONE
BEGIN:VEVENT
DTSTART;TZID=UTC:20230223T090000
DTEND;TZID=UTC:20230223T100000
DTSTAMP:20260421T214610
CREATED:20230220T110201Z
LAST-MODIFIED:20230220T110201Z
UID:10086595-1677142800-1677146400@investinangus.com
SUMMARY:Offshore Wind market opportunities in Denmark
DESCRIPTION:Scottish Development International\, the Scottish Government’s international economic agency\, would like to invite Scottish companies for a webinar and joint discussion on offshore wind market opportunities. \nThe main purpose of the event is to explore joint cooperation between Scottish and Danish companies in supply chains and ‘meet the buyers’. We will discuss strategic sourcing policy\, how to enter into cooperation with chosen Danish developers. \nThe webinar will take place on 23rd of February from 10:00 – 11:00 am CET (9:00 am-10:00 am UK time). It is the first event aiming to prepare Scottish companies for Wind Europe Annual Conference in Copenhagen\, in April 2023.
URL:https://investinangus.com/event/offshore-wind-market-opportunities-in-denmark/
CATEGORIES:Offshore Wind
END:VEVENT
BEGIN:VEVENT
DTSTART;TZID=UTC:20230223T093000
DTEND;TZID=UTC:20230223T123000
DTSTAMP:20260421T214610
CREATED:20230130T114117Z
LAST-MODIFIED:20230130T114117Z
UID:10086392-1677144600-1677155400@investinangus.com
SUMMARY:Preventing IT and Digital Project Failure
DESCRIPTION:Evidence suggests that 65% to 75% of IT and digital projects fail. The true cost of project failure isn’t just financial investment — it costs time invested by staff\, as well as impact on service delivery and your brand’s reputation. \nDo you need help navigating these challenges? \nScottish Enterprise is offering practical and interactive half-day workshops that will help you to identify causes of project failure\, avoid common mistakes and maximise your success. These are delivered by Augmentum 360 and Scottish Enterprise’s Digital Team. \nYou’ll benefit from highly experienced professionals sharing their expertise on: \n\nIT project and implementation\nHow technology can boost efficiency\, profitability\, market competitiveness and resilience\nBest-practice tools and techniques\nReal-life examples and resolving key challenges\nIdentifying and engaging suppliers\nSupport for Scottish businesses adopting digital technology\n\nWho is this for? \nIf you’re a business leader within an ambitious Scottish company\, who has responsibility for IT & Digital investment decisions and/or implementation. \nIn this workshop\, you’ll get a chance to learn about: \n\nTrue cost of project failure – money\, time\, quality\, reputation\nHow to scope and plan\nAssessing options — ROI\, solution suitability\nIdentifying and managing risks\nHow to effectively implement and roll out How to initiate organisation change and take people with you\nHow to Choose a System and Supplier: CRM\, ERP\, Ecommerce\, other systems — how to avoid costly mistakes and ensure solution and supplier are fit for purpose
URL:https://investinangus.com/event/preventing-it-and-digital-project-failure/
LOCATION:Apex City Quay Hotel\, 1 West Victoria Dock Road\, Dundee\, DD1 3JP
CATEGORIES:Business Planning,Technology
END:VEVENT
BEGIN:VEVENT
DTSTART;TZID=UTC:20230223T100000
DTEND;TZID=UTC:20230223T120000
DTSTAMP:20260421T214610
CREATED:20230123T104021Z
LAST-MODIFIED:20230123T104021Z
UID:10086307-1677146400-1677153600@investinangus.com
SUMMARY:Planning & scheduling your online content
DESCRIPTION:Businesses who plan their content in advance\, aligning their channels with actual business objectives\, customer themes and national events\, and then schedule it to ensure it reaches the target market at the right time\, on the right platform – hugely increase the chances of achieving impact. \nIn this webinar\, you will learn how to: \n\nPlan content based on your business and your customer needs\nEvaluate current social media dashboards and management tools\nCreate a social media content calendar and schedule updates automatically\nReach more people through automating your blog and email newsletter content\nImplement simple automation techniques to increase efficiency\n\nHaving great content is just the start. This webinar will help you better organise and setup your content strategy through simple planning and effective scheduling\, to achieve great business results.
URL:https://investinangus.com/event/planning-scheduling-your-online-content-20/
CATEGORIES:Digital Marketing
END:VEVENT
BEGIN:VEVENT
DTSTART;TZID=UTC:20230223T110000
DTEND;TZID=UTC:20230223T120000
DTSTAMP:20260421T214610
CREATED:20230213T144238Z
LAST-MODIFIED:20230213T144238Z
UID:10086473-1677150000-1677153600@investinangus.com
SUMMARY:Google and VisitScotland presents: tourism experiences – make the most of Google Things to do
DESCRIPTION:Join this special session for tourism experiences (tours\, visitor attractions and activity providers) with Google and VisitScotland. \nHear from Google as to how your business can take advantage of direct booking links on their Google Business Profile and in Google Maps. \nYou’ll also gain a better understanding of how to more effectively advertise your tours\, visitor attractions and activities using Google Things to do.
URL:https://investinangus.com/event/google-and-visitscotland-presents-tourism-experiences-make-the-most-of-google-things-to-do/
CATEGORIES:Digital Marketing,Tourism
END:VEVENT
BEGIN:VEVENT
DTSTART;TZID=UTC:20230223T130000
DTEND;TZID=UTC:20230223T163000
DTSTAMP:20260421T214610
CREATED:20230130T114210Z
LAST-MODIFIED:20230130T114210Z
UID:10086395-1677157200-1677169800@investinangus.com
SUMMARY:Sell on Wholesale B2B ECommerce Marketplaces Masterclass
DESCRIPTION:Selling online via wholesale marketplaces has become an increasingly attractive way for new and existing retailers to reach customers all over the world. \nThanks to B2B marketplaces like Faire\, Wayfair and Alibaba\, it’s easier than ever to sell online – but that’s not to say it’s without its challenges. \nThis event\, presented by Karen Riddick\, business owner and writer\, will explore the range of B2B marketplaces available\, from transaction sites to shipping sites\, and discuss some of the challenges and solutions to keep in mind when adding this capability to your business operations. \nThis half-day session will explore: \n\nThe background and advantages of Online B2B Marketplaces\nWhat to think about when choosing the right marketplaces for you\nThree walk-through examples of current marketplaces (Faire\, Fairling and Wayfair)\nAlibaba inthe UK\nChallenges and solutions when selling on B2B ECommerce.\n\nAbout the presenter \nThis event will be delivered by Karen Riddick\, Business Owner\, Writer\, Speaker and Amazon Guru. Karen founded Second Nature Online\, an eco-friendly soft furnishing business in 2008. Since then\, she has grown it considerably utilising global e-marketplaces to reach international customers.
URL:https://investinangus.com/event/sell-on-wholesale-b2b-ecommerce-marketplaces-masterclass/
CATEGORIES:Digital Marketing
END:VEVENT
BEGIN:VEVENT
DTSTART;TZID=UTC:20230223T140000
DTEND;TZID=UTC:20230223T160000
DTSTAMP:20260421T214610
CREATED:20230123T104113Z
LAST-MODIFIED:20230123T104113Z
UID:10086309-1677160800-1677168000@investinangus.com
SUMMARY:Digital tools to help run your business remotely
DESCRIPTION:Are you ready to ‘go live’ and engage your audience with a live stream? What about running webinars or working remotely with clients or collaborators on the other side of the world? Let us guide you through: \n\nHow to use video live streaming\, webinars and remote collaboration tools to get results for your business\nEquipment you need to get started\nAn overview of the tools and platforms currently available\nExamples of what others are doing\nHow to monetise this way of working
URL:https://investinangus.com/event/digital-tools-to-help-run-your-business-remotely-2/
CATEGORIES:Business Planning,Technology
END:VEVENT
END:VCALENDAR