BEGIN:VCALENDAR
VERSION:2.0
PRODID:-//Invest in Angus - ECPv6.15.17.1//NONSGML v1.0//EN
CALSCALE:GREGORIAN
METHOD:PUBLISH
X-ORIGINAL-URL:https://investinangus.com
X-WR-CALDESC:Events for Invest in Angus
REFRESH-INTERVAL;VALUE=DURATION:PT1H
X-Robots-Tag:noindex
X-PUBLISHED-TTL:PT1H
BEGIN:VTIMEZONE
TZID:UTC
BEGIN:STANDARD
TZOFFSETFROM:+0000
TZOFFSETTO:+0000
TZNAME:UTC
DTSTART:20220101T000000
END:STANDARD
END:VTIMEZONE
BEGIN:VEVENT
DTSTART;TZID=UTC:20230307T100000
DTEND;TZID=UTC:20230307T110000
DTSTAMP:20260421T143210
CREATED:20230222T172658Z
LAST-MODIFIED:20230222T172658Z
UID:10086643-1678183200-1678186800@investinangus.com
SUMMARY:Unlocking Potential: Apprenticeships in a Challenging Labour Market
DESCRIPTION:Scotland’s business landscape is shifting and taking on an apprentice could unlock the potential in your business. \nThis webinar\, aimed at employers\, will help you understand the current trends in Scotland and implications for companies looking to attract talent in this environment. \nThe Evaluation and Research Team\, from Skills Development Scotland\, will walk you through current Labour Market Information\, so you can thrive and adapt in the current climate and plan for a sustainable future.
URL:https://investinangus.com/event/unlocking-potential-apprenticeships-in-a-challenging-labour-market/
CATEGORIES:HR,Recruitment
END:VEVENT
BEGIN:VEVENT
DTSTART;TZID=UTC:20230307T100000
DTEND;TZID=UTC:20230307T120000
DTSTAMP:20260421T143210
CREATED:20230220T094949Z
LAST-MODIFIED:20230220T094949Z
UID:10086494-1678183200-1678190400@investinangus.com
SUMMARY:Blogging for business
DESCRIPTION:This webinar will provide you with the knowledge and understanding you need to create a blog that promotes your business. \nWe will cover: \n\nWhat a ‘blog’ is\, how to set one up and what it takes to make them work\nOther small and medium sized businesses who already blog successfully and what you can learn from them\nOptions for monetising a blog\nHow to promote your blog\nHow your blog can help move your website higher up search engine rankings\nUnderstanding analytics and measuring the impact of your blog
URL:https://investinangus.com/event/blogging-for-business-7/
CATEGORIES:Digital Marketing
END:VEVENT
BEGIN:VEVENT
DTSTART;TZID=UTC:20230307T110000
DTEND;TZID=UTC:20230307T120000
DTSTAMP:20260421T143210
CREATED:20230220T111457Z
LAST-MODIFIED:20230220T111457Z
UID:10086614-1678186800-1678190400@investinangus.com
SUMMARY:Skilled Worker Route: How employers can sponsor international talent
DESCRIPTION:With most EU and non-EU citizens now subject to the UK immigration system\, we invite you to join us as we discuss how the Skilled Worker route can help you to access overseas talent. \nAs a Scottish based SME\, TalentScotland can support your business in a number of ways.
URL:https://investinangus.com/event/skilled-worker-route-how-employers-can-sponsor-international-talent-5/
CATEGORIES:HR,Recruitment
END:VEVENT
BEGIN:VEVENT
DTSTART;TZID=UTC:20230307T130000
DTEND;TZID=UTC:20230307T150000
DTSTAMP:20260421T143210
CREATED:20230220T095034Z
LAST-MODIFIED:20230220T095034Z
UID:10086496-1678194000-1678201200@investinangus.com
SUMMARY:Website User Experience – Is your website fit for purpose?
DESCRIPTION:Websites should look good and function well\, and give your website visitors and customers a positive user experience. \nDuring this webinar\, we’ll look at User Experience (UX) and how you can improve it on your website\, including: \n\nUnderstand what User Experience is\nA look at some of the key factors\, including credibility\, value\, purpose and more\nHints\, tips and tools to help you start improving elements of your website\nAn overview of tools to help you measure User Experience
URL:https://investinangus.com/event/website-user-experience-is-your-website-fit-for-purpose-3/
CATEGORIES:Digital Marketing
END:VEVENT
BEGIN:VEVENT
DTSTART;TZID=UTC:20230307T140000
DTEND;TZID=UTC:20230307T150000
DTSTAMP:20260421T143210
CREATED:20230220T105038Z
LAST-MODIFIED:20230220T105038Z
UID:10086584-1678197600-1678201200@investinangus.com
SUMMARY:Cost of Doing Business: Reducing Energy Costs - Part 3
DESCRIPTION:Is your business impacted by rising energy costs? Join three practical webinars to discover low-cost investment opportunities to reduce energy costs and carbon emissions. \nJoin Mike Milner\, Tomson Consulting Ltd\, and Scottish Enterprise’s Sustainability Specialists on this practical three-part online series looking at the no cost\, low cost\, and investment opportunities for your company to reduce energy costs\, increase efficiencies and support decarbonisation – building long-term resilience in your business.These webinars are of value to all Scottish companies looking for practical solutions to reduce the impact of the energy crisis while working towards net zero. The webinars will provide insights into cost saving options for all sectors\, including energy monitoring\, management\, and behavioural change. You’ll also hear about specialised solutions associated with heating and cooling\, equipment\, and on-site renewable energy generation. \nMike Milner is a highly qualified and experienced engineer with over two decades of practical experience in many sectors including food and drink\, manufacturing\, hospitality and leisur\, construction\, and historic buildings. \nWebinar 3 — Opportunities – heating and cooling savings: \n\nBuilding heating\nProcess heating\nCooling and refrigeration\nHeat recovery\nHeat pumps\nHydrogen
URL:https://investinangus.com/event/cost-of-doing-business-reducing-energy-costs-part-3/
CATEGORIES:Business Planning,Energy
END:VEVENT
BEGIN:VEVENT
DTSTART;TZID=UTC:20230307T140000
DTEND;TZID=UTC:20230307T150000
DTSTAMP:20260421T143210
CREATED:20230222T172746Z
LAST-MODIFIED:20230222T172746Z
UID:10086645-1678197600-1678201200@investinangus.com
SUMMARY:Unlocking Potential: The Power of Mentoring with Apprenticeships
DESCRIPTION:Do you want to understand how mentoring can support your apprentice and your business? \nHear from an employer and apprentice first hand on the impact that good mentoring can have on the success of your workforce and business.
URL:https://investinangus.com/event/unlocking-potential-the-power-of-mentoring-with-apprenticeships/
CATEGORIES:HR,Recruitment
END:VEVENT
BEGIN:VEVENT
DTSTART;TZID=UTC:20230307T140000
DTEND;TZID=UTC:20230307T153000
DTSTAMP:20260421T143210
CREATED:20230117T091127Z
LAST-MODIFIED:20230117T091127Z
UID:10086235-1678197600-1678203000@investinangus.com
SUMMARY:Passing the Selection Stage – The Single Procurement Document (SPD)
DESCRIPTION:Do you know how to complete the Single Procurement Document? \nThe Single Procurement Document (SPD) formally known as European Single Procurement Document (ESPD) is a set of questions\, that cannot be altered\, that helps buyers identify if you are suitably qualified to carry out the contact you are bidding for. \nMost buyers use the SPD for the tendering process\, as it ensures that the process stays consistent. It can reduce your workload when bidding on an opportunity as your answers can be saved and reused again and again along as they remain relevant. \nCompleting the SPD can be daunting for everyone\, even if you have completed many in the past. It is a long document that splits the questions into different parts. In this training\, you will be given examples of the standard questions asked in the SPD by one of SDP’s expert trainers\, who will have no dubitably completed loads of Single Procurement Documents. \nOverview of what you will learn: \n\nWhat is the Single Procurement Document (SPD)?\nWhen will you need to complete the SPD?\nStandard Questions\nMitigating any issues in your SPD\nChecking your submission\n\nAt the end of the session\, there will be an interactive Q&A session where you will have the opportunity to ask any burning questions you may have. As well as have the chance to hear what other SME businesses in Scotland have to say. \nThis event is suitable for Level 2 (Intermediate) for people who know about bidding but need to develop specific knowledge and skills.
URL:https://investinangus.com/event/passing-the-selection-stage-the-single-procurement-document-spd/
CATEGORIES:Procurement
END:VEVENT
BEGIN:VEVENT
DTSTART;TZID=UTC:20230307T140000
DTEND;TZID=UTC:20230307T170000
DTSTAMP:20260421T143210
CREATED:20230123T105212Z
LAST-MODIFIED:20230123T105212Z
UID:10086321-1678197600-1678208400@investinangus.com
SUMMARY:Thinking into Results- Why Mindset is Your Key to Success
DESCRIPTION:Do you ever feel you could achieve more? What is holding you back? Not enough hours in the day\, demands on your time? Too many meetings? \nNowadays we are all under pressure. \nJoin us for a fun\, challenging and thought provoking afternoon with our highly respected mindset guru Jamie McBrearty\, and in a few hours find out how to achieve what you want in work and at home with a few small changes that bring about huge results. \nThis webinar is for business based in Dundee\, Angus and Perth.
URL:https://investinangus.com/event/thinking-into-results-why-mindset-is-your-key-to-success/
CATEGORIES:Business Planning,Health and Safety,HR
END:VEVENT
BEGIN:VEVENT
DTSTART;TZID=UTC:20230307T143000
DTEND;TZID=UTC:20230307T153000
DTSTAMP:20260421T143210
CREATED:20230306T133240Z
LAST-MODIFIED:20230306T133240Z
UID:10086679-1678199400-1678203000@investinangus.com
SUMMARY:Looking After Your Wellbeing at Work
DESCRIPTION:Join us for a Question and Answer style session focusing on the topic of wellbeing at work and learn ideas and tips on how wellbeing can be developed and improved within your workplace. \nThe session will cover- \n-What do we mean by Wellbeing? \n-What are the warning signs we can look out for in ourselves and others when our wellbeing may be at risk? \nWe will introduce some resources and services that can support wellbeing at work and tips for putting these supports in place.
URL:https://investinangus.com/event/looking-after-your-wellbeing-at-work/
CATEGORIES:HR,Wellbeing
END:VEVENT
BEGIN:VEVENT
DTSTART;TZID=UTC:20230307T180000
DTEND;TZID=UTC:20230307T200000
DTSTAMP:20260421T143210
CREATED:20230220T095120Z
LAST-MODIFIED:20230220T095120Z
UID:10086498-1678212000-1678219200@investinangus.com
SUMMARY:Facebook for business
DESCRIPTION:Get to grips with Facebook – the world’s most popular social networking platform. \nIn this webinar you will: \n\nLearn how to get the most out of Facebook and how it could fit into your business’s digital marketing strategy.\nBetter understand the algorithm behind Facebook\, and how to create great content that achieves a bigger reach and impact.\nLearn from the stats and data you can get from the system and discover who your most interested customers/clients are.\nUnderstand the power of Facebook advertising\, and other selling options available to you.\nDiscover other business opportunities presented by Facebook\, including how to promote and sell products and services.\nBe introduced to ‘Business Suite’ – a free Facebook dashboard to manage all your business activity.
URL:https://investinangus.com/event/facebook-for-business-27/
CATEGORIES:Digital Marketing
END:VEVENT
END:VCALENDAR