BEGIN:VCALENDAR
VERSION:2.0
PRODID:-//Invest in Angus - ECPv6.15.17.1//NONSGML v1.0//EN
CALSCALE:GREGORIAN
METHOD:PUBLISH
X-ORIGINAL-URL:https://investinangus.com
X-WR-CALDESC:Events for Invest in Angus
REFRESH-INTERVAL;VALUE=DURATION:PT1H
X-Robots-Tag:noindex
X-PUBLISHED-TTL:PT1H
BEGIN:VTIMEZONE
TZID:UTC
BEGIN:STANDARD
TZOFFSETFROM:+0000
TZOFFSETTO:+0000
TZNAME:UTC
DTSTART:20220101T000000
END:STANDARD
END:VTIMEZONE
BEGIN:VEVENT
DTSTART;TZID=UTC:20230308T080000
DTEND;TZID=UTC:20230309T170000
DTSTAMP:20260421T143206
CREATED:20230130T141248Z
LAST-MODIFIED:20230130T141248Z
UID:10086415-1678262400-1678381200@investinangus.com
SUMMARY:In-Drinks
DESCRIPTION:The largest dedicated drinks event in Scotland returns on the 8th and 9th March 2023. Experience the drinks sector in a new light\, with buyers and suppliers all under one roof. \nIn-Drinks will showcase over 300 drinks products\, from established and emerging brands\, in a high-energy show featuring exhibitors\, live demonstrations as well as an exciting programme of speaker and panel sessions from top inspiring industry professionals and experts. \nThis two-day event is aimed at producers\, buyers\, and suppliers to the drinks industry and is FREE to attend. \nA choice of exhibitor spaces are available to suit a range of budgets\, with an experienced sales\, marketing and events team to support and advise every step of the way.
URL:https://investinangus.com/event/in-drinks/
LOCATION:SEC Glasgow\, Exhibition Way\, Glasgow\, G3 8YW
CATEGORIES:Food & Drink,Networking
END:VEVENT
BEGIN:VEVENT
DTSTART;TZID=UTC:20230308T090000
DTEND;TZID=UTC:20230309T170000
DTSTAMP:20260421T143206
CREATED:20221118T153657Z
LAST-MODIFIED:20221118T153657Z
UID:10085881-1678266000-1678381200@investinangus.com
SUMMARY:ScotHot
DESCRIPTION:ScotHot\, Scotland’s leading showcase for food\, drink\, hospitality and tourism\, will return to the SEC Glasgow from 8 – 9 March 2023. \nThe show offers an unmissable opportunity to meet with suppliers\, network with others to share ideas and inspiration\, and learn about the latest trends from across the industry. \nFind out more about exhibiting.
URL:https://investinangus.com/event/scothot/
LOCATION:SEC Glasgow\, Exhibition Way\, Glasgow\, G3 8YW
CATEGORIES:Food & Drink,Networking,Tourism
END:VEVENT
BEGIN:VEVENT
DTSTART;TZID=UTC:20230308T093000
DTEND;TZID=UTC:20230308T130000
DTSTAMP:20260421T143206
CREATED:20230130T112508Z
LAST-MODIFIED:20230130T112508Z
UID:10086372-1678267800-1678280400@investinangus.com
SUMMARY:Destination Scotland – The power of food tourism
DESCRIPTION:The Power of Food Tourism is a unique\, informative\, and inspirational event like no other. For starters\, it’s only three-hours long. Short enough to let diaries breathe\, long enough for you to glean some fantastic takeaways. \nSo\, the event actively encourages those in food and drink\, tourism\, agritourism\, hospitality & catering\, destinations\, local authorities\, media\, in fact\, anyone who wants to know more to saddle up and come along. You may be a start-up\, looking to diversify or a well-established organisation curious about the opportunities. \nThe event won’t bore you with endless presentations but rather thrill and enthuse with a dynamic mixture of recognised industry experts\, interactive sessions\, discussion panels\, top tips\, takeaways\, and fun. Fun is important and the event will have plenty of it. \nAbove all\, the event is your chance to learn about the incredible people who make it all happen and why. To hear their stories\, ideas\, and ingenuity. To hear why they are relentless in their desire to put food and drink centre-stage and attract visitors. Delivered by Scotland food and drink and in partnership with the Scottish Tourism Alliance.
URL:https://investinangus.com/event/destination-scotland-the-power-of-food-tourism/
LOCATION:Scottish Event Campus\, Exhibition Way\, Glasgow\, G3 8YW
CATEGORIES:Food & Drink,Networking,Tourism
END:VEVENT
BEGIN:VEVENT
DTSTART;TZID=UTC:20230308T093000
DTEND;TZID=UTC:20230308T160000
DTSTAMP:20260421T143206
CREATED:20230220T105653Z
LAST-MODIFIED:20230220T105653Z
UID:10086586-1678267800-1678291200@investinangus.com
SUMMARY:Green Heat Innovation Workshop
DESCRIPTION:Decarbonising heating and cooling is a major opportunity for Scotland that could deliver significant emissions reductions\, commercial opportunities\, and bring comfort and health benefits to communities and homeowners. By 2045 the Scottish Government targets require that over 1 million homes and 50K non-domestic properties must switch to low emissions systems such as heat pumps\, district heat networks\, and geothermal energy.. \nIn order to deliver these targets and deliver the level of heat demand required\, a number of heat resources and innovations will need to be explored and harnessed. \nScottish Enterprise is offering in-person\, practical and interactive full-day workshops. These workshops will provide an opportunity for a range of organisations\, mainly SMEs\, across Scotland to build relationships\, and share innovative ideas to address the barriers and accelerate the roll out and adoption of green heating solutions and associated products.
URL:https://investinangus.com/event/green-heat-innovation-workshop/
LOCATION:Scottish Enterprise Aberdeen\, Marischal College Business Hub\, Aberdeen\, AB10 1AB
CATEGORIES:Energy,Sustainable/Circular Economy
END:VEVENT
BEGIN:VEVENT
DTSTART;TZID=UTC:20230308T093000
DTEND;TZID=UTC:20230308T170000
DTSTAMP:20260421T143206
CREATED:20230116T091431Z
LAST-MODIFIED:20230116T091431Z
UID:10086209-1678267800-1678294800@investinangus.com
SUMMARY:HR 1-2-1 Surgery Sessions
DESCRIPTION:With an academic background in business law & HR management\, Skye is the perfect resource to offer confidential\, impartial advice for businesses of all sizes and sectors. Whether you’re looking to hire your first employee\, looking to review your workplace policies or dealing with complex employee issues – no challenge is too big or too small. \nOnce you have booked your space online\, one of the team will be in touch to discuss an appointment time with you and send you further information. These sessions can take place online via Zoom or alternatively\, face to face in our Dundee Business Gateway Office. \nThese appointments are aimed at businesses based in Dundee\, Angus\, and Perth.
URL:https://investinangus.com/event/hr-1-2-1-surgery-sessions-3/
CATEGORIES:HR
END:VEVENT
BEGIN:VEVENT
DTSTART;TZID=UTC:20230308T100000
DTEND;TZID=UTC:20230308T110000
DTSTAMP:20260421T143206
CREATED:20230220T111724Z
LAST-MODIFIED:20230220T111724Z
UID:10086618-1678269600-1678273200@investinangus.com
SUMMARY:Reducing your digital carbon footprint
DESCRIPTION:This webinar is for Scottish Companies who have an interest in understanding more about what digital sustainability is and how you can act to reduce its impact.
URL:https://investinangus.com/event/reducing-your-digital-carbon-footprint/
CATEGORIES:Sustainable/Circular Economy
END:VEVENT
BEGIN:VEVENT
DTSTART;TZID=UTC:20230308T100000
DTEND;TZID=UTC:20230308T110000
DTSTAMP:20260421T143206
CREATED:20230222T172837Z
LAST-MODIFIED:20230222T172837Z
UID:10086647-1678269600-1678273200@investinangus.com
SUMMARY:Unlocking Potential: Attracting Young Talent through Apprenticeships
DESCRIPTION:Do you want to hear more about attracting young talent to your business and how it will help unlock your company’s potential? \nThis webinar will explain the context behind the career ambitions of young people. Hear about the influencers behind career ambitions and what type of jobs young people are attracted to. \nWe will also be joined by our apprenticeships.scot team to talk through the free recruitment tool that can help to widen your talent pool.
URL:https://investinangus.com/event/unlocking-potential-attracting-young-talent-through-apprenticeships/
CATEGORIES:HR,Recruitment
END:VEVENT
BEGIN:VEVENT
DTSTART;TZID=UTC:20230308T100000
DTEND;TZID=UTC:20230308T110000
DTSTAMP:20260421T143206
CREATED:20230306T133404Z
LAST-MODIFIED:20230306T133404Z
UID:10086681-1678269600-1678273200@investinangus.com
SUMMARY:Realising your potential: Support for women in business
DESCRIPTION:In recent years\, the world has shifted towards a more equal climate in the workspace\, but significant barriers still remain for women in business and the pandemic has brought about more challenges. \nFinding your community and a network of support is vital\, and this webinar\, on International Women’s Day\, will explore the issues faced by women including the unique barriers they encounter and the strategies which can be put in place to overcome them. \nChampions of women in business\, Carolyn Currie\, Chief Executive of Women’s Enterprise Scotland\, and Gail Macgregor\, Dumfries & Galloway councillor and COSLA spokesperson for Environment and Economy highlight the challenges\, explore the opportunities and set out tips for success. \nThis session will explore: \n\nHow the pandemic impacted female-led businesses and how we can reverse those trends\nWhy Scotland is a good place to be a woman in business\nWhat resources are available for women in business\nWhat some of the key skills and qualities that successful businesswomen possess are\, and how these can be developed
URL:https://investinangus.com/event/realising-your-potential-support-for-women-in-business/
CATEGORIES:Business Planning,Networking
END:VEVENT
BEGIN:VEVENT
DTSTART;TZID=UTC:20230308T100000
DTEND;TZID=UTC:20230308T120000
DTSTAMP:20260421T143206
CREATED:20230220T095203Z
LAST-MODIFIED:20230220T095203Z
UID:10086500-1678269600-1678276800@investinangus.com
SUMMARY:Instagram for business
DESCRIPTION:Thinking about using Instagram to communicate with existing and potential customers? Want to showcase your products or services using it? During this webinar we will cover: \n\nGetting the setup right and benefitting from the available business tools.\nBest practice profiles\, and some strategies to help your business stand out from the crowd.\nThe types of audience you can reach via this platform and the factors and analytics such as cost and timing of posting images and how that can maximise impact.\nThe various types of content you can post to Instagram\, from regular posts to Stories and Reels.
URL:https://investinangus.com/event/instagram-for-business-25/
CATEGORIES:Digital Marketing
END:VEVENT
BEGIN:VEVENT
DTSTART;TZID=UTC:20230308T113000
DTEND;TZID=UTC:20230308T123000
DTSTAMP:20260421T143206
CREATED:20230220T111612Z
LAST-MODIFIED:20230220T111612Z
UID:10086616-1678275000-1678278600@investinangus.com
SUMMARY:An update on 'Right to Work' checks
DESCRIPTION:Covid-19 right to work measures are ending on 30 September 2022. In this webinar\, TalentScotland will look at how employers in Scotland can continue to perform right to work checks after this date. \nThis webinar is presented by Brodies LLP\, TalentScotland’s immigration specialists\, and you’ll have the opportunity to have any questions you might have.
URL:https://investinangus.com/event/an-update-on-right-to-work-checks-4/
CATEGORIES:HR,Recruitment
END:VEVENT
BEGIN:VEVENT
DTSTART;TZID=UTC:20230308T130000
DTEND;TZID=UTC:20230308T163000
DTSTAMP:20260421T143206
CREATED:20230220T105753Z
LAST-MODIFIED:20230220T105753Z
UID:10086589-1678280400-1678293000@investinangus.com
SUMMARY:Managing your Multi Channel ECommerce Strategy Masterclass
DESCRIPTION:There’s more to selling online than simply having your own website. This half-day masterclass will cover the key areas you need to consider when managing a successful multi-channel ecommerce business. \nThese days\, most online sellers combine their own website with a selection of online marketplaces. This allows them to reach a wide range of customers\, both here in the UK and overseas. The multi-channel model can be a great way to boost your visibility and sales\, but it does require a strategic approach. \nIn this session you will learn how to: \n\nChoose the right combination of website platform and online marketplaces\nResearch and prepare your products for selling online\, including content\, images\, and videos\nReach retail and wholesale customers\, including niche buyers\nExpand overseas using website and marketplace platforms\nDevelop your customer service and order fulfilment plans\nCombine your operations via a range of simple software and logistics solutions\n\nDuring the masterclass you’ll get insights into live accounts – such as Shopify\, eBay\, Amazon\, Etsy\, Wayfair\, and Faire – and examples of how these accounts can be managed using one piece of software. \nThis event will be delivered by Karen Riddick\, a business owner\, writer\, speaker\, and Amazon guru. Karen founded Second Nature Online\, a sustainable soft furnishing business\, in 2008. Since then\, her company has grown considerably using global e-marketplaces\, like Amazon\, to reach international customers.
URL:https://investinangus.com/event/managing-your-multi-channel-ecommerce-strategy-masterclass/
CATEGORIES:Business Planning,Digital Marketing,International Trade
END:VEVENT
BEGIN:VEVENT
DTSTART;TZID=UTC:20230308T140000
DTEND;TZID=UTC:20230308T160000
DTSTAMP:20260421T143206
CREATED:20230220T095249Z
LAST-MODIFIED:20230220T095249Z
UID:10086502-1678284000-1678291200@investinangus.com
SUMMARY:How to start a business: The basics
DESCRIPTION:Whatever your reasons may be for considering being your own boss\, Business Gateway is here to support you and help you decide if this is the right path for you. Helping you consider your plans from exploring your potential customers to looking at the key activities and costs involved. \nWe will cover: \n\nPersonal finance planning – how much do you need to earn?\nResearching your market – who your customers are\, understanding your competition and what the trends are within your chosen field\nBusiness structure – what are the core business structures? How to decide which is right for you and how to register as a business\nCreating your start-up action plan – an outline\nMarketing\nPricing\nNaming the business\nBasic bookkeeping\nForecasting\nFinancing\, banking\, insurance\, and VAT\nTax
URL:https://investinangus.com/event/how-to-start-a-business-the-basics-12/
CATEGORIES:Business Start-up
END:VEVENT
BEGIN:VEVENT
DTSTART;TZID=UTC:20230308T170000
DTEND;TZID=UTC:20230308T190000
DTSTAMP:20260421T143206
CREATED:20230220T095335Z
LAST-MODIFIED:20230220T095335Z
UID:10086504-1678294800-1678302000@investinangus.com
SUMMARY:Cloud essentials for business
DESCRIPTION:Business owners and managers are busy. You’re wearing many hats\, and your time is always in short supply. Cloud-based digital tools help you to run a more productive business by embracing the right digital processes. \nWe’ll focus on exploring a range of tools on the market which will help you to enhance your customer service operation\, improve your project management\, organise your digital storage and much more. By the end of this webinar\, you will be able to: \n\nUnderstand what the cloud is and what its benefits are\nUnderstand your own ‘digital back office’\nUse up-to-date knowledge on current cloud services and tools to help you with your business operations\nMake informed decisions about improving your digital processes based on scalability\, security\, efficiency and affordability
URL:https://investinangus.com/event/cloud-essentials-for-business-3/
CATEGORIES:Business Planning,Technology
END:VEVENT
END:VCALENDAR