BEGIN:VCALENDAR
VERSION:2.0
PRODID:-//Invest in Angus - ECPv6.15.17.1//NONSGML v1.0//EN
CALSCALE:GREGORIAN
METHOD:PUBLISH
X-WR-CALNAME:Invest in Angus
X-ORIGINAL-URL:https://investinangus.com
X-WR-CALDESC:Events for Invest in Angus
REFRESH-INTERVAL;VALUE=DURATION:PT1H
X-Robots-Tag:noindex
X-PUBLISHED-TTL:PT1H
BEGIN:VTIMEZONE
TZID:UTC
BEGIN:STANDARD
TZOFFSETFROM:+0000
TZOFFSETTO:+0000
TZNAME:UTC
DTSTART:20220101T000000
END:STANDARD
END:VTIMEZONE
BEGIN:VEVENT
DTSTART;TZID=UTC:20230308T080000
DTEND;TZID=UTC:20230309T170000
DTSTAMP:20260421T143116
CREATED:20230130T141248Z
LAST-MODIFIED:20230130T141248Z
UID:10086415-1678262400-1678381200@investinangus.com
SUMMARY:In-Drinks
DESCRIPTION:The largest dedicated drinks event in Scotland returns on the 8th and 9th March 2023. Experience the drinks sector in a new light\, with buyers and suppliers all under one roof. \nIn-Drinks will showcase over 300 drinks products\, from established and emerging brands\, in a high-energy show featuring exhibitors\, live demonstrations as well as an exciting programme of speaker and panel sessions from top inspiring industry professionals and experts. \nThis two-day event is aimed at producers\, buyers\, and suppliers to the drinks industry and is FREE to attend. \nA choice of exhibitor spaces are available to suit a range of budgets\, with an experienced sales\, marketing and events team to support and advise every step of the way.
URL:https://investinangus.com/event/in-drinks/
LOCATION:SEC Glasgow\, Exhibition Way\, Glasgow\, G3 8YW
CATEGORIES:Food & Drink,Networking
END:VEVENT
BEGIN:VEVENT
DTSTART;TZID=UTC:20230308T090000
DTEND;TZID=UTC:20230309T170000
DTSTAMP:20260421T143116
CREATED:20221118T153657Z
LAST-MODIFIED:20221118T153657Z
UID:10085881-1678266000-1678381200@investinangus.com
SUMMARY:ScotHot
DESCRIPTION:ScotHot\, Scotland’s leading showcase for food\, drink\, hospitality and tourism\, will return to the SEC Glasgow from 8 – 9 March 2023. \nThe show offers an unmissable opportunity to meet with suppliers\, network with others to share ideas and inspiration\, and learn about the latest trends from across the industry. \nFind out more about exhibiting.
URL:https://investinangus.com/event/scothot/
LOCATION:SEC Glasgow\, Exhibition Way\, Glasgow\, G3 8YW
CATEGORIES:Food & Drink,Networking,Tourism
END:VEVENT
BEGIN:VEVENT
DTSTART;TZID=UTC:20230309T090000
DTEND;TZID=UTC:20230309T110000
DTSTAMP:20260421T143116
CREATED:20230220T095433Z
LAST-MODIFIED:20230220T095433Z
UID:10086506-1678352400-1678359600@investinangus.com
SUMMARY:e-Commerce with Shopify
DESCRIPTION:Shopify is a powerful all-in-one e-Commerce website builder that makes setting up an online store simple and straightforward. In this webinar\, we will explore Shopify’s features and pull together the building blocks for your first e-Commerce website. \nBy the end of this webinar\, you will be able to: \n\nUnderstand the essential features that a website needs to have to sell physical and digital products online\nUnderstand what Shopify is and how to use the features it offers to build a secure and powerful e-Commerce website\nUse the Shopify page builder and work with free themes to get the design and style of your website on-brand\nUnderstand how to manage orders and deliver great customer service\nUnderstand how to launch your new e-Commerce website and ensure all essential building blocks are in place using a pre-launch checklist
URL:https://investinangus.com/event/e-commerce-with-shopify-9/
CATEGORIES:Digital Marketing
END:VEVENT
BEGIN:VEVENT
DTSTART;TZID=UTC:20230309T100000
DTEND;TZID=UTC:20230309T110000
DTSTAMP:20260421T143116
CREATED:20230220T105910Z
LAST-MODIFIED:20230220T105910Z
UID:10086591-1678356000-1678359600@investinangus.com
SUMMARY:Understanding Your Customer and Building a Customer Avatar
DESCRIPTION:If businesses don’t understand their customers they can’t sell effectively to them. This webinar will provide participants with the approach needed to truly and simply understand who their customers are and what they want. \nPRESENTER Ben Leonard \nBen is an illustration of how one person can build a business on a laptop\, from a cupboard\, in their spare time. Unlike other millennial entrepreneurs\, he grew this into an international 7 figure business within 3 years. He provides both inspiration and guidance to the next generation of young entrepreneurs who want to see their businesses reach new heights. Recognised in 2019 as one of Scotland’s Emerging Entrepreneurs of the Year\, Ben’s prepared to share the recipe for his success with other ambitious Scottish businesses. \nDespite no formal training\, Ben grew his sports and fitness equipment business “Beast Gear” into an international brand\, selling through online e-marketplaces across Europe\, the Middle East and Australia before exiting through sale
URL:https://investinangus.com/event/understanding-your-customer-and-building-a-customer-avatar-3/
CATEGORIES:Business Planning
END:VEVENT
BEGIN:VEVENT
DTSTART;TZID=UTC:20230309T100000
DTEND;TZID=UTC:20230309T110000
DTSTAMP:20260421T143116
CREATED:20230222T172926Z
LAST-MODIFIED:20230222T172926Z
UID:10086649-1678356000-1678359600@investinangus.com
SUMMARY:Unlocking Potential: Employers Influencing the Apprenticeship System
DESCRIPTION:Employers can have a say on the development of future apprenticeships\, making them fit for businesses of all sizes. \nThis webinar will outline how you can get involved and influence change in your sector. \nWe will hear from Terry Dillon\, Senior Programme Manager at SDS\, who will present on the new Technical Expert Group Development Model and how you can play a part.
URL:https://investinangus.com/event/unlocking-potential-employers-influencing-the-apprenticeship-system/
CATEGORIES:HR,Recruitment
END:VEVENT
BEGIN:VEVENT
DTSTART;TZID=UTC:20230309T110000
DTEND;TZID=UTC:20230309T120000
DTSTAMP:20260421T143116
CREATED:20230220T095546Z
LAST-MODIFIED:20230220T095546Z
UID:10086508-1678359600-1678363200@investinangus.com
SUMMARY:Tourism businesses: Make your website work for your customers
DESCRIPTION:Your website is your shop window to the world. It’s even more important now to manage it well\, so find out how to attract and delight customers with it. \nAt the end of this webinar you’ll: \n\nUnderstand how users consume content.\nUnderstand the importance of knowing your online users’ experience and tailoring the customer journey on your website accordingly.\nFind out how to measure user experience cost-effectively.\nHave some great examples of making user experience work.
URL:https://investinangus.com/event/tourism-businesses-make-your-website-work-for-your-customers-2/
CATEGORIES:Digital Marketing,Tourism
END:VEVENT
BEGIN:VEVENT
DTSTART;TZID=UTC:20230309T110000
DTEND;TZID=UTC:20230309T120000
DTSTAMP:20260421T143116
CREATED:20230220T111830Z
LAST-MODIFIED:20230220T111830Z
UID:10086620-1678359600-1678363200@investinangus.com
SUMMARY:Latest updates on the low-cost visa routes
DESCRIPTION:There are lots of low-cost visa routes under the UK’s points-based system. \nJoin TalentScotland for an update on affordable visa options\, including the Graduate\, High Potential Individual and Youth Mobility routes.
URL:https://investinangus.com/event/latest-updates-on-the-low-cost-visa-routes-3/
CATEGORIES:HR
END:VEVENT
BEGIN:VEVENT
DTSTART;TZID=UTC:20230309T140000
DTEND;TZID=UTC:20230309T160000
DTSTAMP:20260421T143116
CREATED:20230220T095754Z
LAST-MODIFIED:20230220T095754Z
UID:10086510-1678370400-1678377600@investinangus.com
SUMMARY:Build an effective strategy to grow your business
DESCRIPTION:This webinar is practical\, outcome driven\, and designed to fit with the needs of small businesses in both B2C and B2B environments. It will help you develop a strategically led approach that can turbo charge business growth\, identify the core growth strategy(ies) that are right for your business\, and develop an action plan. \nWe will look at: \n\nYour business today – identifying your strengths and areas for development\nThe key pillars of a business and why balancing all areas is essential for success\nPersonal and business ambitions and using these to guide strategy development\nAnsoff’s Matrix as a tool for identifying core growth strategies\nThe core components of your business delivery\nHow to develop a methodical\, strategic approach to developing your business for future success\n\nAfter the webinar\, you will understand: \n\nHow to undertake a balanced review of where your business is that helps identify areas for development\nAnsoff’s Matrix and how to use it as a core strategic planning tool\nHow to create a strategic plan for growing your business
URL:https://investinangus.com/event/build-an-effective-strategy-to-grow-your-business-9/
CATEGORIES:Business Planning
END:VEVENT
BEGIN:VEVENT
DTSTART;TZID=UTC:20230309T180000
DTEND;TZID=UTC:20230309T200000
DTSTAMP:20260421T143116
CREATED:20230130T111749Z
LAST-MODIFIED:20230130T111749Z
UID:10086366-1678384800-1678392000@investinangus.com
SUMMARY:How to Write a Business Plan and Why You Need One
DESCRIPTION:This webinar will help you create a robust business plan. \nThe webinar will look at: \n\ncreating a description for your business\nthe business planning process\nefficient ways of obtaining skills and resources\npresenting your business plan\n\nThere will also be information on additional services from Business Gateway and details of other webinars which may be appropriate for you.  \nThis webinar is for businesses based in Dundee\, Angus and Perth.
URL:https://investinangus.com/event/how-to-write-a-business-plan-and-why-you-need-one-10/
CATEGORIES:Business Planning
END:VEVENT
END:VCALENDAR