BEGIN:VCALENDAR
VERSION:2.0
PRODID:-//Invest in Angus - ECPv6.15.17.1//NONSGML v1.0//EN
CALSCALE:GREGORIAN
METHOD:PUBLISH
X-WR-CALNAME:Invest in Angus
X-ORIGINAL-URL:https://investinangus.com
X-WR-CALDESC:Events for Invest in Angus
REFRESH-INTERVAL;VALUE=DURATION:PT1H
X-Robots-Tag:noindex
X-PUBLISHED-TTL:PT1H
BEGIN:VTIMEZONE
TZID:UTC
BEGIN:STANDARD
TZOFFSETFROM:+0000
TZOFFSETTO:+0000
TZNAME:UTC
DTSTART:20220101T000000
END:STANDARD
END:VTIMEZONE
BEGIN:VEVENT
DTSTART;TZID=UTC:20230310T100000
DTEND;TZID=UTC:20230310T110000
DTSTAMP:20260421T213836
CREATED:20230222T173017Z
LAST-MODIFIED:20230222T173017Z
UID:10086651-1678442400-1678446000@investinangus.com
SUMMARY:Unlocking Potential: Tap into talent and Broaden your reach with Apprenticeships
DESCRIPTION:Are you keen to consider the opportunities of expanding the diversity of your workforce? \nHear real examples of why employers have invested in apprenticeships to support their inclusive workforce challenges\, how they went about it and how the business has benefited.
URL:https://investinangus.com/event/unlocking-potential-tap-into-talent-and-broaden-your-reach-with-apprenticeships/
CATEGORIES:HR,Recruitment
END:VEVENT
BEGIN:VEVENT
DTSTART;TZID=UTC:20230310T120000
DTEND;TZID=UTC:20230310T140000
DTSTAMP:20260421T213836
CREATED:20230220T100216Z
LAST-MODIFIED:20230220T100216Z
UID:10086512-1678449600-1678456800@investinangus.com
SUMMARY:Upgrade your business marketing with a CRM system
DESCRIPTION:From organising how you reach new customers to tracking the new deals you close\, a Customer Relationship Management (CRM) system is a great tool to help your business grow. In this webinar\, we’ll show you how to connect a CRM to your website\, track potential new customers\, manage your business activities\, nurture your leads and track successful\, new business. \nBy the end of this webinar\, you will understand: \n\nWhat a CRM is\, why they’re important and the difference between some of the best CRMs offered to businesses.\nHow to use HubSpot\, a free CRM\, for managing contacts\, organising sales processes and creating reports.\nHow to improve your sales and marketing processes by using CRM task management\, meeting scheduling and email marketing.\nYour legal responsibilities when capturing customer information.
URL:https://investinangus.com/event/upgrade-your-business-marketing-with-a-crm-system-9/
CATEGORIES:Business Planning,Digital Marketing
END:VEVENT
BEGIN:VEVENT
DTSTART;TZID=UTC:20230310T150000
DTEND;TZID=UTC:20230310T170000
DTSTAMP:20260421T213836
CREATED:20230220T100400Z
LAST-MODIFIED:20230220T100400Z
UID:10086514-1678460400-1678467600@investinangus.com
SUMMARY:Build your brand and promotional graphics
DESCRIPTION:This webinar will define what a brand is (and is not) and explain how it is more than just creating a logo. We will explore how a business can use their brand to show its identity\, purpose\, personality\, message\, and values in order to stand out from competitors\, build a loyal customer base and make more sales. \nThis session will: \n\nProvide you with a clear understanding of the difference between brands and branding\nHelp you understand what a brand is\nShow you why branding is important\nLook at your brand strategy\, brand identity and action\nHelp you learn how to develop your brand’s positioning\, character\, and purpose to differentiate your business from its competitors\nDemonstrate how to set up a brand kit and style guide to ensure consistency across websites\, social media\, business cards\, posters etc.\nTeach you how to create simple promotional graphics using a variety of tools including Canva\nHighlight a variety of free tools including Google Drive\, Hubspot and Mailchimp that can save time and simplify marketing tasks
URL:https://investinangus.com/event/build-your-brand-and-promotional-graphics-9/
CATEGORIES:Digital Marketing,Marketing
END:VEVENT
END:VCALENDAR