BEGIN:VCALENDAR
VERSION:2.0
PRODID:-//Invest in Angus - ECPv6.15.17.1//NONSGML v1.0//EN
CALSCALE:GREGORIAN
METHOD:PUBLISH
X-WR-CALNAME:Invest in Angus
X-ORIGINAL-URL:https://investinangus.com
X-WR-CALDESC:Events for Invest in Angus
REFRESH-INTERVAL;VALUE=DURATION:PT1H
X-Robots-Tag:noindex
X-PUBLISHED-TTL:PT1H
BEGIN:VTIMEZONE
TZID:UTC
BEGIN:STANDARD
TZOFFSETFROM:+0000
TZOFFSETTO:+0000
TZNAME:UTC
DTSTART:20220101T000000
END:STANDARD
END:VTIMEZONE
BEGIN:VEVENT
DTSTART;TZID=UTC:20230314T093000
DTEND;TZID=UTC:20230314T170000
DTSTAMP:20260421T161127
CREATED:20230116T091525Z
LAST-MODIFIED:20230116T091525Z
UID:10086211-1678786200-1678813200@investinangus.com
SUMMARY:Finance 1-2-1 Surgery Sessions
DESCRIPTION:Take this opportunity to discuss your finance queries with our finance specialist\, Scott Geddes. Gain clarity on the start-up and running costs for your business or discuss how to make your business profitable and financially viable. \nBrush up on some financial basics by learning how to create a cash-flow forecast and better understand your business’s profit and loss accounts. If you’re getting ready to apply for funding\, lean on Scott’s experience to understand what lenders are looking for. \nBecome aware of your financial commitments\, as they can differ depending on your business type. \nOnce you have booked your space online\, one of the team will be in touch to discuss an appointment time with you and send you further information. These sessions can take place online via Zoom or alternatively\, face to face in our Dundee Business Gateway Office. \nThese appointments are aimed at businesses based in Dundee\, Angus\, and Perth.
URL:https://investinangus.com/event/finance-1-2-1-surgery-sessions-8/
CATEGORIES:Finance
END:VEVENT
BEGIN:VEVENT
DTSTART;TZID=UTC:20230314T100000
DTEND;TZID=UTC:20230314T110000
DTSTAMP:20260421T161127
CREATED:20230220T110055Z
LAST-MODIFIED:20230220T110055Z
UID:10086593-1678788000-1678791600@investinangus.com
SUMMARY:Lead Generation - Digital Platforms and Tools
DESCRIPTION:B2B purchasing decision making processes are typically more complex than B2C – often involving multiple different stakeholders\, each with their own different needs\, perspectives and potential sales objectives we need to overcome \nPRESENTER Roddy MacLean \nRoddy has a track record of launching and scaling successful businesses online. He has managed several successful multi-million pound e-commerce businesses from start-up to maturity in markets including the UK\, France\, Italy\, the US and China and in his last corporate role spent 7 years as the Global Head of E-Commerce and Digital Marketing for a $120M\, US Internet Retailer Top 200 e-commerce business. \nIn recent years\, Roddy has established two successful new ventures\, Feral\, a digital marketing and e-commerce consultancy helping brands to produce authentic pillar marketing content and building high performance websites and an e-commerce retail business selling home décor products. This business is now a key player in the UK home interiors market.
URL:https://investinangus.com/event/lead-generation-digital-platforms-and-tools/
CATEGORIES:Business Planning,Digital Marketing
END:VEVENT
BEGIN:VEVENT
DTSTART;TZID=UTC:20230314T100000
DTEND;TZID=UTC:20230314T120000
DTSTAMP:20260421T161127
CREATED:20230220T100608Z
LAST-MODIFIED:20230220T100608Z
UID:10086518-1678788000-1678795200@investinangus.com
SUMMARY:Google Analytics – Understand how your website performs
DESCRIPTION:Google Analytics (Universal and GA4) is a powerful tool that helps you understand how your website is performing. It helps answer lots of questions\, including: \n\nWhich marketing channels drive traffic to your site?\nWhat pages are users looking at the most?\nWhat impact does mobile have on your potential customers?\n\nDuring this webinar\, we’ll help you understand how Google Analytics is set up and give you an overview of key reports. We’ll also look at other web analytics tools to help you online.
URL:https://investinangus.com/event/google-analytics-understand-how-your-website-performs-3/
CATEGORIES:Digital Marketing
END:VEVENT
BEGIN:VEVENT
DTSTART;TZID=UTC:20230314T103000
DTEND;TZID=UTC:20230314T120000
DTSTAMP:20260421T161127
CREATED:20230117T091228Z
LAST-MODIFIED:20230117T091228Z
UID:10086237-1678789800-1678795200@investinangus.com
SUMMARY:Working with the Public Sector - All You Need to Know
DESCRIPTION:How well do you know the public sector? This introductory module is recommended for anyone new to bidding. It provides a comprehensive overview of the public sector marketplace in Scotland and beyond and introduces the concept of tendering and procurement. \nThis event is suitable for Level 1 (Beginner) workshop is a first step to tendering for new or inexperienced bidders. No previous knowledge or experience is required to attend this workshop.\n \nDuring this course\, you will learn: \n\nWhat is the public sector?\nRoutes into the public sector\nFinding opportunities\nCreating a pipeline of work\nPre-engagement activities
URL:https://investinangus.com/event/working-with-the-public-sector-all-you-need-to-know-2/
CATEGORIES:Procurement
END:VEVENT
BEGIN:VEVENT
DTSTART;TZID=UTC:20230314T110000
DTEND;TZID=UTC:20230314T120000
DTSTAMP:20260421T161127
CREATED:20230220T111928Z
LAST-MODIFIED:20230220T111928Z
UID:10086622-1678791600-1678795200@investinangus.com
SUMMARY:Scale-Up visa route - latest updates
DESCRIPTION:The government has recently introduced the Scale-Up visa route\, which gives certain employers another visa option to help access international talent. \nJoin us to learn more about this new route and how it could help you access international talent.
URL:https://investinangus.com/event/scale-up-visa-route-latest-updates-2/
CATEGORIES:HR,Recruitment
END:VEVENT
BEGIN:VEVENT
DTSTART;TZID=UTC:20230314T140000
DTEND;TZID=UTC:20230314T160000
DTSTAMP:20260421T161127
CREATED:20230220T100650Z
LAST-MODIFIED:20230220T100650Z
UID:10086520-1678802400-1678809600@investinangus.com
SUMMARY:The essentials of bookkeeping and what expenses you can claim
DESCRIPTION:This webinar is for those who are entering business for the first time or require an understanding of what is involved in financially managing a business\, including basic bookkeeping\, and creating a profit and loss account. You will also get an understanding of what expenses the business can claim and then how to fund your business. At the end of the session\, you will receive a workbook on excel to help you manage and monitor costs and sales. \nAt the end of this session\, you will be able to: \n\nImplement basic bookkeeping skills across your business\nCreate a profit and loss account\nUnderstand what expenses can and cannot be claimed\nUse financial management to increase revenues and profits\nUnderstand capital and revenue costs and how they are treated
URL:https://investinangus.com/event/the-essentials-of-bookkeeping-and-what-expenses-you-can-claim-12/
CATEGORIES:Finance
END:VEVENT
BEGIN:VEVENT
DTSTART;TZID=UTC:20230314T140000
DTEND;TZID=UTC:20230314T170000
DTSTAMP:20260421T161127
CREATED:20230206T093700Z
LAST-MODIFIED:20230206T093700Z
UID:10086441-1678802400-1678813200@investinangus.com
SUMMARY:Don’t get TR**PPED up by IP
DESCRIPTION:Join us for a really informative event. Whether you have just started a business or own one already. \nFrom this event you will learn about: \n\nCopyright\nRegistered and unregistered trademarks\nRegistered and unregistered designs\nPatents\nConfidential information\n\nAfter this class you will: \n\nHave an awareness of all aspects of IP as they affect their organisations\nBe able to distinguish between copyright\, patents\, trademarks\, designs and confidential information\nUnderstand the importance of IP in all organisations\nUnderstand the necessity of considering IP from the outset of a business\nRecognise the rights licensing\, registering and managing entities related to IP in the UK\nRecognise the relevant aspects of each form of IP
URL:https://investinangus.com/event/dont-get-trpped-up-by-ip/
CATEGORIES:Business Planning,Legislation
END:VEVENT
END:VCALENDAR