BEGIN:VCALENDAR
VERSION:2.0
PRODID:-//Invest in Angus - ECPv6.15.17.1//NONSGML v1.0//EN
CALSCALE:GREGORIAN
METHOD:PUBLISH
X-WR-CALNAME:Invest in Angus
X-ORIGINAL-URL:https://investinangus.com
X-WR-CALDESC:Events for Invest in Angus
REFRESH-INTERVAL;VALUE=DURATION:PT1H
X-Robots-Tag:noindex
X-PUBLISHED-TTL:PT1H
BEGIN:VTIMEZONE
TZID:UTC
BEGIN:STANDARD
TZOFFSETFROM:+0000
TZOFFSETTO:+0000
TZNAME:UTC
DTSTART:20220101T000000
END:STANDARD
END:VTIMEZONE
BEGIN:VEVENT
DTSTART;TZID=UTC:20230320T090000
DTEND;TZID=UTC:20230320T110000
DTSTAMP:20260421T233442
CREATED:20230220T101337Z
LAST-MODIFIED:20230220T101337Z
UID:10086534-1679302800-1679310000@investinangus.com
SUMMARY:How to write and develop your business plan
DESCRIPTION:New and established businesses will require a business plan for getting a loan\, grant or just to consider the direction they wish to go in. This webinar will teach you what you need to include and how. We will walk you through what should be included within a business plan\, how a business plan is used to improve your prospects for a loan or a grant\, and how you can develop a business plan to meet your needs. \nWe will: \n\nProvide a structure for a business plan\nReview each section of what should be included within the business plan\nExplain when and how to use a business plan\nExplore the connections (and importance) between the words and the numbers\nLook at how to identify and manage cashflow within the business planning process
URL:https://investinangus.com/event/how-to-write-and-develop-your-business-plan-13/
CATEGORIES:Business Planning,Business Start-up
END:VEVENT
BEGIN:VEVENT
DTSTART;TZID=UTC:20230320T100000
DTEND;TZID=UTC:20230320T120000
DTSTAMP:20260421T233442
CREATED:20230220T101421Z
LAST-MODIFIED:20230220T101421Z
UID:10086536-1679306400-1679313600@investinangus.com
SUMMARY:Digital tools to help run your business remotely
DESCRIPTION:Are you ready to ‘go live’ and engage your audience with a live stream? What about running webinars or working remotely with clients or collaborators on the other side of the world? Let us guide you through: \n\nHow to use video live streaming\, webinars and remote collaboration tools to get results for your business\nEquipment you need to get started\nAn overview of the tools and platforms currently available\nExamples of what others are doing\nHow to monetise this way of working
URL:https://investinangus.com/event/digital-tools-to-help-run-your-business-remotely-3/
CATEGORIES:Business Planning,Technology
END:VEVENT
BEGIN:VEVENT
DTSTART;TZID=UTC:20230320T130000
DTEND;TZID=UTC:20230320T150000
DTSTAMP:20260421T233442
CREATED:20230220T101601Z
LAST-MODIFIED:20230220T101601Z
UID:10086540-1679317200-1679324400@investinangus.com
SUMMARY:How to improve your Google search rankings - Part 2: Off page optimisation & technical considerations
DESCRIPTION:Join us as we take a further\, more detailed look at how the Google search engines indexes and ranks websites based on a number of external (off-page) and technical factors. Implementing this learning will increase your chances of customers discovering your business through Google – the world’s leading research tool. \nWe will cover: \n\nHow to block or control what websites are allowed to ‘index’\nThe importance of a fast loading mobile website\nHow security and usability influence Google\nWhat “off-page” optimisation means\, and tactics to generate back-links\nThe importance of Local SEO\, and why a “Google Business Profile” is vital
URL:https://investinangus.com/event/how-to-improve-your-google-search-rankings-part-2-off-page-optimisation-technical-considerations-8/
CATEGORIES:Digital Marketing
END:VEVENT
END:VCALENDAR