BEGIN:VCALENDAR
VERSION:2.0
PRODID:-//Invest in Angus - ECPv6.15.17.1//NONSGML v1.0//EN
CALSCALE:GREGORIAN
METHOD:PUBLISH
X-ORIGINAL-URL:https://investinangus.com
X-WR-CALDESC:Events for Invest in Angus
REFRESH-INTERVAL;VALUE=DURATION:PT1H
X-Robots-Tag:noindex
X-PUBLISHED-TTL:PT1H
BEGIN:VTIMEZONE
TZID:UTC
BEGIN:STANDARD
TZOFFSETFROM:+0000
TZOFFSETTO:+0000
TZNAME:UTC
DTSTART:20220101T000000
END:STANDARD
END:VTIMEZONE
BEGIN:VEVENT
DTSTART;TZID=UTC:20230322T090000
DTEND;TZID=UTC:20230322T130000
DTSTAMP:20260421T143203
CREATED:20230117T091501Z
LAST-MODIFIED:20230117T091501Z
UID:10086241-1679475600-1679490000@investinangus.com
SUMMARY:Fife & Tayside Procurement Surgery
DESCRIPTION:To support local suppliers in Angus\, Dundee City\, Fife and Perth & Kinross Councils\, Procurement Surgeries are hosted by each local authority on a rotating basis. \nLocal suppliers are invited to attend clinic appointments lasting 20 minutes\, available from 9:00am to 1:00pm by prior appointment only.  The appointments shall be conducted via Webex\, hosted by the Supplier Development Programme. \nProcurement Surgeries will: \n\nSignpost and prepare businesses to local support\, aiming to increase their confidence when tendering with the public sector;\nAssist suppliers in gaining knowledge of local supply chain opportunities across Fife and Tayside;\nHelp the Councils build relationships with suppliers and break down barriers to bidding;\nRaise awareness of the opportunities within public sector procurement\, such as Regulated Procurement Pipelines; and\nSupport suppliers in becoming “tender ready” with the Supplier Development Programme to better understand and respond to the “ask” from local authorities in procurement.\n\nBookings for Procurement Surgeries must be booked in advance by SMEs by logging into the SDP website and answering the required questions that are part of the booking process.
URL:https://investinangus.com/event/fife-tayside-procurement-surgery-4/
CATEGORIES:Procurement
END:VEVENT
BEGIN:VEVENT
DTSTART;TZID=UTC:20230322T093000
DTEND;TZID=UTC:20230322T103000
DTSTAMP:20260421T143203
CREATED:20230306T143655Z
LAST-MODIFIED:20230306T143655Z
UID:10086715-1679477400-1679481000@investinangus.com
SUMMARY:Thorntons Corporate Webinar - Protecting Your Business During a Downturn
DESCRIPTION:In a time of economic uncertainty\, supply issues\, inflationary pressures and spiralling costs\, business owners in all sectors need to take proactive measures to protect their business – and themselves. \nWhether you need to manage costs; you’re experiencing supply chain issues; or you need to review your business structure and financing\, there are a range of measures available to help navigate a difficult business environment.  Seeking early advice is always recommended to help avoid potential business disruption during an economic downturn. \nIn this webinar and Q&A\, Partners Pamela Muir and Chris Allan will explore the various legal options available to help reduce risks across your business and adjust to changing trading conditions. \nThis webinar will cover: \n\nStructuring your business including location of assets and personal liability issues\nFunding your business; shareholder loans v equity and third party funding\nContractual protection; contractual provisions for late payments and interest on late payments\nDebtor and creditor management; effective procedures
URL:https://investinangus.com/event/thorntons-corporate-webinar-protecting-your-business-during-a-downturn/
CATEGORIES:Business Planning,Finance
END:VEVENT
BEGIN:VEVENT
DTSTART;TZID=UTC:20230322T093000
DTEND;TZID=UTC:20230322T123000
DTSTAMP:20260421T143203
CREATED:20230220T111124Z
LAST-MODIFIED:20230220T111124Z
UID:10086609-1679477400-1679488200@investinangus.com
SUMMARY:Fair Work Workshop
DESCRIPTION:Fair Work is an investment in everyone\, for everyone. It can improve productivity\, innovation\, organisational reputation and recruitment. It can also reduce staff turnover and help create inclusive workplaces with a richness of talent and a diversity of ideas. \nFor staff\, Fair Work can increase financial security\, physical health and psychological wellbeing. For businesses\, it brings more engaged\, committed and adaptable workers who spot challenges and opportunities\, solve problems\, offer insight and ideas for business improvement\, and create value. \nWhat’s the event about? \nThis is a fully funded programme which will help participating companies to: \n\nUnderstand the benefits of fair work (for both the business and its staff)\nDevelop an action plan to embed or improve current people practices\nPrioritise and take next steps to implementing an action plan\n\nThe type of projects and actions that could result from a fair work action plan include: \n\nImproving people and fair work practices\nSkills\, leadership and management development\nCreating a positive culture and values-based approach\nImproving employee engagement and supporting performance management practices
URL:https://investinangus.com/event/fair-work-workshop-3/
CATEGORIES:HR
END:VEVENT
BEGIN:VEVENT
DTSTART;TZID=UTC:20230322T100000
DTEND;TZID=UTC:20230322T110000
DTSTAMP:20260421T143203
CREATED:20221206T101246Z
LAST-MODIFIED:20221206T101246Z
UID:10086000-1679479200-1679482800@investinangus.com
SUMMARY:The accountant’s input to the EOT transaction
DESCRIPTION:Aimed at professional advisors\, this expert webinar series will explore different aspects of the subject to broaden your knowledge and help support your clients to make informed decisions. The webinars are also relevant for business owners looking towards succession planning. \nIn this webinar Linzi Wilson from Consilium Chartered Accountants\, will talk about valuing and selling a company to an EOT (Employee Ownership Trust). She’ll also look at how a deal can be funded. \nIt’s usual for these transactions to be funded primarily\, or solely\, by deferred consideration by the vendor — Linzi will discuss how this can be structured. She’ll also discuss tax clearances and meeting HMRC requirements.
URL:https://investinangus.com/event/the-accountants-input-to-the-eot-transaction/
CATEGORIES:Business Planning
END:VEVENT
BEGIN:VEVENT
DTSTART;TZID=UTC:20230322T100000
DTEND;TZID=UTC:20230322T113000
DTSTAMP:20260421T143203
CREATED:20230320T091427Z
LAST-MODIFIED:20230320T091427Z
UID:10086822-1679479200-1679484600@investinangus.com
SUMMARY:Why Circular Procurement is Better for Business
DESCRIPTION:Circular procurement extends beyond ‘traditional’ sustainable procurement by helping to develop circular business models within the supply chain. It uses purchasing power to achieve maximum positive ecological\, social\, and economic impact throughout the life span of products and services. \nThis webinar will introduce the concept of circular procurement\, highlighting the value of using and reusing the materials we already have\, from construction\, to clothing to food waste\, maximising their value and potentially not only saving Scottish businesses at least £3billion a year\, but also significantly cutting our emissions by reducing imports and making best use of our renewable energy. \nWe will hear from speakers whose expertise spans across both the public and private sector\, highlighting opportunities\, different approaches and viewpoints on implementing circular models within the field of procurement.
URL:https://investinangus.com/event/why-circular-procurement-is-better-for-business/
CATEGORIES:Sustainable/Circular Economy
END:VEVENT
BEGIN:VEVENT
DTSTART;TZID=UTC:20230322T100000
DTEND;TZID=UTC:20230322T120000
DTSTAMP:20260421T143203
CREATED:20230220T102900Z
LAST-MODIFIED:20230220T102900Z
UID:10086552-1679479200-1679486400@investinangus.com
SUMMARY:Online Sales: Improve\, develop & make more money
DESCRIPTION:What’s the best way to sell your products online? The key to improving your online business is measuring its effectiveness – you can then take steps to optimise its performance. Should you be using your own eCommerce store or Amazon\, neither or both? This webinar will help you decide. \nWe will cover: \n\nFactors to consider when selling online.\nWhat eCommerce options exist\, and the benefits of each\nDifferences in available eCommerce platforms\nBenefits of automation\nKey items to optimise performance
URL:https://investinangus.com/event/online-sales-improve-develop-make-more-money-18/
CATEGORIES:Digital Marketing
END:VEVENT
BEGIN:VEVENT
DTSTART;TZID=UTC:20230322T130000
DTEND;TZID=UTC:20230322T150000
DTSTAMP:20260421T143203
CREATED:20230220T102944Z
LAST-MODIFIED:20230220T102944Z
UID:10086554-1679490000-1679497200@investinangus.com
SUMMARY:Planning & scheduling your online content
DESCRIPTION:Businesses who plan their content in advance\, aligning their channels with actual business objectives\, customer themes and national events\, and then schedule it to ensure it reaches the target market at the right time\, on the right platform – hugely increase the chances of achieving impact. \nIn this webinar\, you will learn how to: \n\nPlan content based on your business and your customer needs\nEvaluate current social media dashboards and management tools\nCreate a social media content calendar and schedule updates automatically\nReach more people through automating your blog and email newsletter content\nImplement simple automation techniques to increase efficiency\n\nHaving great content is just the start. This webinar will help you better organise and setup your content strategy through simple planning and effective scheduling\, to achieve great business results.
URL:https://investinangus.com/event/planning-scheduling-your-online-content-21/
CATEGORIES:Digital Marketing
END:VEVENT
BEGIN:VEVENT
DTSTART;TZID=UTC:20230322T140000
DTEND;TZID=UTC:20230322T160000
DTSTAMP:20260421T143203
CREATED:20230313T101237Z
LAST-MODIFIED:20230313T101237Z
UID:10086751-1679493600-1679500800@investinangus.com
SUMMARY:Build an effective strategy to grow your business
DESCRIPTION:This webinar is practical\, outcome driven\, and designed to fit with the needs of small businesses in both B2C and B2B environments. It will help you develop a strategically led approach that can turbo charge business growth\, identify the core growth strategy(ies) that are right for your business\, and develop an action plan. \nWe will look at: \n\nYour business today – identifying your strengths and areas for development\nThe key pillars of a business and why balancing all areas is essential for success\nPersonal and business ambitions and using these to guide strategy development\nAnsoff’s Matrix as a tool for identifying core growth strategies\nThe core components of your business delivery\nHow to develop a methodical\, strategic approach to developing your business for future success\n\nAfter the webinar\, you will understand: \n\nHow to undertake a balanced review of where your business is that helps identify areas for development\nAnsoff’s Matrix and how to use it as a core strategic planning tool\nHow to create a strategic plan for growing your business
URL:https://investinangus.com/event/build-an-effective-strategy-to-grow-your-business-10/
CATEGORIES:Business Planning
END:VEVENT
END:VCALENDAR