BEGIN:VCALENDAR
VERSION:2.0
PRODID:-//Invest in Angus - ECPv6.15.17.1//NONSGML v1.0//EN
CALSCALE:GREGORIAN
METHOD:PUBLISH
X-ORIGINAL-URL:https://investinangus.com
X-WR-CALDESC:Events for Invest in Angus
REFRESH-INTERVAL;VALUE=DURATION:PT1H
X-Robots-Tag:noindex
X-PUBLISHED-TTL:PT1H
BEGIN:VTIMEZONE
TZID:UTC
BEGIN:STANDARD
TZOFFSETFROM:+0000
TZOFFSETTO:+0000
TZNAME:UTC
DTSTART:20220101T000000
END:STANDARD
END:VTIMEZONE
BEGIN:VEVENT
DTSTART;TZID=UTC:20230323T090000
DTEND;TZID=UTC:20230323T110000
DTSTAMP:20260421T143153
CREATED:20230220T103047Z
LAST-MODIFIED:20230220T103047Z
UID:10086556-1679562000-1679569200@investinangus.com
SUMMARY:Email marketing for business
DESCRIPTION:Connecting with your audience through effective email marketing campaigns is a great way to improve your marketing strategy and boost sales. In this webinar\, we’ll explore what makes an email campaign effective and ensure you are able to: \n\nSegment your audiences and target them effectively\nCreate a quality marketing email and measure its effectiveness\nIdentify the most suitable platforms and tools for email marketing campaigns\, including different paid-for account levels\nIdentify the different components of a successful email campaign\, including design\, HTML v text and other formats\nUse reporting and key metrics to make sure your campaigns are successful\nBe compliant with legal requirements relating to email communications
URL:https://investinangus.com/event/email-marketing-for-business-25/
CATEGORIES:Digital Marketing
END:VEVENT
BEGIN:VEVENT
DTSTART;TZID=UTC:20230323T110000
DTEND;TZID=UTC:20230323T123000
DTSTAMP:20260421T143153
CREATED:20230220T103148Z
LAST-MODIFIED:20230220T103148Z
UID:10086558-1679569200-1679574600@investinangus.com
SUMMARY:Search Engine Optimisation (SEO) for tourism businesses – Part 1
DESCRIPTION:It’s more vital than ever to get your business to the first few places in the online search results page. These two 90-minute events will tell you all you need to know to improve your rankings\, including how search engines work. \nThis first session will show you how search engines work and we’ll show you the anatomy of results pages and what customers and clients look at on these pages. \nYou’ll see how to find out what key words people are using when they search for your service\, and we’ll demonstrate how you use that information to greatly increase your ranking in results pages.
URL:https://investinangus.com/event/search-engine-optimisation-seo-for-tourism-businesses-part-1-4/
CATEGORIES:Digital Marketing,Tourism
END:VEVENT
BEGIN:VEVENT
DTSTART;TZID=UTC:20230323T113000
DTEND;TZID=UTC:20230323T123000
DTSTAMP:20260421T143153
CREATED:20230306T151209Z
LAST-MODIFIED:20230306T151209Z
UID:10086737-1679571000-1679574600@investinangus.com
SUMMARY:Access to funding
DESCRIPTION:Are you a business considering a fundraising campaign? \nDo you need advice on what funding options are available? How do you get Funder ready? \nWhat alternative finance is available to help grow my business? \nWhat are the benefits of Debt and Equity?
URL:https://investinangus.com/event/access-to-funding/
CATEGORIES:Finance
END:VEVENT
BEGIN:VEVENT
DTSTART;TZID=UTC:20230323T140000
DTEND;TZID=UTC:20230323T153000
DTSTAMP:20260421T143153
CREATED:20230117T091559Z
LAST-MODIFIED:20230117T091559Z
UID:10086243-1679580000-1679585400@investinangus.com
SUMMARY:How to Write Outstanding Tenders - The Invitation to Tender (ITT) Stage
DESCRIPTION:Understanding what a buyer is looking for and creating a response to show how you are the best candidate for the job can be tricky. \nAt this training\, you will learn what skills are needed for your business to write a good tender response and stand out from your competitors. One of SDP’s expert trainers will also explain how to analyse the tender documents and how to find hidden clues in the tender documents to help you develop a well-round response. \nOverview of what you will learn: \n\nWhat work can be done pre-tender to make the process of creating a bid less stressful?\nHow can use Public Contracts Scotland (PCS) and Public Contracts Scotland-Tender (PCS-T) to submit tenders?\nWhat work needs to go into preparing for the ITT before the tender documents are released.\nWhich skills do you need to have in your bid team to write winning bids?\nWhat good looks like in a bid response\n\nAt the end of the session\, there will be an interactive Q&A session where you will have the opportunity to ask any burning questions you may have. As well as have the chance to hear what other SME businesses in Scotland have to say. \nThis event is suitable for Level 2 (Intermediate)\, for people who know about bidding but need to develop specific knowledge and skills.
URL:https://investinangus.com/event/how-to-write-outstanding-tenders-the-invitation-to-tender-itt-stage/
CATEGORIES:Procurement
END:VEVENT
BEGIN:VEVENT
DTSTART;TZID=UTC:20230323T140000
DTEND;TZID=UTC:20230323T160000
DTSTAMP:20260421T143153
CREATED:20230220T103249Z
LAST-MODIFIED:20230220T103249Z
UID:10086560-1679580000-1679587200@investinangus.com
SUMMARY:The business benefits of running a sustainable business
DESCRIPTION:It’s becoming increasingly important to customers to source their products from companies who have strong green credentials. This webinar will show how by becoming more sustainable you can increase sales and profits. \nWe will look at: \nUnderstanding the problem\nWhat is sustainability and why it is important\nInnovation\nProfiting from being a green business\nEmbracing a purpose beyond profit\nThe sustainability triple bottom line\nDeveloping your own green charter\nExamples of those practicing this way of growth with remarkable success\nTop tips for going green
URL:https://investinangus.com/event/the-business-benefits-of-running-a-sustainable-business-9/
CATEGORIES:Business Planning,Sustainable/Circular Economy
END:VEVENT
BEGIN:VEVENT
DTSTART;TZID=UTC:20230323T140000
DTEND;TZID=UTC:20230323T160000
DTSTAMP:20260421T143153
CREATED:20230220T103346Z
LAST-MODIFIED:20230220T103346Z
UID:10086562-1679580000-1679587200@investinangus.com
SUMMARY:How Artificial Intelligence (AI) can help your business marketing
DESCRIPTION:You’ve heard of Artificial Intelligence\, but do you know how it can help you as you run your business? This brand new practical webinar will explore how AI can help revolutionise your business marketing to be more efficient and cost-effective\, through the automatic creation of content for all your digital platforms; as well as helping you better understand your customers and business opportunities. \nThis webinar will include: \n\nWhat is Artificial Intelligence\nCurrent AI tools and systems to use right now (including ChatGPT and Dall-E 2)\nAutomating Digital Content for Blogs and Social Media\nUsing AI for business strategy and customer profiling\nThe pros and cons of AI for small businesses\n\nThis webinar will help you understand how you can integrate AI into your existing marketing\, looking at the potential consequences (good and bad) of Artificial Intelligence\, and its impact on small businesses and their customers.
URL:https://investinangus.com/event/how-artificial-intelligence-ai-can-help-your-business-marketing-3/
CATEGORIES:Digital Marketing,Marketing,Technology
END:VEVENT
BEGIN:VEVENT
DTSTART;TZID=UTC:20230323T153000
DTEND;TZID=UTC:20230323T163000
DTSTAMP:20260421T143153
CREATED:20230306T121055Z
LAST-MODIFIED:20230306T121055Z
UID:10086673-1679585400-1679589000@investinangus.com
SUMMARY:Fife Tourism Talks: Accessibility - practical advice
DESCRIPTION:The Fife Tourism Partnership is hosting a series of webinars on key current issues in the tourism industry. \nThese free webinars are a great way of hearing from industry experts\, case studies from local businesses and a chance to meet other likeminded businesses. All the sessions will be held on Thursday afternoons at 3.30pm\, via Teams. \nThis talk we welcome Euans Guide\, the disabled access charity best known for EuansGuide.com\, the disabled access review website.
URL:https://investinangus.com/event/fife-tourism-talks-accessibility-practical-advice/
CATEGORIES:Tourism
END:VEVENT
BEGIN:VEVENT
DTSTART;TZID=UTC:20230323T180000
DTEND;TZID=UTC:20230323T200000
DTSTAMP:20260421T143153
CREATED:20230220T103430Z
LAST-MODIFIED:20230220T103430Z
UID:10086564-1679594400-1679601600@investinangus.com
SUMMARY:Video production for social media
DESCRIPTION:Video captures people’s attention online and is important for getting your message across\, while engaging with your target audience. \nLearn how to: \n\nChoose what type of video to create to suit your business objectives\nPlan\, shoot\, edit\, and upload video without special kit or expertise.\nGet to know the various digital platforms that can be utilised to view and share video content.\nSee what editing apps are available and how to add music and subtitles.
URL:https://investinangus.com/event/video-production-for-social-media-28/
CATEGORIES:Digital Marketing
END:VEVENT
END:VCALENDAR