BEGIN:VCALENDAR
VERSION:2.0
PRODID:-//Invest in Angus - ECPv6.15.17.1//NONSGML v1.0//EN
CALSCALE:GREGORIAN
METHOD:PUBLISH
X-WR-CALNAME:Invest in Angus
X-ORIGINAL-URL:https://investinangus.com
X-WR-CALDESC:Events for Invest in Angus
REFRESH-INTERVAL;VALUE=DURATION:PT1H
X-Robots-Tag:noindex
X-PUBLISHED-TTL:PT1H
BEGIN:VTIMEZONE
TZID:UTC
BEGIN:STANDARD
TZOFFSETFROM:+0000
TZOFFSETTO:+0000
TZNAME:UTC
DTSTART:20220101T000000
END:STANDARD
END:VTIMEZONE
BEGIN:VEVENT
DTSTART;TZID=UTC:20230324T100000
DTEND;TZID=UTC:20230324T120000
DTSTAMP:20260421T143048
CREATED:20230220T103513Z
LAST-MODIFIED:20230220T103513Z
UID:10086566-1679652000-1679659200@investinangus.com
SUMMARY:Making digital content accessible
DESCRIPTION:Everyone consumes and understands information differently\, with some facing additional challenges that aren’t always considered. In this webinar\, we’ll explore the challenges that people can have when accessing digital content and we’ll look at the ways you can improve your digital content to be inclusive and considerate for all. \nBy the end of this webinar\, you will be able to: \n\nUnderstand and consider the barriers and challenges faced by others when accessing digital content.\nAssess your digital content on how easy it is for others to access\, consume and understand.\nReview your website content with an understanding of what adjustments you should make to ensure that your content is catering to all.\nUse social media functions and tools to help make your content more accessible.\nUnderstand and use an ‘Accessibility Ready Checklist’ for any of your content to ensure you are designing and developing content for all of your audience.
URL:https://investinangus.com/event/making-digital-content-accessible-9/
CATEGORIES:Digital Marketing
END:VEVENT
BEGIN:VEVENT
DTSTART;TZID=UTC:20230324T160000
DTEND;TZID=UTC:20230324T180000
DTSTAMP:20260421T143048
CREATED:20230220T103753Z
LAST-MODIFIED:20230220T103753Z
UID:10086568-1679673600-1679680800@investinangus.com
SUMMARY:HR – Recruiting\, managing\, and retaining staff
DESCRIPTION:One of the scariest things you can do as a business is take on staff – from hiring\, interviewing\, payroll\, pensions\, contracts\, remote working and more\, it is a minefield for the business owner. \nThis webinar will allow you to have the key information in your possession to take on staff and manage your team. \nTopics covered: \n\nRecruiting\, managing\, and retaining staff\nAttracting and recruiting the best and right people for our business\nOur obligations as employers\nManaging people to stay with us\nMoving on\nDismissal\nRestructure/Redundancy\n\nWe will also look at: \n\nHow in the current climate you can manage staff and teams in a remote environment\, considering their productivity\, efficiency\, and the issues of home working\nHow you can best manage staff to ensure productivity is kept and mental health is supported\nThe impact of companies who may be considering restructuring and therefore redundancy for the first time and how that can be managed
URL:https://investinangus.com/event/hr-recruiting-managing-and-retaining-staff-10/
CATEGORIES:HR,Recruitment
END:VEVENT
END:VCALENDAR