BEGIN:VCALENDAR
VERSION:2.0
PRODID:-//Invest in Angus - ECPv6.15.17.1//NONSGML v1.0//EN
CALSCALE:GREGORIAN
METHOD:PUBLISH
X-WR-CALNAME:Invest in Angus
X-ORIGINAL-URL:https://investinangus.com
X-WR-CALDESC:Events for Invest in Angus
REFRESH-INTERVAL;VALUE=DURATION:PT1H
X-Robots-Tag:noindex
X-PUBLISHED-TTL:PT1H
BEGIN:VTIMEZONE
TZID:UTC
BEGIN:STANDARD
TZOFFSETFROM:+0000
TZOFFSETTO:+0000
TZNAME:UTC
DTSTART:20220101T000000
END:STANDARD
END:VTIMEZONE
BEGIN:VEVENT
DTSTART;TZID=UTC:20230328T093000
DTEND;TZID=UTC:20230328T113000
DTSTAMP:20260421T111424
CREATED:20230306T144004Z
LAST-MODIFIED:20230306T144004Z
UID:10086717-1679995800-1680003000@investinangus.com
SUMMARY:Thorntons Immigration Law Webinar - What to expect in 2023
DESCRIPTION:Immigration law is always a dynamic and fast-changing area\, and practitioners\, individuals and businesses alike will be looking to our new government for signs of what is to come in 2023. \nThis webinar will explore the potential developments including: \n\nThe review of the Shortage Occupation List\nIncrease in sponsor licence applications\nIncrease in illegal working checks\nChanges to the student dependent visa
URL:https://investinangus.com/event/thorntons-immigration-law-webinar-what-to-expect-in-2023/
CATEGORIES:HR,Recruitment
END:VEVENT
BEGIN:VEVENT
DTSTART;TZID=UTC:20230328T140000
DTEND;TZID=UTC:20230328T160000
DTSTAMP:20260421T111424
CREATED:20230220T104204Z
LAST-MODIFIED:20230220T104204Z
UID:10086574-1680012000-1680019200@investinangus.com
SUMMARY:The basics of trading on eBay\, Etsy and Amazon Marketplaces
DESCRIPTION:As a consumer\, you’ve almost certainly purchased online from one of the global marketplaces such as eBay\, Etsy or Amazon\, so why wouldn’t your customers do the same and buy from you? \nWe will cover:\n \n\nWhy to sell via a Marketplace\, your own website\, or both\nChoosing the right Marketplace – looking specificly at eBay\, Etsy and Amazon\n\nUnderstanding Profit Margins and how Marketplace fees affect them\n\nAn overview of some of the rules and regulations enforced by these platforms\nTrading internationally – what’s possible?\n\nYou’ll leave with a better understanding of how online marketplaces can help you reach your target audience\, which marketplace is best for you\, and how to get started selling quickly and easily.
URL:https://investinangus.com/event/the-basics-of-trading-on-ebay-etsy-and-amazon-marketplaces-9/
CATEGORIES:Digital Marketing
END:VEVENT
END:VCALENDAR