BEGIN:VCALENDAR
VERSION:2.0
PRODID:-//Invest in Angus - ECPv6.15.17.1//NONSGML v1.0//EN
CALSCALE:GREGORIAN
METHOD:PUBLISH
X-WR-CALNAME:Invest in Angus
X-ORIGINAL-URL:https://investinangus.com
X-WR-CALDESC:Events for Invest in Angus
REFRESH-INTERVAL;VALUE=DURATION:PT1H
X-Robots-Tag:noindex
X-PUBLISHED-TTL:PT1H
BEGIN:VTIMEZONE
TZID:UTC
BEGIN:STANDARD
TZOFFSETFROM:+0000
TZOFFSETTO:+0000
TZNAME:UTC
DTSTART:20220101T000000
END:STANDARD
END:VTIMEZONE
BEGIN:VEVENT
DTSTART;TZID=UTC:20230330T090000
DTEND;TZID=UTC:20230330T110000
DTSTAMP:20260421T111422
CREATED:20230220T104255Z
LAST-MODIFIED:20230220T104255Z
UID:10086576-1680166800-1680174000@investinangus.com
SUMMARY:How to write and develop your business plan
DESCRIPTION:New and established businesses will require a business plan for getting a loan\, grant or just to consider the direction they wish to go in. This webinar will teach you what you need to include and how. We will walk you through what should be included within a business plan\, how a business plan is used to improve your prospects for a loan or a grant\, and how you can develop a business plan to meet your needs. \nWe will: \n\nProvide a structure for a business plan\nReview each section of what should be included within the business plan\nExplain when and how to use a business plan\nExplore the connections (and importance) between the words and the numbers\nLook at how to identify and manage cashflow within the business planning process
URL:https://investinangus.com/event/how-to-write-and-develop-your-business-plan-14/
CATEGORIES:Business Planning,Business Start-up
END:VEVENT
BEGIN:VEVENT
DTSTART;TZID=UTC:20230330T093000
DTEND;TZID=UTC:20230330T160000
DTSTAMP:20260421T111422
CREATED:20230328T134259Z
LAST-MODIFIED:20230328T134259Z
UID:10086903-1680168600-1680192000@investinangus.com
SUMMARY:Grow your Business online - Meet the experts
DESCRIPTION:These days\, selling online involves much more than just a company website. Many manufacturing and retail businesses are expanding their ecommerce presence on to well-known marketplaces such as Amazon\, Wayfair\, Etsy\, eBay and Alibaba. \nWith opportunities for selling to both retail and wholesale customers\, and to expand from the UK into international markets\, this is a great time to grow your ecommerce potential. \nRegister for this unmissable event\, which will be delivered by three experts. You’ll benefit from six insightful sessions and join peers for Q&A and discussion time. \nWith up-to-date content backed up by practical examples\, this event could help you to take the next steps in your ecommerce plans.
URL:https://investinangus.com/event/grow-your-business-online-meet-the-experts/
LOCATION:Scottish Enterprise Glasgow\, 50 Waterloo Street\, Glasgow\, G2 6HQ
CATEGORIES:Business Planning,Digital Marketing
END:VEVENT
BEGIN:VEVENT
DTSTART;TZID=UTC:20230330T110000
DTEND;TZID=UTC:20230330T123000
DTSTAMP:20260421T111422
CREATED:20230220T104339Z
LAST-MODIFIED:20230220T104339Z
UID:10086578-1680174000-1680179400@investinangus.com
SUMMARY:Blogging for tourism businesses
DESCRIPTION:Learn the fundamentals of cost-effectively preparing\, writing\, and distributing blogs that your visitors will read. Making sure that your effort inspires and helps your visitor to plan and book their trip with you. \nGet tools to help you research\, understand your customer and write highly targeted content which will help to optimise your website and grow your list of followers.
URL:https://investinangus.com/event/blogging-for-tourism-businesses-3/
CATEGORIES:Digital Marketing,Tourism
END:VEVENT
END:VCALENDAR