BEGIN:VCALENDAR
VERSION:2.0
PRODID:-//Invest in Angus - ECPv6.15.17.1//NONSGML v1.0//EN
CALSCALE:GREGORIAN
METHOD:PUBLISH
X-ORIGINAL-URL:https://investinangus.com
X-WR-CALDESC:Events for Invest in Angus
REFRESH-INTERVAL;VALUE=DURATION:PT1H
X-Robots-Tag:noindex
X-PUBLISHED-TTL:PT1H
BEGIN:VTIMEZONE
TZID:UTC
BEGIN:STANDARD
TZOFFSETFROM:+0000
TZOFFSETTO:+0000
TZNAME:UTC
DTSTART:20220101T000000
END:STANDARD
END:VTIMEZONE
BEGIN:VEVENT
DTSTART;TZID=UTC:20230413T100000
DTEND;TZID=UTC:20230413T120000
DTSTAMP:20260421T111651
CREATED:20230313T105539Z
LAST-MODIFIED:20230313T105539Z
UID:10086774-1681380000-1681387200@investinangus.com
SUMMARY:An introduction to business websites & what you need to consider
DESCRIPTION:This webinar will take you through all the steps required to design\, build and host a business website. You will learn about: \n\nThe need to determine website objectives\nThe importance of knowing who your audience is and measuring results\nSetting clear calls to action and creating engaging content\nCreating your brand’s visual identity online\, your site’s blueprint and how you can structure your site map\nWhat’s involved in registering your domain\, maintaining your site content\, and options for hosting it\n\nThis webinar will also offer guidance on when and how to outsource your website development. Covering topics such as choosing a suitable content management system\, what to organise first and costing for the work.
URL:https://investinangus.com/event/an-introduction-to-business-websites-what-you-need-to-consider-23/
CATEGORIES:Digital Marketing
END:VEVENT
BEGIN:VEVENT
DTSTART;TZID=UTC:20230413T130000
DTEND;TZID=UTC:20230413T150000
DTSTAMP:20260421T111651
CREATED:20230306T134239Z
LAST-MODIFIED:20230306T134239Z
UID:10086697-1681390800-1681398000@investinangus.com
SUMMARY:The essentials of bookkeeping and what expenses you can claim
DESCRIPTION:This webinar is for those who are entering business for the first time or require an understanding of what is involved in financially managing a business\, including basic bookkeeping\, and creating a profit and loss account. You will also get an understanding of what expenses the business can claim and then how to fund your business. At the end of the session\, you will receive a workbook on excel to help you manage and monitor costs and sales. \nAt the end of this session\, you will be able to: \n\nImplement basic bookkeeping skills across your business\nCreate a profit and loss account\nUnderstand what expenses can and cannot be claimed\nUse financial management to increase revenues and profits\nUnderstand capital and revenue costs and how they are treated
URL:https://investinangus.com/event/the-essentials-of-bookkeeping-and-what-expenses-you-can-claim-14/
CATEGORIES:Finance
END:VEVENT
BEGIN:VEVENT
DTSTART;TZID=UTC:20230413T180000
DTEND;TZID=UTC:20230413T200000
DTSTAMP:20260421T111651
CREATED:20230313T105626Z
LAST-MODIFIED:20230313T105626Z
UID:10086776-1681408800-1681416000@investinangus.com
SUMMARY:TikTok and Instagram Reels for business
DESCRIPTION:You might view TikTok as a stream of dance trends and lip-synching videos\, but it can also be a fantastic place to engage with your customers and increase the reach of your business online. Explore how to create bitesize vertical video content and how to use this new format for more effective business communication. \nWe will cover: \n\nHow to optimise your TikTok and Instagram accounts for the best results with video.\nHow to discover the latest trends on each platform and leverage this to create popular videos for your business.\nIdeas for creating content to entertain\, inspire or educate your audience (with lots of examples from a variety of relevant TikTok and Reels accounts).\nHow to increase engagement and reach by paying attention to your videos’ structure\, duration\, titles and understanding hashtags and algorithms.\nThe best kit\, apps and workflow to create bitesize vertical videos for both platforms.
URL:https://investinangus.com/event/tiktok-and-instagram-reels-for-business-10/
END:VEVENT
BEGIN:VEVENT
DTSTART;TZID=UTC:20230413T180000
DTEND;TZID=UTC:20230413T200000
DTSTAMP:20260421T111651
CREATED:20230327T081139Z
LAST-MODIFIED:20230327T081139Z
UID:10086853-1681408800-1681416000@investinangus.com
SUMMARY:The Complete Guide to Marketing for Novices
DESCRIPTION:This workshop will be held via Zoom. Joining instructions will be sent upon book your free space. \nThe online workshop will cover the basic principles of marketing\, including target audience identification\, competitor analysis\, value proposition\, and the development of marketing strategies. \nThe workshop will also explore the importance of measuring the success of marketing strategies and how adhering to good business practice can positively influence Customer Generated Content \nOverall\, this workshop is ideal for businesses – new and existing – who want to gain a solid understanding of the basics. By the end of the workshop\, you should have the knowledge and skills necessary to develop and execute an effective marketing strategy for your business. \nThis online workshop is aimed at businesses in Dundee\, Angus and Perth.
URL:https://investinangus.com/event/the-complete-guide-to-marketing-for-novices/
CATEGORIES:Marketing
END:VEVENT
END:VCALENDAR