BEGIN:VCALENDAR
VERSION:2.0
PRODID:-//Invest in Angus - ECPv6.15.17.1//NONSGML v1.0//EN
CALSCALE:GREGORIAN
METHOD:PUBLISH
X-WR-CALNAME:Invest in Angus
X-ORIGINAL-URL:https://investinangus.com
X-WR-CALDESC:Events for Invest in Angus
REFRESH-INTERVAL;VALUE=DURATION:PT1H
X-Robots-Tag:noindex
X-PUBLISHED-TTL:PT1H
BEGIN:VTIMEZONE
TZID:UTC
BEGIN:STANDARD
TZOFFSETFROM:+0000
TZOFFSETTO:+0000
TZNAME:UTC
DTSTART:20220101T000000
END:STANDARD
END:VTIMEZONE
BEGIN:VEVENT
DTSTART;TZID=UTC:20230417T100000
DTEND;TZID=UTC:20230417T120000
DTSTAMP:20260421T093953
CREATED:20230313T105712Z
LAST-MODIFIED:20230313T105712Z
UID:10086778-1681725600-1681732800@investinangus.com
SUMMARY:Twitter for business
DESCRIPTION:This webinar will help you develop and hone your social media strategy in order to amplify your message using Twitter. You will gain a deeper understanding of where Twitter fits into your overall plan\, and how it differs from other platforms. \nYou will also learn about: \n\nWhat makes a good Twitter profile (and the options available to you).\nTwitter best practice content and what makes the perfect tweet.\nDashboards such as Hootsuite to help you manage and integrate your social media accounts and schedule content.\nAdvanced techniques for social listening and pro-actively finding content and customers.\nThe basics of Twitter paid advertising.
URL:https://investinangus.com/event/twitter-for-business-21/
CATEGORIES:Digital Marketing
END:VEVENT
BEGIN:VEVENT
DTSTART;TZID=UTC:20230417T140000
DTEND;TZID=UTC:20230417T160000
DTSTAMP:20260421T093953
CREATED:20230313T105758Z
LAST-MODIFIED:20230313T105758Z
UID:10086780-1681740000-1681747200@investinangus.com
SUMMARY:Facebook for business
DESCRIPTION:Get to grips with Facebook – the world’s most popular social networking platform. \nIn this webinar you will: \n\nLearn how to get the most out of Facebook and how it could fit into your business’s digital marketing strategy.\nBetter understand the algorithm behind Facebook\, and how to create great content that achieves a bigger reach and impact.\nLearn from the stats and data you can get from the system and discover who your most interested customers/clients are.\nUnderstand the power of Facebook advertising\, and other selling options available to you.\nDiscover other business opportunities presented by Facebook\, including how to promote and sell products and services.\nBe introduced to ‘Business Suite’ – a free Facebook dashboard to manage all your business activity.
URL:https://investinangus.com/event/facebook-for-business/
CATEGORIES:Digital Marketing
END:VEVENT
BEGIN:VEVENT
DTSTART;TZID=UTC:20230417T180000
DTEND;TZID=UTC:20230417T200000
DTSTAMP:20260421T093953
CREATED:20230313T105843Z
LAST-MODIFIED:20230313T105843Z
UID:10086782-1681754400-1681761600@investinangus.com
SUMMARY:Instagram for business
DESCRIPTION:Thinking about using Instagram to communicate with existing and potential customers? Want to showcase your products or services using it? During this webinar we will cover: \n\nGetting the setup right and benefitting from the available business tools.\nBest practice profiles\, and some strategies to help your business stand out from the crowd.\nThe types of audience you can reach via this platform and the factors and analytics such as cost and timing of posting images and how that can maximise impact.\nThe various types of content you can post to Instagram\, from regular posts to Stories and Reels.
URL:https://investinangus.com/event/instagram-for-business/
CATEGORIES:Digital Marketing
END:VEVENT
END:VCALENDAR