BEGIN:VCALENDAR
VERSION:2.0
PRODID:-//Invest in Angus - ECPv6.15.17.1//NONSGML v1.0//EN
CALSCALE:GREGORIAN
METHOD:PUBLISH
X-WR-CALNAME:Invest in Angus
X-ORIGINAL-URL:https://investinangus.com
X-WR-CALDESC:Events for Invest in Angus
REFRESH-INTERVAL;VALUE=DURATION:PT1H
X-Robots-Tag:noindex
X-PUBLISHED-TTL:PT1H
BEGIN:VTIMEZONE
TZID:UTC
BEGIN:STANDARD
TZOFFSETFROM:+0000
TZOFFSETTO:+0000
TZNAME:UTC
DTSTART:20220101T000000
END:STANDARD
END:VTIMEZONE
BEGIN:VEVENT
DTSTART;TZID=UTC:20230419T090000
DTEND;TZID=UTC:20230420T160000
DTSTAMP:20260421T094115
CREATED:20230109T102529Z
LAST-MODIFIED:20230109T102529Z
UID:10086173-1681894800-1682006400@investinangus.com
SUMMARY:VisitScotland Connect 2023
DESCRIPTION:VisitScotland Connect 2023 will be taking place at the P&J Live Aberdeen on April 19-20\, 2023. \nVisitScotland is focused on rebuilding international tourism demand and supporting the country’s ambitions to be a leading destination for responsible tourism. \nThe format for this event will be a new business-to-business travel trade workshop connecting Buyers from around the globe with Scottish tourism businesses\, helping to rebuild Scotland’s valuable tourism industry. \nSpeak to your VisitScotland contact if you are interested in joining this event or use the registration links on the website.
URL:https://investinangus.com/event/visitscotland-connect-2023/
LOCATION:P&J Live\, East Burn Road\, Aberdeen\, AB21 9FX\, United Kingdom
CATEGORIES:Networking,Tourism
END:VEVENT
BEGIN:VEVENT
DTSTART;TZID=UTC:20230419T100000
DTEND;TZID=UTC:20230419T120000
DTSTAMP:20260421T094115
CREATED:20230410T084756Z
LAST-MODIFIED:20230410T084756Z
UID:10087039-1681898400-1681905600@investinangus.com
SUMMARY:How to protect and manage your intellectual property
DESCRIPTION:You have invested time\, energy\, and money into your project\, however\, have you protected the innovation? \nFollowing this webinar\, you will understand how to manage your intellectual property (IP) or how to start the process of registering it. \nTopics covered include: \n\nWhat are intellectual assets (IA)?\nWhat is intellectual property (IP)?\nHow to use IP (in the real world)\nWhere to get more insight and information\n\nParticipants will leave with: \n\nAn understanding that all businesses create IA/IP\nA framework of knowledge about IP\nA little more knowledge about the diverse types of IP\nAn insight into how to identify\, protect and exploit IP/IA\nContext of why IP/IA matters\nLinks to useful learning resources
URL:https://investinangus.com/event/how-to-protect-and-manage-your-intellectual-property-10/
CATEGORIES:Business Planning,Legislation
END:VEVENT
BEGIN:VEVENT
DTSTART;TZID=UTC:20230419T100000
DTEND;TZID=UTC:20230419T140000
DTSTAMP:20260421T094115
CREATED:20230330T132641Z
LAST-MODIFIED:20230330T132641Z
UID:10087017-1681898400-1681912800@investinangus.com
SUMMARY:Tay Cities Clean Growth Website Launch
DESCRIPTION:You are invited to take part in the public launch of the www.taycitiescleangrowth.scot website – An online community designed to enable and encourage businesses\, industry\, academia and others to collaborate\, share knowledge and drive low carbon and clean growth innovation\, while benefitting the Tay Cities by driving investment to the region. With its central geography\, mixed economy and broad base of academic\, professional expertise and active developments\, Tayside is a great place to exploit this ongoing economic transformation as we address climate change and post Covid recovery. \nThe Tay Cities Clean Growth website provides an opportunity to represent the mix of clean growth projects not only in the Tay Cities Deal but extending it far beyond to enable inter-project synergies\, wider project development\, knowledge exchange and R&D collaboration\, as well as creating an environment for investor engagement. The website will act as a central platform to facilitate\, support\, and accelerate clean growth across the Tayside economy. \nCome along and hear more about how we aim to create a community that works together and presents the Tay Region’s clean growth opportunities and synergies as a collective Unique Selling Point. Clean Growth in the Tay Cities Region has a special focus on; Sustainable Mobility\, Green Agri-tech\, Clean Energy\, Circular Economy and Data and Digital Solutions. \nThere will be networking opportunities to meet and talk to project owners from the four focus areas as well as local authority representatives and likeminded attendees. You will also have the opportunity to meet the team at the D’Arcy Thompson Simulator Centre for an overview of their work and the methodologies applied to digitise clients requirements \nEden Campus Tours will be available and can be booked on the day\, you will have the opportunity to: \n\nAttend a general outside walking tour providing overall clean growth strategy of the Eden Campus and visit the 1MW Solar PV array.\nVisit and walk round our 6.5MW District Heating Network Centre which provide low carbon heat to University buildings\, then visit our 1MW Solar PV providing green power to the Campus.
URL:https://investinangus.com/event/tay-cities-clean-growth-website-launch/
CATEGORIES:Networking,Sustainable/Circular Economy
END:VEVENT
BEGIN:VEVENT
DTSTART;TZID=UTC:20230419T110000
DTEND;TZID=UTC:20230419T120000
DTSTAMP:20260421T094115
CREATED:20230306T151323Z
LAST-MODIFIED:20230306T151323Z
UID:10086739-1681902000-1681905600@investinangus.com
SUMMARY:Skilled worker route: How employers can sponsor international talent
DESCRIPTION:With most EU and non-EU citizens now subject to the UK immigration system\, we invite you to join us as we discuss how the Skilled Worker route can help you to access overseas talent. \nAs a Scottish based SME\, TalentScotland can support your business in a number of ways.
URL:https://investinangus.com/event/skilled-worker-route-how-employers-can-sponsor-international-talent-6/
CATEGORIES:HR,Recruitment
END:VEVENT
BEGIN:VEVENT
DTSTART;TZID=UTC:20230419T140000
DTEND;TZID=UTC:20230419T160000
DTSTAMP:20260421T094115
CREATED:20230313T110300Z
LAST-MODIFIED:20230313T110300Z
UID:10086789-1681912800-1681920000@investinangus.com
SUMMARY:The basics of trading on eBay\, Etsy and Amazon Marketplaces
DESCRIPTION:As a consumer\, you’ve almost certainly purchased online from one of the global marketplaces such as eBay\, Etsy or Amazon\, so why wouldn’t your customers do the same and buy from you? \nWe will cover:\n \n\nWhy to sell via a Marketplace\, your own website\, or both\nChoosing the right Marketplace – looking specificly at eBay\, Etsy and Amazon\n\nUnderstanding Profit Margins and how Marketplace fees affect them\n\nAn overview of some of the rules and regulations enforced by these platforms\nTrading internationally – what’s possible?\n\nYou’ll leave with a better understanding of how online marketplaces can help you reach your target audience\, which marketplace is best for you\, and how to get started selling quickly and easily.
URL:https://investinangus.com/event/the-basics-of-trading-on-ebay-etsy-and-amazon-marketplaces-10/
CATEGORIES:Digital Marketing
END:VEVENT
END:VCALENDAR