BEGIN:VCALENDAR
VERSION:2.0
PRODID:-//Invest in Angus - ECPv6.15.17.1//NONSGML v1.0//EN
CALSCALE:GREGORIAN
METHOD:PUBLISH
X-WR-CALNAME:Invest in Angus
X-ORIGINAL-URL:https://investinangus.com
X-WR-CALDESC:Events for Invest in Angus
REFRESH-INTERVAL;VALUE=DURATION:PT1H
X-Robots-Tag:noindex
X-PUBLISHED-TTL:PT1H
BEGIN:VTIMEZONE
TZID:UTC
BEGIN:STANDARD
TZOFFSETFROM:+0000
TZOFFSETTO:+0000
TZNAME:UTC
DTSTART:20220101T000000
END:STANDARD
END:VTIMEZONE
BEGIN:VEVENT
DTSTART;TZID=UTC:20230419T090000
DTEND;TZID=UTC:20230420T160000
DTSTAMP:20260421T094745
CREATED:20230109T102529Z
LAST-MODIFIED:20230109T102529Z
UID:10086173-1681894800-1682006400@investinangus.com
SUMMARY:VisitScotland Connect 2023
DESCRIPTION:VisitScotland Connect 2023 will be taking place at the P&J Live Aberdeen on April 19-20\, 2023. \nVisitScotland is focused on rebuilding international tourism demand and supporting the country’s ambitions to be a leading destination for responsible tourism. \nThe format for this event will be a new business-to-business travel trade workshop connecting Buyers from around the globe with Scottish tourism businesses\, helping to rebuild Scotland’s valuable tourism industry. \nSpeak to your VisitScotland contact if you are interested in joining this event or use the registration links on the website.
URL:https://investinangus.com/event/visitscotland-connect-2023/
LOCATION:P&J Live\, East Burn Road\, Aberdeen\, AB21 9FX\, United Kingdom
CATEGORIES:Networking,Tourism
END:VEVENT
BEGIN:VEVENT
DTSTART;TZID=UTC:20230420T100000
DTEND;TZID=UTC:20230420T110000
DTSTAMP:20260421T094745
CREATED:20230306T150752Z
LAST-MODIFIED:20230306T150752Z
UID:10086733-1681984800-1681988400@investinangus.com
SUMMARY:International Micro Agility in E-Commerce
DESCRIPTION:The ability of small businesses to navigate the ecommerce world faster than global corporations is increasingly important. Leveraging the power of automation\, outsourcing and tech to offer exceptional customer service and personalised marketing. This can play a key role in building loyal brand support\, fuelling rapid growth in a competitive space. \nThis webinar will focus on the use of modern communication tools (email\, chat\, SMS\, social) to deliver segmented and highly personalised marketing and customer service. These tools enable brands to engage with their customers on a more specific and personal level\, delivering value and driving repeat revenue.
URL:https://investinangus.com/event/international-micro-agility-in-e-commerce/
CATEGORIES:Digital Marketing
END:VEVENT
BEGIN:VEVENT
DTSTART;TZID=UTC:20230420T100000
DTEND;TZID=UTC:20230420T120000
DTSTAMP:20260421T094746
CREATED:20230313T110344Z
LAST-MODIFIED:20230313T110344Z
UID:10086791-1681984800-1681992000@investinangus.com
SUMMARY:Get impact & engagement with social media analytics
DESCRIPTION:Facebook\, Instagram\, Twitter\, LinkedIn & Pinterest are widely used social platforms\, but often account owners aren’t looking at the metrics provided within them. Those metrics will inform you of reach\, impressions\, demographics and more\, all of which can help towards improving the impact of your posting and targeting. \nThis webinar will help you understand how to access those metrics\, and how to use them to improve your social media delivery.
URL:https://investinangus.com/event/get-impact-engagement-with-social-media-analytics-23/
CATEGORIES:Digital Marketing
END:VEVENT
BEGIN:VEVENT
DTSTART;TZID=UTC:20230420T110000
DTEND;TZID=UTC:20230420T120000
DTSTAMP:20260421T094746
CREATED:20230306T151429Z
LAST-MODIFIED:20230306T151429Z
UID:10086741-1681988400-1681992000@investinangus.com
SUMMARY:An update on Right to Work checks
DESCRIPTION:Covid-19 right to work measures are ending on 30 September 2022. In this webinar\, TalentScotland will look at how employers in Scotland can continue to perform right to work checks after this date. \nThis webinar is presented by Brodies LLP\, TalentScotland’s immigration specialists\, and you’ll have the opportunity to have any questions you might have.
URL:https://investinangus.com/event/an-update-on-right-to-work-checks-5/
CATEGORIES:HR,Recruitment
END:VEVENT
BEGIN:VEVENT
DTSTART;TZID=UTC:20230420T140000
DTEND;TZID=UTC:20230420T160000
DTSTAMP:20260421T094746
CREATED:20230313T110432Z
LAST-MODIFIED:20230313T110432Z
UID:10086793-1681999200-1682006400@investinangus.com
SUMMARY:How to improve your Google search rankings - Part 1: On page optimisation
DESCRIPTION:Join us to look at how Google and other search engines decide the order in which they list their search results. We will show you how to maximise your chances of appearing towards the top of the search rankings\, ensuring you understand what key words and phrases your potential customers are using when searching online\, and how to optimise your website as a result. \nWe will cover: \n\nHow search engines work\, and the ‘on-page’ factors used to rank your site\nUnderstanding customer search behaviour\nKeyword research tools and how to benefit from them\nOptimising your website content for search engines
URL:https://investinangus.com/event/how-to-improve-your-google-search-rankings-part-1-on-page-optimisation-9/
CATEGORIES:Digital Marketing
END:VEVENT
BEGIN:VEVENT
DTSTART;TZID=UTC:20230420T153000
DTEND;TZID=UTC:20230420T163000
DTSTAMP:20260421T094746
CREATED:20230306T121201Z
LAST-MODIFIED:20230306T121201Z
UID:10086675-1682004600-1682008200@investinangus.com
SUMMARY:Fife Tourism Talks: Who are our visitors?
DESCRIPTION:The Fife Tourism Partnership is hosting a series of webinars on key current issues in the tourism industry. \nThese free webinars are a great way of hearing from industry experts\, case studies from local businesses and a chance to meet other likeminded businesses. All the sessions will be held on Thursday afternoons at 3.30pm\, via Teams. \nThis session we welcome Duncan from 56 Insight who are conducting research on who our current and potential visitors are.
URL:https://investinangus.com/event/fife-tourism-talks-who-are-our-visitors/
CATEGORIES:Tourism
END:VEVENT
BEGIN:VEVENT
DTSTART;TZID=UTC:20230420T180000
DTEND;TZID=UTC:20230420T200000
DTSTAMP:20260421T094746
CREATED:20230306T141614Z
LAST-MODIFIED:20230306T141614Z
UID:10086701-1682013600-1682020800@investinangus.com
SUMMARY:How to start a business: The basics
DESCRIPTION:Whatever your reasons may be for considering being your own boss\, Business Gateway is here to support you and help you decide if this is the right path for you. Helping you consider your plans from exploring your potential customers to looking at the key activities and costs involved. \nWe will cover: \n\nPersonal finance planning – how much do you need to earn?\nResearching your market – who your customers are\, understanding your competition and what the trends are within your chosen field\nBusiness structure – what are the core business structures? How to decide which is right for you and how to register as a business\nCreating your start-up action plan – an outline\nMarketing\nPricing\nNaming the business\nBasic bookkeeping\nForecasting\nFinancing\, banking\, insurance\, and VAT\nTax
URL:https://investinangus.com/event/how-to-start-a-business-the-basics-15/
CATEGORIES:Business Start-up
END:VEVENT
BEGIN:VEVENT
DTSTART;TZID=UTC:20230420T180000
DTEND;TZID=UTC:20230420T200000
DTSTAMP:20260421T094746
CREATED:20230306T141706Z
LAST-MODIFIED:20230306T141706Z
UID:10086703-1682013600-1682020800@investinangus.com
SUMMARY:A Guide to Completing your Self-Assessment Tax Return with EQ Chartered Accountants
DESCRIPTION:If you are newly self-employed and are required to submit a self-assessment return for the first time or want to better understand the basics of completing your Self-Assessment Tax Return then this workshop is for you. \nThe session will cover the key dates\, the basics about allowable expenses and record keeping\, as well as how income tax and National Insurance Contributions are calculated.
URL:https://investinangus.com/event/a-guide-to-completing-your-self-assessment-tax-return-with-eq-chartered-accountants/
CATEGORIES:Finance
END:VEVENT
END:VCALENDAR